From mboxrd@z Thu Jan 1 00:00:00 1970 Return-Path: Received: from mails.dpdk.org (mails.dpdk.org [217.70.189.124]) by inbox.dpdk.org (Postfix) with ESMTP id 5B40746763 for ; Fri, 16 May 2025 17:00:55 +0200 (CEST) Received: from mails.dpdk.org (localhost [127.0.0.1]) by mails.dpdk.org (Postfix) with ESMTP id 56732402F1; Fri, 16 May 2025 17:00:55 +0200 (CEST) Received: from mail-pg1-f227.google.com (mail-pg1-f227.google.com [209.85.215.227]) by mails.dpdk.org (Postfix) with ESMTP id 8C4E6402CD for ; Fri, 16 May 2025 17:00:53 +0200 (CEST) Received: by mail-pg1-f227.google.com with SMTP id 41be03b00d2f7-7fd581c2bf4so1842550a12.3 for ; Fri, 16 May 2025 08:00:53 -0700 (PDT) DKIM-Signature: v=1; a=rsa-sha256; c=relaxed/relaxed; d=iol.unh.edu; s=unh-iol; t=1747407652; x=1748012452; darn=dpdk.org; h=references:in-reply-to:cc:to:from:subject:message-id:date:from:to :cc:subject:date:message-id:reply-to; bh=9BFGbjcX1NPKe2DiD2VbBEzRKPZ+tZmMme0QRXnLh4c=; b=X7kiH/u758HKxx+XlbbtYKWWVj1E2kLB5QN8cMTvoQeRZhQFECmY/SXrX/LtPYYQP9 ThAGsGpX/k76ARx8+X3NaIVFt/f6LyB+Mxt0ePvHxTAcLSFDuVEi2MQiBktYaGOP2Whg FlwgWCO+t9aSavhiPK2UjNQfBaFNETAQ3w3tk= X-Google-DKIM-Signature: v=1; a=rsa-sha256; c=relaxed/relaxed; d=1e100.net; s=20230601; t=1747407652; x=1748012452; h=references:in-reply-to:cc:to:from:subject:message-id:date :x-gm-message-state:from:to:cc:subject:date:message-id:reply-to; bh=9BFGbjcX1NPKe2DiD2VbBEzRKPZ+tZmMme0QRXnLh4c=; b=pMFI6t0sqVc9yyePK6NMsPJvOPPr9yZfdcV5zsn0F1lzwIfakmHt2yAg008eHLMY0u GR4ES2bRRnBC0mM8kn0GFa8tHydXzIDBilgXbvRxpNEFJn1PtGhyYw5R4bTSoZDswJYC +bGl4CindqK6isN4kFm873MAlXPCIq6uPFu8Gk0nP3xz1tLggIwMndaVSSuNC+LESvRs Fibw9nfqjBmZQsNmSi/6Z0bC5qHJGHneXn0xzSD5gh3jpVYjjwJq33lPNsdYihl2JIUt UHAZV5uHDqPt2hICZk0Qqx86Yx1fSqqMm+YdOYaQejLteKmuKmAOdHxzJ02AvCn4Ahtv 4oTw== X-Gm-Message-State: AOJu0Yzvhssmjln8WaG7LaRSqoWZjwdP3lwZRM942SibKXd8tIQ9+mt/ 2kvZDjLS6w+QTlaqBReMZAI1r/4ouotLLvTbrYGLniMNI+pm0v0mnwr/PCKFXBkT6/w5tzu3tZa VkiVNO7yDIPK0EeaZCNgz5eDBLKfL0cGynAssF3EUqjKKzM+kYMF8CWFdGJh3 X-Gm-Gg: ASbGncsq2CHcodhe4wo7OKEvLpjXIk0Fba8a8RLu17XFq1t7CFB4O3n3rvYVytIl/nx 4NDPNPhfsCga0qk/Wyq8V3WkWAGBNuYCE0keIUxUsO+TjEfKS0KeoVBvF2VyJq8ce+tqiHrg/J3 VyLuZzS1RvVnaxMSj2aZscZGd6wxFZMLsTPSMXB7LAO7I85tb+OaNvFPGVYYuoCdNVBHiIksF/a 72h+Igwd3ov2oh0k6mNxz077Ce9sYo26YTtKd/eOQqgMvyuvBZs4YDDZ1V9/T/T8aTduNjqkVLY SVN2NqRHr0IhQ0TLqHybE2eogyFt/TtFtJ7f X-Google-Smtp-Source: AGHT+IGE2ieLX1HIeFz5spLmsd9/AFGtvqzh+jx1HpGig7VbDhDlb3EtVcC1+F2M/Now68KIh9O53c8iT8Dy X-Received: by 2002:a17:902:e54c:b0:220:faa2:c917 with SMTP id d9443c01a7336-231d45a9ca8mr55998835ad.34.1747407650591; Fri, 16 May 2025 08:00:50 -0700 (PDT) Received: from postal.iol.unh.edu (postal.iol.unh.edu. [2606:4100:3880:1234::84]) by smtp-relay.gmail.com with ESMTPS id d9443c01a7336-231d4eb9f94sm1170585ad.105.2025.05.16.08.00.50 (version=TLS1_2 cipher=ECDHE-ECDSA-AES128-GCM-SHA256 bits=128/128); Fri, 16 May 2025 08:00:50 -0700 (PDT) X-Relaying-Domain: iol.unh.edu Date: Fri, 16 May 2025 08:00:50 -0700 (PDT) Message-ID: <68275322.170a0220.1421d4.5f91SMTPIN_ADDED_MISSING@mx.google.com> Received: from [172.21.0.5] (unknown [172.18.0.240]) by postal.iol.unh.edu (Postfix) with ESMTP id 845786052471; Fri, 16 May 2025 11:00:49 -0400 (EDT) Subject: |SUCCESS| pw153476-153480 [PATCH] [v4,9/9] app/test: add zsda crypto From: dpdklab@iol.unh.edu To: Test Report Cc: dpdk-test-reports@iol.unh.edu In-Reply-To: <20250516072752.1971299-10-li.hanxiao@zte.com.cn> References: <20250516072752.1971299-10-li.hanxiao@zte.com.cn> Content-Type: text/plain X-BeenThere: test-report@dpdk.org X-Mailman-Version: 2.1.29 Precedence: list List-Id: automatic DPDK test reports List-Unsubscribe: , List-Archive: List-Post: List-Help: List-Subscribe: , Errors-To: test-report-bounces@dpdk.org Test-Label: iol-compile-amd64-testing Test-Status: SUCCESS http://dpdk.org/patch/153480 _Testing PASS_ Submitter: Hanxiao Li Date: Friday, May 16 2025 07:27:51 DPDK git baseline: Repo:dpdk Branch: master CommitID:dcf9f9363aa9b4163d241caf8b26a84ca0c0006b 153476-153480 --> testing pass Upstream job id: Generic-DPDK-Compile-Meson#388681 Test environment and result as below: +-----------------------------------+--------------------+-------------------+------------------+-------------------------+----------------------+ | Environment | dpdk_meson_compile | dpdk_compile_spdk | dpdk_compile_ovs | dpdk_llvm_clang_compile | dpdk_mingw64_compile | +===================================+====================+===================+==================+=========================+======================+ | CentOS Stream 9 | PASS | PASS | SKIPPED | SKIPPED | SKIPPED | +-----------------------------------+--------------------+-------------------+------------------+-------------------------+----------------------+ | Debian 12 | PASS | PASS | SKIPPED | SKIPPED | SKIPPED | +-----------------------------------+--------------------+-------------------+------------------+-------------------------+----------------------+ | CentOS Stream 10 | PASS | SKIPPED | SKIPPED | SKIPPED | SKIPPED | +-----------------------------------+--------------------+-------------------+------------------+-------------------------+----------------------+ | Fedora 40 (Clang) | PASS | PASS | SKIPPED | SKIPPED | SKIPPED | +-----------------------------------+--------------------+-------------------+------------------+-------------------------+----------------------+ | Fedora 41 | PASS | PASS | PASS | SKIPPED | SKIPPED | +-----------------------------------+--------------------+-------------------+------------------+-------------------------+----------------------+ | openSUSE Leap 15 | PASS | SKIPPED | SKIPPED | SKIPPED | SKIPPED | +-----------------------------------+--------------------+-------------------+------------------+-------------------------+----------------------+ | RHEL8 | PASS | SKIPPED | SKIPPED | SKIPPED | SKIPPED | +-----------------------------------+--------------------+-------------------+------------------+-------------------------+----------------------+ | Fedora 41 (Clang) | PASS | PASS | PASS | SKIPPED | SKIPPED | +-----------------------------------+--------------------+-------------------+------------------+-------------------------+----------------------+ | Fedora 40 | PASS | PASS | SKIPPED | SKIPPED | SKIPPED | +-----------------------------------+--------------------+-------------------+------------------+-------------------------+----------------------+ | Ubuntu 22.04 | PASS | PASS | SKIPPED | SKIPPED | SKIPPED | +-----------------------------------+--------------------+-------------------+------------------+-------------------------+----------------------+ | RHEL9 | PASS | SKIPPED | SKIPPED | SKIPPED | SKIPPED | +-----------------------------------+--------------------+-------------------+------------------+-------------------------+----------------------+ | Alpine | PASS | SKIPPED | SKIPPED | SKIPPED | SKIPPED | +-----------------------------------+--------------------+-------------------+------------------+-------------------------+----------------------+ | Ubuntu 20.04 | PASS | SKIPPED | SKIPPED | SKIPPED | SKIPPED | +-----------------------------------+--------------------+-------------------+------------------+-------------------------+----------------------+ | Ubuntu 24.04 | PASS | PASS | PASS | SKIPPED | SKIPPED | +-----------------------------------+--------------------+-------------------+------------------+-------------------------+----------------------+ | Ubuntu 24.04 32 Bit Cross Compile | PASS | SKIPPED | SKIPPED | SKIPPED | SKIPPED | +-----------------------------------+--------------------+-------------------+------------------+-------------------------+----------------------+ | FreeBSD 13.5 | PASS | SKIPPED | SKIPPED | SKIPPED | SKIPPED | +-----------------------------------+--------------------+-------------------+------------------+-------------------------+----------------------+ | FreeBSD 14.2 | PASS | SKIPPED | SKIPPED | SKIPPED | SKIPPED | +-----------------------------------+--------------------+-------------------+------------------+-------------------------+----------------------+ | Windows Server 2022 | SKIPPED | SKIPPED | SKIPPED | PASS | PASS | +-----------------------------------+--------------------+-------------------+------------------+-------------------------+----------------------+ CentOS Stream 9 Kernel: Depends on container host Compiler: gcc 11.5.0 20240719 (Red Hat 11.5.0-2) Debian 12 Kernel: Depends on container host Compiler: gcc (Debian 12.2.0-14) 12.2.0 CentOS Stream 10 Kernel: Depends on container host Compiler: gcc 14.2.1 20241104 (Red Hat 14.2.1-6) Fedora 40 (Clang) Kernel: Depends on container host Compiler: clang 18.1.8 (Fedora 18.1.8-1.fc40) Fedora 41 Kernel: Depends on container host Compiler: gcc 14.2.1 20240912 (Red Hat 14.2.1-3) openSUSE Leap 15 Kernel: Depends on container host Compiler: gcc (SUSE Linux) 7.5.0 RHEL8 Kernel: Depends on container host Compiler: gcc 8.5.0 20210514 (Red Hat 8.5.0-22) Fedora 41 (Clang) Kernel: Depends on container host Compiler: clang 19.1.5 (Fedora 19.1.5-1.fc41) Fedora 40 Kernel: Depends on container host Compiler: gcc 14.2.1 20240912 (Red Hat 14.2.1-3) Ubuntu 22.04 Kernel: Depends on container host Compiler: gcc (Ubuntu 11.4.0-1ubuntu1~22.04) 11.4.0 RHEL9 Kernel: Depends on container host Compiler: gcc 11.5.0 20240719 (Red Hat 11.5.0-2) Alpine Kernel: Depends on container host Compiler: gcc (Alpine 14.2.0) 14.2.0 Ubuntu 20.04 Kernel: Depends on container host Compiler: gcc (Ubuntu 9.4.0-1ubuntu1~20.04.2) 9.4.0 Ubuntu 24.04 Kernel: Depends on container host Compiler: gcc (Ubuntu 13.3.0-6ubuntu2~24.04) 13.3.0 Ubuntu 24.04 32 Bit Cross Compile Kernel: Depends on container host Compiler: gcc (Ubuntu 13.3.0-6ubuntu2~24.04) 13.3.0 FreeBSD 13.5 Kernel: 13.5-RELEASE Compiler: clang 19.1.7 FreeBSD 14.2 Kernel: 14.2-RELEASE Compiler: clang 18.1.6 Windows Server 2022 Kernel: 10.0.20348.2031 Compiler: clang 15.0.7, gcc 14.1.0 (MinGW), and MSVC VS 19.39.33521 To view detailed results, visit: https://lab.dpdk.org/results/dashboard/patchsets/33189/ UNH-IOL DPDK Community Lab To manage your email subscriptions, visit: https://lab.dpdk.org/results/dashboard/preferences/subscriptions/