From mboxrd@z Thu Jan 1 00:00:00 1970 Return-Path: Received: from mails.dpdk.org (mails.dpdk.org [217.70.189.124]) by inbox.dpdk.org (Postfix) with ESMTP id 6E73146763 for ; Fri, 16 May 2025 17:00:55 +0200 (CEST) Received: from mails.dpdk.org (localhost [127.0.0.1]) by mails.dpdk.org (Postfix) with ESMTP id 6013F40616; Fri, 16 May 2025 17:00:55 +0200 (CEST) Received: from mail-pl1-f226.google.com (mail-pl1-f226.google.com [209.85.214.226]) by mails.dpdk.org (Postfix) with ESMTP id D5AED402CD for ; Fri, 16 May 2025 17:00:53 +0200 (CEST) Received: by mail-pl1-f226.google.com with SMTP id d9443c01a7336-231e98e46c0so5296275ad.3 for ; Fri, 16 May 2025 08:00:53 -0700 (PDT) DKIM-Signature: v=1; a=rsa-sha256; c=relaxed/relaxed; d=iol.unh.edu; s=unh-iol; t=1747407653; x=1748012453; darn=dpdk.org; h=references:in-reply-to:cc:to:from:subject:message-id:date:from:to :cc:subject:date:message-id:reply-to; bh=04sMJ7oyNQ4Rm6Wg8Xdw6LSc+50WSEC7xGOxOILN5z8=; b=Jtv+7HPfEC0/8Y1QkGHGrR3YC3BXcIJFX7LY5KvSzKLrczJ3BXvaNQiNQUG6IUm6hh ZLubcXzrvy/IBAGxynVnL6XFuD4YFOn2IE/9otZtOUAYzV3pUmfri26qLW0hIV7frF6E 01e9BquYqPMJFbRW3vwpaOIUHX3EWqA0WM6ng= X-Google-DKIM-Signature: v=1; a=rsa-sha256; c=relaxed/relaxed; d=1e100.net; s=20230601; t=1747407653; x=1748012453; h=references:in-reply-to:cc:to:from:subject:message-id:date :x-gm-message-state:from:to:cc:subject:date:message-id:reply-to; bh=04sMJ7oyNQ4Rm6Wg8Xdw6LSc+50WSEC7xGOxOILN5z8=; b=a6IjRsR8BaT0Zo3ygglOysEm8zbQnfCSh6A0WxS4YpxcG9ciiIdfNypHD6qqtQoL1F u+LtCoaAvfDszjb5zxMzNOICQYvGAGiInCk55D22mg4LgOpwXN337XkKDZRjRncSUzKT Q1khB+fq8sQpLWdz/lj2Fj2SASQ7fS3nOF4Ysx8Swff9PWUK6xgplauqIrXhezw+MCoe eGh5VJuv40P2c9JNTfkZTPkKEBCX9Qw5BT3ll9B7ckUvF414rv+lYX2X7N6LlNlOMkNB EiagELrRILzHztB8TnrsuNRHR5OtB3lDamlScr3KqRTORRkS2DcfRiAOiFblB2qdA9gd yBpw== X-Gm-Message-State: AOJu0YyYUMQs3/x4/mgxGPEgEQkVCka2dZazs4PSvExo742Fn2st1I+k RimAGN1SCQmvRGeMHHJJHYWQWl9ZDrDcqxV3VBLxV6SExQmyIwGrhXVLs3jEC2yrI5+oWyX2M1m bbGkWv7MSCTv3s1fDK/HulKbmoRjqo2d+uYu10IpeqwLlasknTtZ93yBhXEmL X-Gm-Gg: ASbGncvTMvZcaWeMhVtT7eqRASTUBEnPu5ra3XYqLMxhEdBK64ZAh4C96Fi0H7ObV9G Rec/coFLiDDCBzsVPfWasr+O9sWvQ/6yAKoh/NBbzKKtIrtkl8WouOts0rmYKjUS7dbar/u4H9B 9PE5EAELeQDE9+gNU/U/hKuLcJzCUO018DjHvTBfvEf+Cpy0c9YfNaQ5A1aa+opA4sD8jMAx+gq B21RYZxOH1/d+Ap1XbnJG2v0YdnO6SUTudr/azclOHEiG1AqhKjKxrXA8ZcjI4zPwn/JmF7Uk5O nWAZOD4ljga31uaES6PD2mwN2TSMW/iIz79X X-Google-Smtp-Source: AGHT+IFeeFTXCZ3vU5qbi0CvBgC0vlGJWHx5UJdnihiXZ33Tk5JwStrKvg1lNHVMuC0sh7MhcdYH18fSdHg7 X-Received: by 2002:a17:902:ce8f:b0:224:1001:6787 with SMTP id d9443c01a7336-231d43d56e3mr50656065ad.4.1747407651248; Fri, 16 May 2025 08:00:51 -0700 (PDT) Received: from postal.iol.unh.edu (postal.iol.unh.edu. [2606:4100:3880:1234::84]) by smtp-relay.gmail.com with ESMTPS id d9443c01a7336-231d4aa6a5fsm1144165ad.21.2025.05.16.08.00.51 (version=TLS1_2 cipher=ECDHE-ECDSA-AES128-GCM-SHA256 bits=128/128); Fri, 16 May 2025 08:00:51 -0700 (PDT) X-Relaying-Domain: iol.unh.edu Date: Fri, 16 May 2025 08:00:51 -0700 (PDT) Message-ID: <68275323.170a0220.2fe0f1.640eSMTPIN_ADDED_MISSING@mx.google.com> Received: from [172.21.0.6] (unknown [172.18.0.240]) by postal.iol.unh.edu (Postfix) with ESMTP id 2454D6052472; Fri, 16 May 2025 11:00:50 -0400 (EDT) Subject: |SUCCESS| pw153476-153480 [PATCH] [v4,9/9] app/test: add zsda crypto From: dpdklab@iol.unh.edu To: Test Report Cc: dpdk-test-reports@iol.unh.edu In-Reply-To: <20250516072752.1971299-10-li.hanxiao@zte.com.cn> References: <20250516072752.1971299-10-li.hanxiao@zte.com.cn> Content-Type: text/plain X-BeenThere: test-report@dpdk.org X-Mailman-Version: 2.1.29 Precedence: list List-Id: automatic DPDK test reports List-Unsubscribe: , List-Archive: List-Post: List-Help: List-Subscribe: , Errors-To: test-report-bounces@dpdk.org Test-Label: iol-unit-amd64-testing Test-Status: SUCCESS http://dpdk.org/patch/153480 _Testing PASS_ Submitter: Hanxiao Li Date: Friday, May 16 2025 07:27:51 DPDK git baseline: Repo:dpdk Branch: master CommitID:dcf9f9363aa9b4163d241caf8b26a84ca0c0006b 153476-153480 --> testing pass Upstream job id: Generic-VM-Unit-Test-DPDK#28572 Test environment and result as below: +---------------------+----------------+ | Environment | dpdk_unit_test | +=====================+================+ | CentOS Stream 9 | PASS | +---------------------+----------------+ | CentOS Stream 10 | PASS | +---------------------+----------------+ | Fedora 40 (Clang) | PASS | +---------------------+----------------+ | Debian 12 | PASS | +---------------------+----------------+ | Fedora 41 (Clang) | PASS | +---------------------+----------------+ | Fedora 40 | PASS | +---------------------+----------------+ | Ubuntu 22.04 | PASS | +---------------------+----------------+ | Ubuntu 24.04 | PASS | +---------------------+----------------+ | RHEL8 | PASS | +---------------------+----------------+ | Ubuntu 20.04 | PASS | +---------------------+----------------+ | RHEL9 | PASS | +---------------------+----------------+ | Fedora 41 | PASS | +---------------------+----------------+ | Windows Server 2022 | PASS | +---------------------+----------------+ CentOS Stream 9 Kernel: Depends on container host Compiler: gcc 11.5.0 20240719 (Red Hat 11.5.0-2) CentOS Stream 10 Kernel: Depends on container host Compiler: gcc 14.2.1 20241104 (Red Hat 14.2.1-6) Fedora 40 (Clang) Kernel: Depends on container host Compiler: clang 18.1.8 (Fedora 18.1.8-1.fc40) Debian 12 Kernel: Depends on container host Compiler: gcc (Debian 12.2.0-14) 12.2.0 Fedora 41 (Clang) Kernel: Depends on container host Compiler: clang 19.1.5 (Fedora 19.1.5-1.fc41) Fedora 40 Kernel: Depends on container host Compiler: gcc 14.2.1 20240912 (Red Hat 14.2.1-3) Ubuntu 22.04 Kernel: Depends on container host Compiler: gcc (Ubuntu 11.4.0-1ubuntu1~22.04) 11.4.0 Ubuntu 24.04 Kernel: Depends on container host Compiler: gcc (Ubuntu 13.3.0-6ubuntu2~24.04) 13.3.0 RHEL8 Kernel: Depends on container host Compiler: gcc 8.5.0 20210514 (Red Hat 8.5.0-22) Ubuntu 20.04 Kernel: Depends on container host Compiler: gcc (Ubuntu 9.4.0-1ubuntu1~20.04.2) 9.4.0 RHEL9 Kernel: Depends on container host Compiler: gcc 11.5.0 20240719 (Red Hat 11.5.0-2) Fedora 41 Kernel: Depends on container host Compiler: gcc 14.2.1 20240912 (Red Hat 14.2.1-3) Windows Server 2022 Kernel: 10.0.20348.2031 Compiler: clang 15.0.7, gcc 14.1.0 (MinGW), and MSVC VS 19.39.33521 To view detailed results, visit: https://lab.dpdk.org/results/dashboard/patchsets/33189/ UNH-IOL DPDK Community Lab To manage your email subscriptions, visit: https://lab.dpdk.org/results/dashboard/preferences/subscriptions/