From: dpdklab@iol.unh.edu
To: Test Report <test-report@dpdk.org>
Cc: dpdk-test-reports@iol.unh.edu
Subject: |SUCCESS| pw153476-153480 [PATCH] [v4,9/9] app/test: add zsda crypto
Date: Fri, 16 May 2025 08:01:31 -0700 (PDT) [thread overview]
Message-ID: <6827534b.170a0220.167e81.62e5SMTPIN_ADDED_MISSING@mx.google.com> (raw)
In-Reply-To: <20250516072752.1971299-10-li.hanxiao@zte.com.cn>
Test-Label: iol-compile-amd64-testing
Test-Status: SUCCESS
http://dpdk.org/patch/153480
_Testing PASS_
Submitter: Hanxiao Li <li.hanxiao@zte.com.cn>
Date: Friday, May 16 2025 07:27:51
DPDK git baseline: Repo:dpdk
Branch: master
CommitID:dcf9f9363aa9b4163d241caf8b26a84ca0c0006b
153476-153480 --> testing pass
Upstream job id: Generic-DPDK-Compile-Meson#388684
Test environment and result as below:
+-----------------------------------+--------------------+-------------------+------------------+-------------------------+----------------------+
| Environment | dpdk_meson_compile | dpdk_compile_spdk | dpdk_compile_ovs | dpdk_llvm_clang_compile | dpdk_mingw64_compile |
+===================================+====================+===================+==================+=========================+======================+
| CentOS Stream 9 | PASS | PASS | SKIPPED | SKIPPED | SKIPPED |
+-----------------------------------+--------------------+-------------------+------------------+-------------------------+----------------------+
| Debian 12 | PASS | PASS | SKIPPED | SKIPPED | SKIPPED |
+-----------------------------------+--------------------+-------------------+------------------+-------------------------+----------------------+
| CentOS Stream 10 | PASS | SKIPPED | SKIPPED | SKIPPED | SKIPPED |
+-----------------------------------+--------------------+-------------------+------------------+-------------------------+----------------------+
| Fedora 40 (Clang) | PASS | PASS | SKIPPED | SKIPPED | SKIPPED |
+-----------------------------------+--------------------+-------------------+------------------+-------------------------+----------------------+
| Fedora 41 | PASS | PASS | PASS | SKIPPED | SKIPPED |
+-----------------------------------+--------------------+-------------------+------------------+-------------------------+----------------------+
| openSUSE Leap 15 | PASS | SKIPPED | SKIPPED | SKIPPED | SKIPPED |
+-----------------------------------+--------------------+-------------------+------------------+-------------------------+----------------------+
| RHEL8 | PASS | SKIPPED | SKIPPED | SKIPPED | SKIPPED |
+-----------------------------------+--------------------+-------------------+------------------+-------------------------+----------------------+
| Fedora 41 (Clang) | PASS | PASS | PASS | SKIPPED | SKIPPED |
+-----------------------------------+--------------------+-------------------+------------------+-------------------------+----------------------+
| Fedora 40 | PASS | PASS | SKIPPED | SKIPPED | SKIPPED |
+-----------------------------------+--------------------+-------------------+------------------+-------------------------+----------------------+
| Ubuntu 22.04 | PASS | PASS | SKIPPED | SKIPPED | SKIPPED |
+-----------------------------------+--------------------+-------------------+------------------+-------------------------+----------------------+
| RHEL9 | PASS | SKIPPED | SKIPPED | SKIPPED | SKIPPED |
+-----------------------------------+--------------------+-------------------+------------------+-------------------------+----------------------+
| Alpine | PASS | SKIPPED | SKIPPED | SKIPPED | SKIPPED |
+-----------------------------------+--------------------+-------------------+------------------+-------------------------+----------------------+
| Ubuntu 20.04 | PASS | SKIPPED | SKIPPED | SKIPPED | SKIPPED |
+-----------------------------------+--------------------+-------------------+------------------+-------------------------+----------------------+
| Ubuntu 24.04 | PASS | PASS | PASS | SKIPPED | SKIPPED |
+-----------------------------------+--------------------+-------------------+------------------+-------------------------+----------------------+
| Ubuntu 24.04 32 Bit Cross Compile | PASS | SKIPPED | SKIPPED | SKIPPED | SKIPPED |
+-----------------------------------+--------------------+-------------------+------------------+-------------------------+----------------------+
| FreeBSD 13.5 | PASS | SKIPPED | SKIPPED | SKIPPED | SKIPPED |
+-----------------------------------+--------------------+-------------------+------------------+-------------------------+----------------------+
| FreeBSD 14.2 | PASS | SKIPPED | SKIPPED | SKIPPED | SKIPPED |
+-----------------------------------+--------------------+-------------------+------------------+-------------------------+----------------------+
| Windows Server 2022 | SKIPPED | SKIPPED | SKIPPED | PASS | PASS |
+-----------------------------------+--------------------+-------------------+------------------+-------------------------+----------------------+
CentOS Stream 9
Kernel: Depends on container host
Compiler: gcc 11.5.0 20240719 (Red Hat 11.5.0-2)
Debian 12
Kernel: Depends on container host
Compiler: gcc (Debian 12.2.0-14) 12.2.0
CentOS Stream 10
Kernel: Depends on container host
Compiler: gcc 14.2.1 20241104 (Red Hat 14.2.1-6)
Fedora 40 (Clang)
Kernel: Depends on container host
Compiler: clang 18.1.8 (Fedora 18.1.8-1.fc40)
Fedora 41
Kernel: Depends on container host
Compiler: gcc 14.2.1 20240912 (Red Hat 14.2.1-3)
openSUSE Leap 15
Kernel: Depends on container host
Compiler: gcc (SUSE Linux) 7.5.0
RHEL8
Kernel: Depends on container host
Compiler: gcc 8.5.0 20210514 (Red Hat 8.5.0-22)
Fedora 41 (Clang)
Kernel: Depends on container host
Compiler: clang 19.1.5 (Fedora 19.1.5-1.fc41)
Fedora 40
Kernel: Depends on container host
Compiler: gcc 14.2.1 20240912 (Red Hat 14.2.1-3)
Ubuntu 22.04
Kernel: Depends on container host
Compiler: gcc (Ubuntu 11.4.0-1ubuntu1~22.04) 11.4.0
RHEL9
Kernel: Depends on container host
Compiler: gcc 11.5.0 20240719 (Red Hat 11.5.0-2)
Alpine
Kernel: Depends on container host
Compiler: gcc (Alpine 14.2.0) 14.2.0
Ubuntu 20.04
Kernel: Depends on container host
Compiler: gcc (Ubuntu 9.4.0-1ubuntu1~20.04.2) 9.4.0
Ubuntu 24.04
Kernel: Depends on container host
Compiler: gcc (Ubuntu 13.3.0-6ubuntu2~24.04) 13.3.0
Ubuntu 24.04 32 Bit Cross Compile
Kernel: Depends on container host
Compiler: gcc (Ubuntu 13.3.0-6ubuntu2~24.04) 13.3.0
FreeBSD 13.5
Kernel: 13.5-RELEASE
Compiler: clang 19.1.7
FreeBSD 14.2
Kernel: 14.2-RELEASE
Compiler: clang 18.1.6
Windows Server 2022
Kernel: 10.0.20348.2031
Compiler: clang 15.0.7, gcc 14.1.0 (MinGW), and MSVC VS 19.39.33521
To view detailed results, visit:
https://lab.dpdk.org/results/dashboard/patchsets/33189/
UNH-IOL DPDK Community Lab
To manage your email subscriptions, visit:
https://lab.dpdk.org/results/dashboard/preferences/subscriptions/
next prev parent reply other threads:[~2025-05-16 15:01 UTC|newest]
Thread overview: 25+ messages / expand[flat|nested] mbox.gz Atom feed top
[not found] <20250516072752.1971299-10-li.hanxiao@zte.com.cn>
2025-05-16 6:59 ` |SUCCESS| pw153476-153480 [PATCH v4 9/9] app/test: add zsda cryptodev test qemudev
2025-05-16 7:03 ` qemudev
2025-05-16 7:33 ` |SUCCESS| pw153480 " checkpatch
2025-05-16 8:43 ` 0-day Robot
2025-05-16 11:06 ` |SUCCESS| pw153476-153480 [PATCH] [v4,9/9] app/test: add zsda crypto dpdklab
2025-05-16 11:18 ` dpdklab
2025-05-16 11:18 ` dpdklab
2025-05-16 11:21 ` dpdklab
2025-05-16 11:29 ` dpdklab
2025-05-16 11:34 ` dpdklab
2025-05-16 11:45 ` dpdklab
2025-05-16 11:56 ` dpdklab
2025-05-16 12:01 ` dpdklab
2025-05-16 12:25 ` |PENDING| " dpdklab
2025-05-16 12:56 ` dpdklab
2025-05-16 13:34 ` dpdklab
2025-05-16 13:37 ` |SUCCESS| " dpdklab
2025-05-16 14:03 ` dpdklab
2025-05-16 14:25 ` dpdklab
2025-05-16 14:59 ` dpdklab
2025-05-16 15:00 ` dpdklab
2025-05-16 15:00 ` dpdklab
2025-05-16 15:01 ` dpdklab [this message]
2025-05-16 16:23 ` dpdklab
2025-05-16 21:58 ` dpdklab
Reply instructions:
You may reply publicly to this message via plain-text email
using any one of the following methods:
* Save the following mbox file, import it into your mail client,
and reply-to-all from there: mbox
Avoid top-posting and favor interleaved quoting:
https://en.wikipedia.org/wiki/Posting_style#Interleaved_style
* Reply using the --to, --cc, and --in-reply-to
switches of git-send-email(1):
git send-email \
--in-reply-to=6827534b.170a0220.167e81.62e5SMTPIN_ADDED_MISSING@mx.google.com \
--to=dpdklab@iol.unh.edu \
--cc=dpdk-test-reports@iol.unh.edu \
--cc=test-report@dpdk.org \
/path/to/YOUR_REPLY
https://kernel.org/pub/software/scm/git/docs/git-send-email.html
* If your mail client supports setting the In-Reply-To header
via mailto: links, try the mailto: link
Be sure your reply has a Subject: header at the top and a blank line
before the message body.
This is a public inbox, see mirroring instructions
for how to clone and mirror all data and code used for this inbox;
as well as URLs for NNTP newsgroup(s).