From mboxrd@z Thu Jan 1 00:00:00 1970 Return-Path: Received: from mails.dpdk.org (mails.dpdk.org [217.70.189.124]) by inbox.dpdk.org (Postfix) with ESMTP id 797AA46763 for ; Fri, 16 May 2025 17:01:34 +0200 (CEST) Received: from mails.dpdk.org (localhost [127.0.0.1]) by mails.dpdk.org (Postfix) with ESMTP id 76267402F1; Fri, 16 May 2025 17:01:34 +0200 (CEST) Received: from mail-pg1-f225.google.com (mail-pg1-f225.google.com [209.85.215.225]) by mails.dpdk.org (Postfix) with ESMTP id 99DCF402CD for ; Fri, 16 May 2025 17:01:32 +0200 (CEST) Received: by mail-pg1-f225.google.com with SMTP id 41be03b00d2f7-b26f5cd984cso419966a12.3 for ; Fri, 16 May 2025 08:01:32 -0700 (PDT) DKIM-Signature: v=1; a=rsa-sha256; c=relaxed/relaxed; d=iol.unh.edu; s=unh-iol; t=1747407692; x=1748012492; darn=dpdk.org; h=references:in-reply-to:cc:to:from:subject:message-id:date:from:to :cc:subject:date:message-id:reply-to; bh=5i48cbkF8Oezal1GMPbq0BY4PCKkIc4swueP7UirTGc=; b=GIFqcpKkr+YyZW6CUE+EzkcedOCCI4HOwkUrvTogQ1QjoX434Xnfo1z0M69Dtzholm PRvgp2Xa1vVAhiCARCv/yR/f2x7dizPNrrugTyv3a6EgUkonjSh1RM8ANT+B4KI384RD kKKQjw5uWtv0c+cxZo+fARdLPaMDEheaqusGc= X-Google-DKIM-Signature: v=1; a=rsa-sha256; c=relaxed/relaxed; d=1e100.net; s=20230601; t=1747407692; x=1748012492; h=references:in-reply-to:cc:to:from:subject:message-id:date :x-gm-message-state:from:to:cc:subject:date:message-id:reply-to; bh=5i48cbkF8Oezal1GMPbq0BY4PCKkIc4swueP7UirTGc=; b=dXZEE2eZtfhsNc8ffEcEaxOpx3cAwkNET9ELkysX9PJ9+ShcxnVohVc20X0Jdd4hZx +4I385sBbbLQi5XZZbAMTVl0T8gkKOrHRgqFx6x3ods3BEN2k34lKZo4P1ZgfzH6e8TQ ahldAiV++/gmdGK5xIWoLrqlYku3JWjMrwaQhZOdiBWa5jQC+RVtKy7jlrtuuwVTnrJY b1kAdag6OHz/xHg1KY46q2tFos5bqtzB+yDFrrQZUKBW0CDqfIpORkF/Tm9cLM46G82f rcXuHExSL/dg+rGfeOcxzujB/DCrHQO8ZT8ftlPHFUjqgW/2O7P5igE7RME5BDWGMP49 cJPQ== X-Gm-Message-State: AOJu0YxEsxMBTi9+akHooAZg0cZuCwtOBpmbmi9r67hkUDSIR1Sogzi8 fMdLdkcuT4SSu0+yyzohQ4JIFGaIuKhs286O1OJzP/ySi2GK3iFonMwI0CWlDED/jQIuz+wHNLg 3dts5WXtrR8yEsPv63E4nLGpF5M4//zR6IEnzqYID1PadHH5AmuuRnhNy2KSi X-Gm-Gg: ASbGnctrxDtUawHDX4aFezUDzyHd8z/ZrZlCsONYAeKx3KON9JVoEV3rhYAUOeNdCMe IaHceA9K7zawq698O3pzjFkR9ZqKjUBpib9319PejS+iNviws/i39D2wtFsuUZlRvSb4LLukacT Wf1PjRHaeij5PPMDrneyzsihhbym2mPW+ePkJpv+TGn8IvaQcqvOKUMM5J/ePg8emzd+Xz4Lndn 0bZNuldpPcWaEVIvwWbImj8r8vtcshuxjd3RvdU/F8C9Vihhnx4Jn/c/PkUWPtG8bUmupIH074m 7TRPo7xUcvIcfszpu68VFpvIweJc0lhfuZSX X-Google-Smtp-Source: AGHT+IEe3LlK6ZXfii5RWBvK3tJp0ISAfLWIMJZe5MXQ+CujjxUuA5PJ2if8rrON2zrjmOtSp7UYjtlHRYSu X-Received: by 2002:a17:902:e803:b0:22e:50f6:b95b with SMTP id d9443c01a7336-231d438b517mr53132075ad.11.1747407691736; Fri, 16 May 2025 08:01:31 -0700 (PDT) Received: from postal.iol.unh.edu (postal.iol.unh.edu. [2606:4100:3880:1234::84]) by smtp-relay.gmail.com with ESMTPS id d9443c01a7336-231d4b01c04sm1085965ad.67.2025.05.16.08.01.31 (version=TLS1_2 cipher=ECDHE-ECDSA-AES128-GCM-SHA256 bits=128/128); Fri, 16 May 2025 08:01:31 -0700 (PDT) X-Relaying-Domain: iol.unh.edu Date: Fri, 16 May 2025 08:01:31 -0700 (PDT) Message-ID: <6827534b.170a0220.167e81.62e5SMTPIN_ADDED_MISSING@mx.google.com> Received: from [172.21.0.5] (unknown [172.18.0.240]) by postal.iol.unh.edu (Postfix) with ESMTP id 997576052471; Fri, 16 May 2025 11:01:30 -0400 (EDT) Subject: |SUCCESS| pw153476-153480 [PATCH] [v4,9/9] app/test: add zsda crypto From: dpdklab@iol.unh.edu To: Test Report Cc: dpdk-test-reports@iol.unh.edu In-Reply-To: <20250516072752.1971299-10-li.hanxiao@zte.com.cn> References: <20250516072752.1971299-10-li.hanxiao@zte.com.cn> Content-Type: text/plain X-BeenThere: test-report@dpdk.org X-Mailman-Version: 2.1.29 Precedence: list List-Id: automatic DPDK test reports List-Unsubscribe: , List-Archive: List-Post: List-Help: List-Subscribe: , Errors-To: test-report-bounces@dpdk.org Test-Label: iol-compile-amd64-testing Test-Status: SUCCESS http://dpdk.org/patch/153480 _Testing PASS_ Submitter: Hanxiao Li Date: Friday, May 16 2025 07:27:51 DPDK git baseline: Repo:dpdk Branch: master CommitID:dcf9f9363aa9b4163d241caf8b26a84ca0c0006b 153476-153480 --> testing pass Upstream job id: Generic-DPDK-Compile-Meson#388684 Test environment and result as below: +-----------------------------------+--------------------+-------------------+------------------+-------------------------+----------------------+ | Environment | dpdk_meson_compile | dpdk_compile_spdk | dpdk_compile_ovs | dpdk_llvm_clang_compile | dpdk_mingw64_compile | +===================================+====================+===================+==================+=========================+======================+ | CentOS Stream 9 | PASS | PASS | SKIPPED | SKIPPED | SKIPPED | +-----------------------------------+--------------------+-------------------+------------------+-------------------------+----------------------+ | Debian 12 | PASS | PASS | SKIPPED | SKIPPED | SKIPPED | +-----------------------------------+--------------------+-------------------+------------------+-------------------------+----------------------+ | CentOS Stream 10 | PASS | SKIPPED | SKIPPED | SKIPPED | SKIPPED | +-----------------------------------+--------------------+-------------------+------------------+-------------------------+----------------------+ | Fedora 40 (Clang) | PASS | PASS | SKIPPED | SKIPPED | SKIPPED | +-----------------------------------+--------------------+-------------------+------------------+-------------------------+----------------------+ | Fedora 41 | PASS | PASS | PASS | SKIPPED | SKIPPED | +-----------------------------------+--------------------+-------------------+------------------+-------------------------+----------------------+ | openSUSE Leap 15 | PASS | SKIPPED | SKIPPED | SKIPPED | SKIPPED | +-----------------------------------+--------------------+-------------------+------------------+-------------------------+----------------------+ | RHEL8 | PASS | SKIPPED | SKIPPED | SKIPPED | SKIPPED | +-----------------------------------+--------------------+-------------------+------------------+-------------------------+----------------------+ | Fedora 41 (Clang) | PASS | PASS | PASS | SKIPPED | SKIPPED | +-----------------------------------+--------------------+-------------------+------------------+-------------------------+----------------------+ | Fedora 40 | PASS | PASS | SKIPPED | SKIPPED | SKIPPED | +-----------------------------------+--------------------+-------------------+------------------+-------------------------+----------------------+ | Ubuntu 22.04 | PASS | PASS | SKIPPED | SKIPPED | SKIPPED | +-----------------------------------+--------------------+-------------------+------------------+-------------------------+----------------------+ | RHEL9 | PASS | SKIPPED | SKIPPED | SKIPPED | SKIPPED | +-----------------------------------+--------------------+-------------------+------------------+-------------------------+----------------------+ | Alpine | PASS | SKIPPED | SKIPPED | SKIPPED | SKIPPED | +-----------------------------------+--------------------+-------------------+------------------+-------------------------+----------------------+ | Ubuntu 20.04 | PASS | SKIPPED | SKIPPED | SKIPPED | SKIPPED | +-----------------------------------+--------------------+-------------------+------------------+-------------------------+----------------------+ | Ubuntu 24.04 | PASS | PASS | PASS | SKIPPED | SKIPPED | +-----------------------------------+--------------------+-------------------+------------------+-------------------------+----------------------+ | Ubuntu 24.04 32 Bit Cross Compile | PASS | SKIPPED | SKIPPED | SKIPPED | SKIPPED | +-----------------------------------+--------------------+-------------------+------------------+-------------------------+----------------------+ | FreeBSD 13.5 | PASS | SKIPPED | SKIPPED | SKIPPED | SKIPPED | +-----------------------------------+--------------------+-------------------+------------------+-------------------------+----------------------+ | FreeBSD 14.2 | PASS | SKIPPED | SKIPPED | SKIPPED | SKIPPED | +-----------------------------------+--------------------+-------------------+------------------+-------------------------+----------------------+ | Windows Server 2022 | SKIPPED | SKIPPED | SKIPPED | PASS | PASS | +-----------------------------------+--------------------+-------------------+------------------+-------------------------+----------------------+ CentOS Stream 9 Kernel: Depends on container host Compiler: gcc 11.5.0 20240719 (Red Hat 11.5.0-2) Debian 12 Kernel: Depends on container host Compiler: gcc (Debian 12.2.0-14) 12.2.0 CentOS Stream 10 Kernel: Depends on container host Compiler: gcc 14.2.1 20241104 (Red Hat 14.2.1-6) Fedora 40 (Clang) Kernel: Depends on container host Compiler: clang 18.1.8 (Fedora 18.1.8-1.fc40) Fedora 41 Kernel: Depends on container host Compiler: gcc 14.2.1 20240912 (Red Hat 14.2.1-3) openSUSE Leap 15 Kernel: Depends on container host Compiler: gcc (SUSE Linux) 7.5.0 RHEL8 Kernel: Depends on container host Compiler: gcc 8.5.0 20210514 (Red Hat 8.5.0-22) Fedora 41 (Clang) Kernel: Depends on container host Compiler: clang 19.1.5 (Fedora 19.1.5-1.fc41) Fedora 40 Kernel: Depends on container host Compiler: gcc 14.2.1 20240912 (Red Hat 14.2.1-3) Ubuntu 22.04 Kernel: Depends on container host Compiler: gcc (Ubuntu 11.4.0-1ubuntu1~22.04) 11.4.0 RHEL9 Kernel: Depends on container host Compiler: gcc 11.5.0 20240719 (Red Hat 11.5.0-2) Alpine Kernel: Depends on container host Compiler: gcc (Alpine 14.2.0) 14.2.0 Ubuntu 20.04 Kernel: Depends on container host Compiler: gcc (Ubuntu 9.4.0-1ubuntu1~20.04.2) 9.4.0 Ubuntu 24.04 Kernel: Depends on container host Compiler: gcc (Ubuntu 13.3.0-6ubuntu2~24.04) 13.3.0 Ubuntu 24.04 32 Bit Cross Compile Kernel: Depends on container host Compiler: gcc (Ubuntu 13.3.0-6ubuntu2~24.04) 13.3.0 FreeBSD 13.5 Kernel: 13.5-RELEASE Compiler: clang 19.1.7 FreeBSD 14.2 Kernel: 14.2-RELEASE Compiler: clang 18.1.6 Windows Server 2022 Kernel: 10.0.20348.2031 Compiler: clang 15.0.7, gcc 14.1.0 (MinGW), and MSVC VS 19.39.33521 To view detailed results, visit: https://lab.dpdk.org/results/dashboard/patchsets/33189/ UNH-IOL DPDK Community Lab To manage your email subscriptions, visit: https://lab.dpdk.org/results/dashboard/preferences/subscriptions/