From mboxrd@z Thu Jan 1 00:00:00 1970 Return-Path: Received: from mails.dpdk.org (mails.dpdk.org [217.70.189.124]) by inbox.dpdk.org (Postfix) with ESMTP id 6148946763 for ; Fri, 16 May 2025 17:09:42 +0200 (CEST) Received: from mails.dpdk.org (localhost [127.0.0.1]) by mails.dpdk.org (Postfix) with ESMTP id 41884402F1; Fri, 16 May 2025 17:09:42 +0200 (CEST) Received: from mail-vk1-f227.google.com (mail-vk1-f227.google.com [209.85.221.227]) by mails.dpdk.org (Postfix) with ESMTP id A09F6402CD for ; Fri, 16 May 2025 17:09:41 +0200 (CEST) Received: by mail-vk1-f227.google.com with SMTP id 71dfb90a1353d-5259327a93bso717928e0c.2 for ; Fri, 16 May 2025 08:09:41 -0700 (PDT) DKIM-Signature: v=1; a=rsa-sha256; c=relaxed/relaxed; d=iol.unh.edu; s=unh-iol; t=1747408181; x=1748012981; darn=dpdk.org; h=cc:to:from:subject:message-id:date:from:to:cc:subject:date :message-id:reply-to; bh=2jl+McEH/DLgrHusBHKLM7Qj0IICYmjWfXdNTX+k62k=; b=Rdnlntv3Hwc/q46an0QPOxWokQ9ekXnerhRR2LAJQej9UonfHtUAgMQqM98EvhkF7H Fvn8usNam7Cvz4fh3nEGQxCq0GHz9gFj1MD5wm6S+2FpGu1+hoWvHpPwzC1StQ/LGEqz J5kAPORx6BdF9tdbicn1GwlS7j6xvw6JLfqUA= X-Google-DKIM-Signature: v=1; a=rsa-sha256; c=relaxed/relaxed; d=1e100.net; s=20230601; t=1747408181; x=1748012981; h=cc:to:from:subject:message-id:date:x-gm-message-state:from:to:cc :subject:date:message-id:reply-to; bh=2jl+McEH/DLgrHusBHKLM7Qj0IICYmjWfXdNTX+k62k=; b=PdgieoguXT/cPd5HMpXOptEdFv1r7TE5ApafZn4aXAz4VxZMK50HhaFrmHY9aL8wEZ q82fFPqlSgjPb3uueIrllH+KdZhJrcnfQN1e0tkj9HTmxXsAv2IJnpIWIJwklD4NUUQ3 tDBaTEwUvDvY/cXvOCg0DFOdDK/I1nLOWynIZt2o6ZkkxJEv+jblzjsk7oJSyJN2ubSj GIw7yehR5i7Z8UkJtgvu2rF0ldzIHpOE6uMTw+5NSSkqfCrOeddJk9M22rgotW1qvFgB +fTzMtemwaJEDbJtbl9rqwNPYuzavNA1ibJe/NXikqw+exZ7CPChH2XbM9tgMdHwNR9a S22Q== X-Gm-Message-State: AOJu0Yy3BQvujwYPBq4REm/JE6h3RGzHuDqcMZ6DutpSVpzmLlJyZrLj 3QzwJI3iriR1dqa1JEhsGyMVJSmD7fWTS58EZCLYQtcH2uQISVYmTriePqht2kLEiFL1RgK2jOF 7ja4k2UKkdUXGTbP/RGd1d4IBRdWVU9L8fIej4d3KA1XeFiaC8xQy X-Gm-Gg: ASbGncsSC/GJSUGZVR0y8pzgALePrzAhQ8As75TTv8gAKvrtUwXXS3+nH9DwfNrn2NU ucQEh8U7mJzlUAaVb+BK+xxFAV0mKEbC16C5inOoW0yOSvWBLI7RYCoIuMJZq8R/cnlbj/F0Jtr bGoBQg+Id5NwRvi152hwUM/AjGIJO+Y/fbK4FRzACgQRPEBkY2MWKoUMDYYGVWcaEI1qAX+l6yp o9VYbwjKdNmNss/uA2QsusGB+jsjdQT/6m88EKK1z3IxWHiCV/vvRknMEgO7PWrtRIK4aeeLdDs VUWTrC6iDDQRJ6rypRCzTQHNlbMScxOo0Uqk X-Google-Smtp-Source: AGHT+IHAYj9CQxwZOUMSWvmFItgjxIXwOosUx9VBUYsRPqPGs7IACMV5LOizVpsQgnq/xfAJUuoZ1hve+tNC X-Received: by 2002:a05:6122:da8:b0:52d:b855:e0b5 with SMTP id 71dfb90a1353d-52dba83a776mr4725305e0c.3.1747408180772; Fri, 16 May 2025 08:09:40 -0700 (PDT) Received: from postal.iol.unh.edu (postal.iol.unh.edu. [2606:4100:3880:1234::84]) by smtp-relay.gmail.com with ESMTPS id 71dfb90a1353d-52dbaa472b8sm135826e0c.12.2025.05.16.08.09.40 (version=TLS1_2 cipher=ECDHE-ECDSA-AES128-GCM-SHA256 bits=128/128); Fri, 16 May 2025 08:09:40 -0700 (PDT) X-Relaying-Domain: iol.unh.edu Date: Fri, 16 May 2025 08:09:40 -0700 (PDT) Message-ID: <68275534.050a0220.11117b.6c6bSMTPIN_ADDED_MISSING@mx.google.com> Received: from [172.21.0.8] (unknown [172.18.0.240]) by postal.iol.unh.edu (Postfix) with ESMTP id 6EEFC6052471; Fri, 16 May 2025 11:09:40 -0400 (EDT) Subject: |SUCCESS| [GIT MASTER] 4c5634de9f933555bab9c64a533d3dca999071cd From: dpdklab@iol.unh.edu To: Test Report Cc: dpdk-test-reports@iol.unh.edu, Xueming Li , Christian Ehrhardt , Kevin Traynor , Luca Boccassi Content-Type: text/plain X-BeenThere: test-report@dpdk.org X-Mailman-Version: 2.1.29 Precedence: list List-Id: automatic DPDK test reports List-Unsubscribe: , List-Archive: List-Post: List-Help: List-Subscribe: , Errors-To: test-report-bounces@dpdk.org _Testing PASS_ Branch: tags/v24.11 4c5634de9f933555bab9c64a533d3dca999071cd --> testing pass Upstream job id: Generic-DPDK-Compile-ABI#126677 Test environment and result as below: +-------------------+----------+ | Environment | abi_test | +===================+==========+ | CentOS Stream 10 | PASS | +-------------------+----------+ | Fedora 40 (Clang) | PASS | +-------------------+----------+ | CentOS Stream 9 | PASS | +-------------------+----------+ | Debian 12 | PASS | +-------------------+----------+ | Fedora 40 | PASS | +-------------------+----------+ | RHEL8 | PASS | +-------------------+----------+ | Ubuntu 24.04 | PASS | +-------------------+----------+ | Fedora 41 (Clang) | PASS | +-------------------+----------+ | Fedora 41 | PASS | +-------------------+----------+ | RHEL9 | PASS | +-------------------+----------+ | openSUSE Leap 15 | PASS | +-------------------+----------+ | Ubuntu 22.04 | PASS | +-------------------+----------+ CentOS Stream 10 Kernel: Depends on container host Compiler: gcc 14.2.1 20241104 (Red Hat 14.2.1-6) Fedora 40 (Clang) Kernel: Depends on container host Compiler: clang 18.1.8 (Fedora 18.1.8-1.fc40) CentOS Stream 9 Kernel: Depends on container host Compiler: gcc 11.5.0 20240719 (Red Hat 11.5.0-2) Debian 12 Kernel: Depends on container host Compiler: gcc (Debian 12.2.0-14) 12.2.0 Fedora 40 Kernel: Depends on container host Compiler: gcc 14.2.1 20240912 (Red Hat 14.2.1-3) RHEL8 Kernel: Depends on container host Compiler: gcc 8.5.0 20210514 (Red Hat 8.5.0-22) Ubuntu 24.04 Kernel: Depends on container host Compiler: gcc (Ubuntu 13.3.0-6ubuntu2~24.04) 13.3.0 Fedora 41 (Clang) Kernel: Depends on container host Compiler: clang 19.1.5 (Fedora 19.1.5-1.fc41) Fedora 41 Kernel: Depends on container host Compiler: gcc 14.2.1 20240912 (Red Hat 14.2.1-3) RHEL9 Kernel: Depends on container host Compiler: gcc 11.5.0 20240719 (Red Hat 11.5.0-2) openSUSE Leap 15 Kernel: Depends on container host Compiler: gcc (SUSE Linux) 7.5.0 Ubuntu 22.04 Kernel: Depends on container host Compiler: gcc (Ubuntu 11.4.0-1ubuntu1~22.04) 11.4.0 To view detailed results, visit: https://lab.dpdk.org/results/dashboard/tarballs/33552/ UNH-IOL DPDK Community Lab To manage your email subscriptions, visit: https://lab.dpdk.org/results/dashboard/preferences/subscriptions/