From mboxrd@z Thu Jan 1 00:00:00 1970 Return-Path: Received: from mails.dpdk.org (mails.dpdk.org [217.70.189.124]) by inbox.dpdk.org (Postfix) with ESMTP id 5A38D46763 for ; Fri, 16 May 2025 17:21:17 +0200 (CEST) Received: from mails.dpdk.org (localhost [127.0.0.1]) by mails.dpdk.org (Postfix) with ESMTP id 36A34402F1; Fri, 16 May 2025 17:21:17 +0200 (CEST) Received: from mail-pl1-f225.google.com (mail-pl1-f225.google.com [209.85.214.225]) by mails.dpdk.org (Postfix) with ESMTP id C7655402CD for ; Fri, 16 May 2025 17:21:16 +0200 (CEST) Received: by mail-pl1-f225.google.com with SMTP id d9443c01a7336-2301ac32320so25903815ad.1 for ; Fri, 16 May 2025 08:21:16 -0700 (PDT) DKIM-Signature: v=1; a=rsa-sha256; c=relaxed/relaxed; d=iol.unh.edu; s=unh-iol; t=1747408876; x=1748013676; darn=dpdk.org; h=cc:to:from:subject:message-id:date:from:to:cc:subject:date :message-id:reply-to; bh=ecZzUeMRhX73jAQ5u773xJwGUZocY9tLtfI3BZoRgp8=; b=KeJFvqeg9gMOXnDz/JoOR8Wo1Yuj+1p0gX+xgbYtIMUAvIrv7uEUpJdckwwP+Achfb TUSoOWS0sxcIJamXPpjj6nvDTSXSN2CYvBprXmgT27va7DhG3/jLsaGr82GAOaSypZR2 YLt26uOtfo4/2nHXAAEEWqlCz8xKumHUDA3Gk= X-Google-DKIM-Signature: v=1; a=rsa-sha256; c=relaxed/relaxed; d=1e100.net; s=20230601; t=1747408876; x=1748013676; h=cc:to:from:subject:message-id:date:x-gm-message-state:from:to:cc :subject:date:message-id:reply-to; bh=ecZzUeMRhX73jAQ5u773xJwGUZocY9tLtfI3BZoRgp8=; b=SVl8ulBUAcm9Y94xfL/j3tYkY6gsP25LDfFarXhYNpQkS7TzWX4Uo/8xKTfUXkQyOI QKRVEsEDme6pLUjAAm/aByg0bh6jMURG5w/q24H34RYvYnakT3bCT6gbjOBpUrcvM+30 JURzBA1+7cLGntrimLFdR5unKenfh+l3LdowJjaOcP06fLH9+/pRFnQdvqOo0jegX86W pWBnhusl2DCYsswJ1Uc3vEzDckwYWHJXc/6KtVnCXsZlPpvLTBQ7GF4eOZ3RkFw2zXyf pe8BQyDZZcB52/TfYEWPCQYHs0r8xSW4IABapuV4REpj3zGe6j/XfjY8HfuBSio532UI +iBg== X-Gm-Message-State: AOJu0YwCQl8nhOSPqLavPMHYGekZznYctIZGySf2+3ZGQaLHCGb88i4c J23w03iYPr1rgAEblMbUr/6/7sCwET+VMNiffCCDtpvwktprpw2V+BSNNUrEP0rKMmIVK2EPKd5 yNelbgg0YS4+3fVP2XfJ2NI9aiwbbhgE2QsQpxJGGa1PmzyV4WHcDvbNadrX3 X-Gm-Gg: ASbGncvgD7aBnA74s65AEuKtkjuKbLuxNcVV52H4MKzJIL0czNHL1TSS+DRmxSxLPbk G49P976ZKKBixr50cPLX/iUGzIVWWNjpG96ywuqNIJ3xDUsh+p6QU0AfNvYW7J4O+xKZ5KDEHow P/DEpI3P1L2jpRQJPZX50CIc6l+DEo4OnhCq3x1bP9uJfKoUurMQCxZS/W2TMEnlF6KgxGUd9CH lMQS+xl06tEZ58imLYP0V1AGh3MNTSALpDHfpJA9duv/qgbDOVegbN4cyKmc43dHj/9NVpvg1QY sBl7y1dP4ApGIlh3vd0RXus8LXc/e9D95qzP X-Google-Smtp-Source: AGHT+IGY41yY5IMFPElupeRGd9wbTY35YTIsZC8LNRgSmJAC6z9+6/YcthFQFNqK4/Omin82iGGJ8LthXeL2 X-Received: by 2002:a17:903:f8c:b0:223:50f0:b97 with SMTP id d9443c01a7336-231d45d67f2mr44068975ad.52.1747408875692; Fri, 16 May 2025 08:21:15 -0700 (PDT) Received: from postal.iol.unh.edu (postal.iol.unh.edu. [2606:4100:3880:1234::84]) by smtp-relay.gmail.com with ESMTPS id d9443c01a7336-231d4e9814dsm1172745ad.72.2025.05.16.08.21.15 (version=TLS1_2 cipher=ECDHE-ECDSA-AES128-GCM-SHA256 bits=128/128); Fri, 16 May 2025 08:21:15 -0700 (PDT) X-Relaying-Domain: iol.unh.edu Date: Fri, 16 May 2025 08:21:15 -0700 (PDT) Message-ID: <682757eb.170a0220.a63fc.5ecfSMTPIN_ADDED_MISSING@mx.google.com> Received: from [172.21.0.5] (unknown [172.18.0.240]) by postal.iol.unh.edu (Postfix) with ESMTP id DD64F6052471; Fri, 16 May 2025 11:21:14 -0400 (EDT) Subject: |SUCCESS| [GIT MASTER] 51e889518fc861f1af5acbbc133a75203225655c From: dpdklab@iol.unh.edu To: Test Report Cc: dpdk-test-reports@iol.unh.edu, Bruce Richardson Content-Type: text/plain X-BeenThere: test-report@dpdk.org X-Mailman-Version: 2.1.29 Precedence: list List-Id: automatic DPDK test reports List-Unsubscribe: , List-Archive: List-Post: List-Help: List-Subscribe: , Errors-To: test-report-bounces@dpdk.org _Testing PASS_ Branch: dpdk-next-net-intel 51e889518fc861f1af5acbbc133a75203225655c --> testing pass Upstream job id: Generic-Unit-Test-DPDK#338494 Test environment and result as below: +-------------------+----------------+ | Environment | dpdk_unit_test | +===================+================+ | CentOS Stream 10 | PASS | +-------------------+----------------+ | CentOS Stream 9 | PASS | +-------------------+----------------+ | Debian 12 | PASS | +-------------------+----------------+ | Fedora 40 (Clang) | PASS | +-------------------+----------------+ | Fedora 40 | PASS | +-------------------+----------------+ | RHEL9 | PASS | +-------------------+----------------+ | Fedora 41 (Clang) | PASS | +-------------------+----------------+ | Fedora 41 | PASS | +-------------------+----------------+ | Ubuntu 20.04 | PASS | +-------------------+----------------+ | RHEL8 | PASS | +-------------------+----------------+ | Ubuntu 24.04 | PASS | +-------------------+----------------+ | Ubuntu 22.04 | PASS | +-------------------+----------------+ CentOS Stream 10 Kernel: Depends on container host Compiler: gcc 14.2.1 20241104 (Red Hat 14.2.1-6) CentOS Stream 9 Kernel: Depends on container host Compiler: gcc 11.5.0 20240719 (Red Hat 11.5.0-2) Debian 12 Kernel: Depends on container host Compiler: gcc (Debian 12.2.0-14) 12.2.0 Fedora 40 (Clang) Kernel: Depends on container host Compiler: clang 18.1.8 (Fedora 18.1.8-1.fc40) Fedora 40 Kernel: Depends on container host Compiler: gcc 14.2.1 20240912 (Red Hat 14.2.1-3) RHEL9 Kernel: Depends on container host Compiler: gcc 11.5.0 20240719 (Red Hat 11.5.0-2) Fedora 41 (Clang) Kernel: Depends on container host Compiler: clang 19.1.5 (Fedora 19.1.5-1.fc41) Fedora 41 Kernel: Depends on container host Compiler: gcc 14.2.1 20240912 (Red Hat 14.2.1-3) Ubuntu 20.04 Kernel: Depends on container host Compiler: gcc (Ubuntu 9.4.0-1ubuntu1~20.04.2) 9.4.0 RHEL8 Kernel: Depends on container host Compiler: gcc 8.5.0 20210514 (Red Hat 8.5.0-22) Ubuntu 24.04 Kernel: Depends on container host Compiler: gcc (Ubuntu 13.3.0-6ubuntu2~24.04) 13.3.0 Ubuntu 22.04 Kernel: Depends on container host Compiler: gcc (Ubuntu 11.4.0-1ubuntu1~22.04) 11.4.0 To view detailed results, visit: https://lab.dpdk.org/results/dashboard/tarballs/33557/ UNH-IOL DPDK Community Lab To manage your email subscriptions, visit: https://lab.dpdk.org/results/dashboard/preferences/subscriptions/