From mboxrd@z Thu Jan 1 00:00:00 1970 Return-Path: Received: from mails.dpdk.org (mails.dpdk.org [217.70.189.124]) by inbox.dpdk.org (Postfix) with ESMTP id 0276B46763 for ; Fri, 16 May 2025 17:27:50 +0200 (CEST) Received: from mails.dpdk.org (localhost [127.0.0.1]) by mails.dpdk.org (Postfix) with ESMTP id D89CC402F1; Fri, 16 May 2025 17:27:50 +0200 (CEST) Received: from mail-yw1-f227.google.com (mail-yw1-f227.google.com [209.85.128.227]) by mails.dpdk.org (Postfix) with ESMTP id 4DB54402CD for ; Fri, 16 May 2025 17:27:50 +0200 (CEST) Received: by mail-yw1-f227.google.com with SMTP id 00721157ae682-708ac7dfc19so21413717b3.3 for ; Fri, 16 May 2025 08:27:50 -0700 (PDT) DKIM-Signature: v=1; a=rsa-sha256; c=relaxed/relaxed; d=iol.unh.edu; s=unh-iol; t=1747409269; x=1748014069; darn=dpdk.org; h=references:in-reply-to:cc:to:from:subject:message-id:date:from:to :cc:subject:date:message-id:reply-to; bh=LqvBA0Xm5h9Hd6XgGv1pClFvBSewSjPJCaMO42xAogY=; b=V+nyfBpYEEp2rG+0kmst2RZKfSgRzLI+JNw8yZdogKp6YNj0nLA8hZeE7o58wzLXw2 2botCy5NlPTEGKkvLo4++DPUbX/jJv1ZNwAQAivdhqyr9jvpuSkWcSkoBo9K4f/gIga8 8ezVESjDoC5XDhDpDaKHAsOEcwxzjyYc8jlr0= X-Google-DKIM-Signature: v=1; a=rsa-sha256; c=relaxed/relaxed; d=1e100.net; s=20230601; t=1747409269; x=1748014069; h=references:in-reply-to:cc:to:from:subject:message-id:date :x-gm-message-state:from:to:cc:subject:date:message-id:reply-to; bh=LqvBA0Xm5h9Hd6XgGv1pClFvBSewSjPJCaMO42xAogY=; b=MxZTfTzxAulv6bTVWbvIoKAYKMNeEbEUE+bodjMOGxarlncgTLnYjBpC55HtVMcerP mEdjsSv9hTbR4WGUeQEhts5BmPLVkf70YrF9fMfdsPXdlArJrcP/uZprZgDk8qbmINPQ roZqfnwmQdlvy5QvDKNO/MD8KTcE5A1o63D8/dC8V8QP9Aiwsw1RtaqQEypmFIf/NRJV NhHE9rC7kOizCf+0L4bYYrAHOsDuc/UQPVOnL3Og2Ciyz2iBd6FKNuk1w56D+g/dYblB kXkG1sX1XrHSVySDWFSzXwPlxgZcgkSMDLk017KNSeXCoRJm2yRPc7Zph9jQCF2wZvzg 0Z0A== X-Gm-Message-State: AOJu0YwiPVsgqR4BBi4CwGvEkAeETLi8+et73kQ9ceyh59KkASzwjL10 +WwVF8mpqfAgRalBkp9gCBf7LvMMLzxohcdUOsovM/DvY9LEB9mNhHPn1oSrXMFFgLpAab5bSB8 lUdt3dIEvs46KNf2FijSoMtDaGANLcX4jWorkIx+aHvmR X-Gm-Gg: ASbGncsZ0h8rRtuTSqv+842bCsJpZfJn37347BzltHREi1mi1gFC9tZnoehq3Szcyt/ ZOaRiQZq/J/JvnSnm5UYwm3e9jJz0JWTS/TB0Q8toHMtQcVrua93nC4fnTMylsTV6yyqpg04Dnu vSUJWrdWHAh+HRGJEkcFLncdspwBgdzN79CqsN6n1+yuRMk1fb1sAqc72QZqiXzyBiGa7jhegwf dN7YIb0JssYX91vMynGmkNyAotNk01d4e1CCopJ/dcKyjsMFN/V5zBmdnCSU2dtHfYr45uyuEx+ xtDAYMmnNqXRn9AbMB838xvBGXppNRHRCs0UjhTV7dwLk5vzRNrGQYT7bS8= X-Google-Smtp-Source: AGHT+IFSkfaAuZrDjNAXTRC/I86fyXyPkkwXw1EdIXdkbFr/9mKXKz3f0Qd8KzFQmD8XFrXFrMy43TgKif6g X-Received: by 2002:a05:690c:f8c:b0:707:d16d:a41f with SMTP id 00721157ae682-70ca79bfed0mr69353767b3.10.1747409269410; Fri, 16 May 2025 08:27:49 -0700 (PDT) Received: from postal.iol.unh.edu (postal.iol.unh.edu. [132.177.123.84]) by smtp-relay.gmail.com with ESMTPS id 00721157ae682-70ca84bee63sm544007b3.54.2025.05.16.08.27.49 (version=TLS1_2 cipher=ECDHE-ECDSA-AES128-GCM-SHA256 bits=128/128); Fri, 16 May 2025 08:27:49 -0700 (PDT) X-Relaying-Domain: iol.unh.edu Date: Fri, 16 May 2025 08:27:49 -0700 (PDT) Message-ID: <68275975.050a0220.3037ee.29b4SMTPIN_ADDED_MISSING@mx.google.com> Received: from [172.21.0.6] (unknown [172.18.0.240]) by postal.iol.unh.edu (Postfix) with ESMTP id 0E6926052471; Fri, 16 May 2025 11:27:49 -0400 (EDT) Subject: |SUCCESS| pw153481-153484 [PATCH] [v3,4/4] app/testpmd: fix obtain i From: dpdklab@iol.unh.edu To: Test Report Cc: dpdk-test-reports@iol.unh.edu In-Reply-To: <20250516092840.2061252-5-huangdengdui@huawei.com> References: <20250516092840.2061252-5-huangdengdui@huawei.com> Content-Type: text/plain X-BeenThere: test-report@dpdk.org X-Mailman-Version: 2.1.29 Precedence: list List-Id: automatic DPDK test reports List-Unsubscribe: , List-Archive: List-Post: List-Help: List-Subscribe: , Errors-To: test-report-bounces@dpdk.org Test-Label: iol-compile-arm64-testing Test-Status: SUCCESS http://dpdk.org/patch/153484 _Testing PASS_ Submitter: Dengdui Huang Date: Friday, May 16 2025 09:28:40 DPDK git baseline: Repo:dpdk Branch: master CommitID:ff05ee3e3f8fb4ce958a2ce6461e8141aea959c6 153481-153484 --> testing pass Upstream job id: Generic-DPDK-Compile-Meson#388663 Test environment and result as below: +----------------------------------------+--------------------+ | Environment | dpdk_meson_compile | +========================================+====================+ | RHEL9 (ARM) | PASS | +----------------------------------------+--------------------+ | Ubuntu 20.04 ARM GCC Cross Compile | PASS | +----------------------------------------+--------------------+ | Fedora 40 (ARM) | PASS | +----------------------------------------+--------------------+ | Ubuntu 20.04 ARM SVE | PASS | +----------------------------------------+--------------------+ | Debian 12 with MUSDK | PASS | +----------------------------------------+--------------------+ | Fedora 40 (ARM Clang) | PASS | +----------------------------------------+--------------------+ | Fedora 41 (ARM) | PASS | +----------------------------------------+--------------------+ | Ubuntu 22.04 (ARM) | PASS | +----------------------------------------+--------------------+ | Fedora 41 (ARM Clang) | PASS | +----------------------------------------+--------------------+ | Ubuntu 20.04 (ARM) | PASS | +----------------------------------------+--------------------+ | CentOS Stream 9 (ARM) | PASS | +----------------------------------------+--------------------+ | Ubuntu 24.04 (ARM) | PASS | +----------------------------------------+--------------------+ | CentOS Stream 10 (ARM) | PASS | +----------------------------------------+--------------------+ | Ubuntu 20.04 ARM Clang Cross Compile | PASS | +----------------------------------------+--------------------+ | Debian 12 (arm) | PASS | +----------------------------------------+--------------------+ | Ubuntu 20.04 aarch32 GCC Cross Compile | PASS | +----------------------------------------+--------------------+ RHEL9 (ARM) Kernel: Depends on container host Compiler: gcc 11.5.0 20240719 (Red Hat 11.5.0-2) Ubuntu 20.04 ARM GCC Cross Compile Kernel: Depends on container host Compiler: aarch64-linux-gnu-gcc (Ubuntu 9.4.0-1ubuntu1~20.04.2) 9.4.0 Fedora 40 (ARM) Kernel: Depends on container host Compiler: gcc 14.2.1 20240912 (Red Hat 14.2.1-3) Ubuntu 20.04 ARM SVE Kernel: Depends on container host Compiler: gcc (Ubuntu 10.5.0-1ubuntu1~20.04) 10.5.0 Debian 12 with MUSDK Kernel: Depends on container host Compiler: gcc (Debian 12.2.0-14) 12.2.0 Fedora 40 (ARM Clang) Kernel: Depends on container host Compiler: clang 18.1.8 (Fedora 18.1.8-1.fc40) Fedora 41 (ARM) Kernel: Depends on container host Compiler: gcc 14.2.1 20240912 (Red Hat 14.2.1-3) Ubuntu 22.04 (ARM) Kernel: Depends on container host Compiler: gcc (Ubuntu 11.4.0-1ubuntu1~22.04) 11.4.0 Fedora 41 (ARM Clang) Kernel: Depends on container host Compiler: clang 19.1.5 (Fedora 19.1.5-1.fc41) Ubuntu 20.04 (ARM) Kernel: Depends on container host Compiler: gcc (Ubuntu 9.4.0-1ubuntu1~20.04.2) 9.4.0 CentOS Stream 9 (ARM) Kernel: Depends on container host Compiler: gcc 11.5.0 20240719 (Red Hat 11.5.0-2) Ubuntu 24.04 (ARM) Kernel: Depends on container host Compiler: gcc (Ubuntu 13.3.0-6ubuntu2~24.04) 13.3.0 CentOS Stream 10 (ARM) Kernel: Depends on container host Compiler: gcc 14.2.1 20241104 (Red Hat 14.2.1-6) Ubuntu 20.04 ARM Clang Cross Compile Kernel: Depends on container host Compiler: clang 10.0.0-4ubuntu1 Debian 12 (arm) Kernel: Depends on container host Compiler: gcc (Debian 12.2.0-14) 12.2.0 Ubuntu 20.04 aarch32 GCC Cross Compile Kernel: Depends on container host Compiler: gcc 9.4.0 To view detailed results, visit: https://lab.dpdk.org/results/dashboard/patchsets/33190/ UNH-IOL DPDK Community Lab To manage your email subscriptions, visit: https://lab.dpdk.org/results/dashboard/preferences/subscriptions/