From mboxrd@z Thu Jan 1 00:00:00 1970 Return-Path: Received: from mails.dpdk.org (mails.dpdk.org [217.70.189.124]) by inbox.dpdk.org (Postfix) with ESMTP id 46B9C46764 for ; Fri, 16 May 2025 18:04:38 +0200 (CEST) Received: from mails.dpdk.org (localhost [127.0.0.1]) by mails.dpdk.org (Postfix) with ESMTP id 1FDD2402ED; Fri, 16 May 2025 18:04:38 +0200 (CEST) Received: from mail-il1-f227.google.com (mail-il1-f227.google.com [209.85.166.227]) by mails.dpdk.org (Postfix) with ESMTP id 98A9E402CD for ; Fri, 16 May 2025 18:04:36 +0200 (CEST) Received: by mail-il1-f227.google.com with SMTP id e9e14a558f8ab-3db87f6f106so4828255ab.1 for ; Fri, 16 May 2025 09:04:36 -0700 (PDT) DKIM-Signature: v=1; a=rsa-sha256; c=relaxed/relaxed; d=iol.unh.edu; s=unh-iol; t=1747411476; x=1748016276; darn=dpdk.org; h=cc:to:from:subject:message-id:date:from:to:cc:subject:date :message-id:reply-to; bh=EBotXLbGYngXhBVy3mQllnLneVmKdoPW2GVNbkuikaM=; b=b+sOE5eDbolf0QWITgiwkvk8RqW/G0E8jgvOhedk/GIuDzAXConrqt038fqbt96Sh3 XrRNkjhEIctwjypUJG+mM58OmVa0r/njkN8NrDEzrPt+v6BpZrh9/mOzm1yio+zF84Ag IpRxg+ltKKVmdc5AOTCNesPIa3dkBYwWYDTcY= X-Google-DKIM-Signature: v=1; a=rsa-sha256; c=relaxed/relaxed; d=1e100.net; s=20230601; t=1747411476; x=1748016276; h=cc:to:from:subject:message-id:date:x-gm-message-state:from:to:cc :subject:date:message-id:reply-to; bh=EBotXLbGYngXhBVy3mQllnLneVmKdoPW2GVNbkuikaM=; b=A5YLijCVp0zjOoMY5R/A5ydaC5OGsOSOzdPvjLcNoD2OXoKA8CFz/lCXj7uInBKLJs 9n3P/ru3detf8Cu1TKTflzf4lojwtFTcQAz6BVCokiMwmtA7HZZQNrhQjxkqua+ECfvL Yc2NnKlx1PjWO54nKOIhNP99lk/5+/gg2zSyDU2ie0wt604s3RiUEstiuJvZQK7GtiGE 6Sf44mX0enLhRRdIqeiLeSjBqCeJYztJSduQFPxoSN4OF/MPyjNYmoZeb8UudwM+6318 Jb/vav0h87ZIminZ/LjJ0gSkednucEEtPCKwCM444jNudNHndKybIS70TuYuweKG8YIy 1JBg== X-Gm-Message-State: AOJu0YxyvN5naDJqhAswDM0yqA9HXCwCHClYyD5+hlQm39H80pVfYqRg vXeaelGS1e5+jUut882/Vn6gN7egW8aYqMFYuu3MeV7PYWwqeyMamVbDExVf3YHmKxp0p87uWJu f0mDrroTClB0l9UV2GRZ23CIkaYX+q7bYxgZddsBJDg6PLOt0xu/ZffNHB7DC X-Gm-Gg: ASbGncteuYyDhm8Ypmbe6OAUVIobexaY83hP5rmRgFzm/MNqUf5n9ZOrTe9fv8dKHB1 ZRZ4gXIf15oJRS6KoKDS19v0VKxDs2dYNS649j2n9kppK7lCQYh31ftaLGp3NXbY8ieSZzu/vqP VLTj1w7gIoIl2MDTMdJ1oFduz9kQJk2uwQ+FQrsqicKsPOjb4te8CdQ/Np2ofQYw9eEhdktVBdw 95v0Pn7gGxCkcx4a7g52UdaGUtFU8Zqsr/sv9hAB43s6vLeYuUT5b7Bh6XiE3XX1YVyjYxwPIHA XuM+YSzN0eD1AysbstNkY3kLCsVtNSMx165s X-Google-Smtp-Source: AGHT+IFcWlR5uNCc4YElxwUdD0X+FdWwNfDgUHsMGVsixktjpyWXPyVIAR7SIZD3y23yQkqZPdmJB0l0OdRs X-Received: by 2002:a92:cda6:0:b0:3d5:8103:1a77 with SMTP id e9e14a558f8ab-3db84296cc4mr52412565ab.1.1747411475725; Fri, 16 May 2025 09:04:35 -0700 (PDT) Received: from postal.iol.unh.edu (postal.iol.unh.edu. [2606:4100:3880:1234::84]) by smtp-relay.gmail.com with ESMTPS id e9e14a558f8ab-3db8440c9c4sm906725ab.14.2025.05.16.09.04.35 (version=TLS1_2 cipher=ECDHE-ECDSA-AES128-GCM-SHA256 bits=128/128); Fri, 16 May 2025 09:04:35 -0700 (PDT) X-Relaying-Domain: iol.unh.edu Date: Fri, 16 May 2025 09:04:35 -0700 (PDT) Message-ID: <68276213.920a0220.f90c1.4911SMTPIN_ADDED_MISSING@mx.google.com> Received: from [172.21.0.6] (unknown [172.18.0.240]) by postal.iol.unh.edu (Postfix) with ESMTP id 3D7226052471; Fri, 16 May 2025 12:04:35 -0400 (EDT) Subject: |SUCCESS| [GIT MASTER] 51e889518fc861f1af5acbbc133a75203225655c From: dpdklab@iol.unh.edu To: Test Report Cc: dpdk-test-reports@iol.unh.edu, Bruce Richardson Content-Type: text/plain X-BeenThere: test-report@dpdk.org X-Mailman-Version: 2.1.29 Precedence: list List-Id: automatic DPDK test reports List-Unsubscribe: , List-Archive: List-Post: List-Help: List-Subscribe: , Errors-To: test-report-bounces@dpdk.org _Testing PASS_ Branch: dpdk-next-net-intel 51e889518fc861f1af5acbbc133a75203225655c --> testing pass Upstream job id: Generic-VM-Unit-Test-DPDK#28573 Test environment and result as below: +---------------------+----------------+ | Environment | dpdk_unit_test | +=====================+================+ | CentOS Stream 10 | PASS | +---------------------+----------------+ | CentOS Stream 9 | PASS | +---------------------+----------------+ | Debian 12 | PASS | +---------------------+----------------+ | Fedora 40 (Clang) | PASS | +---------------------+----------------+ | Fedora 40 | PASS | +---------------------+----------------+ | RHEL9 | PASS | +---------------------+----------------+ | Fedora 41 (Clang) | PASS | +---------------------+----------------+ | Fedora 41 | PASS | +---------------------+----------------+ | Ubuntu 20.04 | PASS | +---------------------+----------------+ | RHEL8 | PASS | +---------------------+----------------+ | Ubuntu 24.04 | PASS | +---------------------+----------------+ | Ubuntu 22.04 | PASS | +---------------------+----------------+ | Windows Server 2022 | PASS | +---------------------+----------------+ CentOS Stream 10 Kernel: Depends on container host Compiler: gcc 14.2.1 20241104 (Red Hat 14.2.1-6) CentOS Stream 9 Kernel: Depends on container host Compiler: gcc 11.5.0 20240719 (Red Hat 11.5.0-2) Debian 12 Kernel: Depends on container host Compiler: gcc (Debian 12.2.0-14) 12.2.0 Fedora 40 (Clang) Kernel: Depends on container host Compiler: clang 18.1.8 (Fedora 18.1.8-1.fc40) Fedora 40 Kernel: Depends on container host Compiler: gcc 14.2.1 20240912 (Red Hat 14.2.1-3) RHEL9 Kernel: Depends on container host Compiler: gcc 11.5.0 20240719 (Red Hat 11.5.0-2) Fedora 41 (Clang) Kernel: Depends on container host Compiler: clang 19.1.5 (Fedora 19.1.5-1.fc41) Fedora 41 Kernel: Depends on container host Compiler: gcc 14.2.1 20240912 (Red Hat 14.2.1-3) Ubuntu 20.04 Kernel: Depends on container host Compiler: gcc (Ubuntu 9.4.0-1ubuntu1~20.04.2) 9.4.0 RHEL8 Kernel: Depends on container host Compiler: gcc 8.5.0 20210514 (Red Hat 8.5.0-22) Ubuntu 24.04 Kernel: Depends on container host Compiler: gcc (Ubuntu 13.3.0-6ubuntu2~24.04) 13.3.0 Ubuntu 22.04 Kernel: Depends on container host Compiler: gcc (Ubuntu 11.4.0-1ubuntu1~22.04) 11.4.0 Windows Server 2022 Kernel: 10.0.20348.2031 Compiler: clang 15.0.7, gcc 14.1.0 (MinGW), and MSVC VS 19.39.33521 To view detailed results, visit: https://lab.dpdk.org/results/dashboard/tarballs/33557/ UNH-IOL DPDK Community Lab To manage your email subscriptions, visit: https://lab.dpdk.org/results/dashboard/preferences/subscriptions/