From mboxrd@z Thu Jan 1 00:00:00 1970 Return-Path: Received: from mails.dpdk.org (mails.dpdk.org [217.70.189.124]) by inbox.dpdk.org (Postfix) with ESMTP id 38F8146764 for ; Fri, 16 May 2025 18:04:41 +0200 (CEST) Received: from mails.dpdk.org (localhost [127.0.0.1]) by mails.dpdk.org (Postfix) with ESMTP id 33E84402ED; Fri, 16 May 2025 18:04:41 +0200 (CEST) Received: from mail-qv1-f98.google.com (mail-qv1-f98.google.com [209.85.219.98]) by mails.dpdk.org (Postfix) with ESMTP id 16CAE402CD for ; Fri, 16 May 2025 18:04:40 +0200 (CEST) Received: by mail-qv1-f98.google.com with SMTP id 6a1803df08f44-6f8aa9e6ffdso19325686d6.3 for ; Fri, 16 May 2025 09:04:40 -0700 (PDT) DKIM-Signature: v=1; a=rsa-sha256; c=relaxed/relaxed; d=iol.unh.edu; s=unh-iol; t=1747411479; x=1748016279; darn=dpdk.org; h=cc:to:from:subject:message-id:date:from:to:cc:subject:date :message-id:reply-to; bh=JGACpy4GjCQrWZuqfyzyBX8h/hpzsqyzzIspveSgGKs=; b=Bfo1FVbY0DiQ68ocAMeZRRugpaSXJTZDPQLkEsUOeEnMzYA/7HisLFj/y7v90FYpNX emrC7SYNWykUysX9BwEQvYWlmNZpu0Pb0Atw9twfWjdRn/r3S+dtFezFHVNlKjxajauc TZXmfnQ9osp8ED+5GaN7SwYm5j6owXbKNw5qU= X-Google-DKIM-Signature: v=1; a=rsa-sha256; c=relaxed/relaxed; d=1e100.net; s=20230601; t=1747411479; x=1748016279; h=cc:to:from:subject:message-id:date:x-gm-message-state:from:to:cc :subject:date:message-id:reply-to; bh=JGACpy4GjCQrWZuqfyzyBX8h/hpzsqyzzIspveSgGKs=; b=hGwwyBnqBBm329N34q1sMLmMqaamZWELOn7HTibSKPNdibyHns8RubjeyseRisZz8d YcCf3BcsQRzEbwMvvArpSmxLRDj6MRRT7R6ik/fKPe5tkvZwXgrkPk7VwbOIeMpKwkkO C3oXYtXa7vqgd+JiZOtCpCu+IEb+EcsT39xCOrIBdYNMkkm0DG85c+iVXgDlO5OBN7F6 2FkW88aC6eAR4L6/xvLZI/8BWyjYhV4jQp8eDQBJu83/Chk193Ml/9b3RTl0fsSfOBtq UM5EeQb6pZWTAEqkBmOvhz6B89bSBOdzhfNZxLQdHi1L+I/By7qhn990WqXH2gl86VKL 8y/w== X-Gm-Message-State: AOJu0Yz44A6eFmqRVV4e0dOQhxVNOfddCphxr/9OnCMAYSZfRY5GcxvC xyaOOUtNC+QgY2chDLfe+z61HygwG/sQ8C79LXoBAhTK94qeWOlGwIxElqh11zDOb/JIcSuXSux amUjnfGKq4v58aIhRGzPWRhc280MQTqQnGiZAwO+/p1jC X-Gm-Gg: ASbGncuLbLAm5MGrPYG4tCblFa+esIlazHDf6TJC6ipTBOFhwfOb7vbGFFax/l/D8Ad dzGAgjFNYlUS1EGc9A4Merm8vh3nGjtUOHc7kd3MhDuA++QHGW3zHvlvYw+Q2Lf3aqNn7aLlwK/ JoDapt+N5AUpac51c79bGUjcezSE3LNCoRxuw1A3yqiY95hZTUzhpNO+PcwuSK9khYSlUL1XuIo xt1pnX8DyEisRV1BlTDAWqbfcYJnvv5N77qklpdp/uuut3B0NjUs4D6A3H21ipZ+/YLZHmWHtF1 fxvcddnT9MJBawMWnWitX8cSFXxsLuAAW99NUxNrFH67jMYVvkh9suRAXJ8= X-Google-Smtp-Source: AGHT+IEl5Oa/Nw2YtglvUvMlkGxK6gDVjoprkAzIn8zhWA+LvNLb9nX3AHQDHSbOiW9A5HeacA4bAUqejgxc X-Received: by 2002:a05:6214:1c09:b0:6f8:a827:5847 with SMTP id 6a1803df08f44-6f8b0828745mr70723906d6.7.1747411477872; Fri, 16 May 2025 09:04:37 -0700 (PDT) Received: from postal.iol.unh.edu (postal.iol.unh.edu. [132.177.123.84]) by smtp-relay.gmail.com with ESMTPS id 6a1803df08f44-6f8b08c8928sm747886d6.33.2025.05.16.09.04.37 (version=TLS1_2 cipher=ECDHE-ECDSA-AES128-GCM-SHA256 bits=128/128); Fri, 16 May 2025 09:04:37 -0700 (PDT) X-Relaying-Domain: iol.unh.edu Date: Fri, 16 May 2025 09:04:37 -0700 (PDT) Message-ID: <68276215.d40a0220.3d66ea.493bSMTPIN_ADDED_MISSING@mx.google.com> Received: from [172.21.0.5] (unknown [172.18.0.240]) by postal.iol.unh.edu (Postfix) with ESMTP id 8ED866052471; Fri, 16 May 2025 12:04:37 -0400 (EDT) Subject: |SUCCESS| [GIT MASTER] 51e889518fc861f1af5acbbc133a75203225655c From: dpdklab@iol.unh.edu To: Test Report Cc: dpdk-test-reports@iol.unh.edu, Bruce Richardson Content-Type: text/plain X-BeenThere: test-report@dpdk.org X-Mailman-Version: 2.1.29 Precedence: list List-Id: automatic DPDK test reports List-Unsubscribe: , List-Archive: List-Post: List-Help: List-Subscribe: , Errors-To: test-report-bounces@dpdk.org _Testing PASS_ Branch: dpdk-next-net-intel 51e889518fc861f1af5acbbc133a75203225655c --> testing pass Upstream job id: Generic-DPDK-Compile-Meson#388731 Test environment and result as below: +-----------------------------------+--------------------+-------------------+-------------------+------------------+-------------------------+----------------------+ | Environment | dpdk_meson_compile | dpdk_msvc_compile | dpdk_compile_spdk | dpdk_compile_ovs | dpdk_llvm_clang_compile | dpdk_mingw64_compile | +===================================+====================+===================+===================+==================+=========================+======================+ | Ubuntu 20.04 | PASS | SKIPPED | SKIPPED | SKIPPED | SKIPPED | SKIPPED | +-----------------------------------+--------------------+-------------------+-------------------+------------------+-------------------------+----------------------+ | FreeBSD 13.5 | PASS | SKIPPED | SKIPPED | SKIPPED | SKIPPED | SKIPPED | +-----------------------------------+--------------------+-------------------+-------------------+------------------+-------------------------+----------------------+ | FreeBSD 14.2 | PASS | SKIPPED | SKIPPED | SKIPPED | SKIPPED | SKIPPED | +-----------------------------------+--------------------+-------------------+-------------------+------------------+-------------------------+----------------------+ | CentOS Stream 9 | PASS | SKIPPED | PASS | SKIPPED | SKIPPED | SKIPPED | +-----------------------------------+--------------------+-------------------+-------------------+------------------+-------------------------+----------------------+ | CentOS Stream 10 | PASS | SKIPPED | SKIPPED | SKIPPED | SKIPPED | SKIPPED | +-----------------------------------+--------------------+-------------------+-------------------+------------------+-------------------------+----------------------+ | Debian 12 | PASS | SKIPPED | PASS | SKIPPED | SKIPPED | SKIPPED | +-----------------------------------+--------------------+-------------------+-------------------+------------------+-------------------------+----------------------+ | Fedora 40 (Clang) | PASS | SKIPPED | PASS | SKIPPED | SKIPPED | SKIPPED | +-----------------------------------+--------------------+-------------------+-------------------+------------------+-------------------------+----------------------+ | Fedora 40 | PASS | SKIPPED | PASS | SKIPPED | SKIPPED | SKIPPED | +-----------------------------------+--------------------+-------------------+-------------------+------------------+-------------------------+----------------------+ | Fedora 41 (Clang) | PASS | SKIPPED | PASS | PASS | SKIPPED | SKIPPED | +-----------------------------------+--------------------+-------------------+-------------------+------------------+-------------------------+----------------------+ | Fedora 41 | PASS | SKIPPED | PASS | PASS | SKIPPED | SKIPPED | +-----------------------------------+--------------------+-------------------+-------------------+------------------+-------------------------+----------------------+ | openSUSE Leap 15 | PASS | SKIPPED | SKIPPED | SKIPPED | SKIPPED | SKIPPED | +-----------------------------------+--------------------+-------------------+-------------------+------------------+-------------------------+----------------------+ | RHEL8 | PASS | SKIPPED | SKIPPED | SKIPPED | SKIPPED | SKIPPED | +-----------------------------------+--------------------+-------------------+-------------------+------------------+-------------------------+----------------------+ | RHEL9 | PASS | SKIPPED | SKIPPED | SKIPPED | SKIPPED | SKIPPED | +-----------------------------------+--------------------+-------------------+-------------------+------------------+-------------------------+----------------------+ | Ubuntu 22.04 | PASS | SKIPPED | PASS | SKIPPED | SKIPPED | SKIPPED | +-----------------------------------+--------------------+-------------------+-------------------+------------------+-------------------------+----------------------+ | Ubuntu 24.04 | PASS | SKIPPED | PASS | PASS | SKIPPED | SKIPPED | +-----------------------------------+--------------------+-------------------+-------------------+------------------+-------------------------+----------------------+ | Ubuntu 24.04 32 Bit Cross Compile | PASS | SKIPPED | SKIPPED | SKIPPED | SKIPPED | SKIPPED | +-----------------------------------+--------------------+-------------------+-------------------+------------------+-------------------------+----------------------+ | Alpine | PASS | SKIPPED | SKIPPED | SKIPPED | SKIPPED | SKIPPED | +-----------------------------------+--------------------+-------------------+-------------------+------------------+-------------------------+----------------------+ | Windows Server 2022 | SKIPPED | PASS | SKIPPED | SKIPPED | PASS | PASS | +-----------------------------------+--------------------+-------------------+-------------------+------------------+-------------------------+----------------------+ Ubuntu 20.04 Kernel: 4.19.325-0419325-generic Compiler: gcc (Ubuntu 9.4.0-1ubuntu1~20.04.2) 9.4.0 FreeBSD 13.5 Kernel: 13.5-RELEASE Compiler: clang 19.1.7 FreeBSD 14.2 Kernel: 14.2-RELEASE Compiler: clang 18.1.6 CentOS Stream 9 Kernel: Depends on container host Compiler: gcc 11.5.0 20240719 (Red Hat 11.5.0-2) CentOS Stream 10 Kernel: Depends on container host Compiler: gcc 14.2.1 20241104 (Red Hat 14.2.1-6) Debian 12 Kernel: Depends on container host Compiler: gcc (Debian 12.2.0-14) 12.2.0 Fedora 40 (Clang) Kernel: Depends on container host Compiler: clang 18.1.8 (Fedora 18.1.8-1.fc40) Fedora 40 Kernel: Depends on container host Compiler: gcc 14.2.1 20240912 (Red Hat 14.2.1-3) Fedora 41 (Clang) Kernel: Depends on container host Compiler: clang 19.1.5 (Fedora 19.1.5-1.fc41) Fedora 41 Kernel: Depends on container host Compiler: gcc 14.2.1 20240912 (Red Hat 14.2.1-3) openSUSE Leap 15 Kernel: Depends on container host Compiler: gcc (SUSE Linux) 7.5.0 RHEL8 Kernel: Depends on container host Compiler: gcc 8.5.0 20210514 (Red Hat 8.5.0-22) RHEL9 Kernel: Depends on container host Compiler: gcc 11.5.0 20240719 (Red Hat 11.5.0-2) Ubuntu 22.04 Kernel: Depends on container host Compiler: gcc (Ubuntu 11.4.0-1ubuntu1~22.04) 11.4.0 Ubuntu 24.04 Kernel: Depends on container host Compiler: gcc (Ubuntu 13.3.0-6ubuntu2~24.04) 13.3.0 Ubuntu 24.04 32 Bit Cross Compile Kernel: Depends on container host Compiler: gcc (Ubuntu 13.3.0-6ubuntu2~24.04) 13.3.0 Alpine Kernel: Depends on container host Compiler: gcc (Alpine 14.2.0) 14.2.0 Windows Server 2022 Kernel: 10.0.20348.2031 Compiler: clang 15.0.7, gcc 14.1.0 (MinGW), and MSVC VS 19.39.33521 To view detailed results, visit: https://lab.dpdk.org/results/dashboard/tarballs/33557/ UNH-IOL DPDK Community Lab To manage your email subscriptions, visit: https://lab.dpdk.org/results/dashboard/preferences/subscriptions/