From mboxrd@z Thu Jan 1 00:00:00 1970 Return-Path: Received: from mails.dpdk.org (mails.dpdk.org [217.70.189.124]) by inbox.dpdk.org (Postfix) with ESMTP id C74824674B for ; Fri, 16 May 2025 18:09:45 +0200 (CEST) Received: from mails.dpdk.org (localhost [127.0.0.1]) by mails.dpdk.org (Postfix) with ESMTP id A3C3A402ED; Fri, 16 May 2025 18:09:45 +0200 (CEST) Received: from mail-oi1-f225.google.com (mail-oi1-f225.google.com [209.85.167.225]) by mails.dpdk.org (Postfix) with ESMTP id 1901E402CD for ; Fri, 16 May 2025 18:09:44 +0200 (CEST) Received: by mail-oi1-f225.google.com with SMTP id 5614622812f47-3fa6c54cdb2so2082760b6e.3 for ; Fri, 16 May 2025 09:09:43 -0700 (PDT) DKIM-Signature: v=1; a=rsa-sha256; c=relaxed/relaxed; d=iol.unh.edu; s=unh-iol; t=1747411783; x=1748016583; darn=dpdk.org; h=references:in-reply-to:cc:to:from:subject:message-id:date:from:to :cc:subject:date:message-id:reply-to; bh=0suMHelS+laYKywdCwAYl/tDJLa9vK0dU1HdsBqgPj0=; b=eVe/KiC9zwZrJt5h5Tu14aFMMkc9oOfZhdm3O7kf7g91t7zX0uQwBphhSd3T1eM4P/ izuQwnmp+DNCypXTHP2dzWaauSaT0s4Qjx0yvD9sKhrX8MCSwaqWp9zBfXWXLOklDNny NaHjEPrCMH829aiXe1mLj/xMmdxdDdLu1sXKg= X-Google-DKIM-Signature: v=1; a=rsa-sha256; c=relaxed/relaxed; d=1e100.net; s=20230601; t=1747411783; x=1748016583; h=references:in-reply-to:cc:to:from:subject:message-id:date :x-gm-message-state:from:to:cc:subject:date:message-id:reply-to; bh=0suMHelS+laYKywdCwAYl/tDJLa9vK0dU1HdsBqgPj0=; b=PYVK1YDm9ZgXgcbXLMy0yiZKBsbV/mG3nsuj8vIPo7rDDkZ1DekKsJFENKwYqhicM0 vQ07QPTvSZJZxuVFAExN3oHcQB0uXqPF9lQPQGcAbNMLqoTDCNmWAULoMh1pDhJsvziX XKrF6uxxzP0dQaNr5JC5GElofvO1rkS0kihjroX59/TmDKXR1SsxN3egvP0vnDVkrrGJ mSc1U203ILjzw4lZIkqtIFn2haz38Nxw/c2B2EZKBRV9UCDO0tHgOIlLzZNwmwHmJ5Fz v56+x3ypS2KVuS2vjYJSBLzBV9QWD2BSmLlVvEWHDnpO7TtAK0NIs6EPvHn6jZ9NAAf+ 6ZPA== X-Gm-Message-State: AOJu0Yz7vINiZn6R6hHZ/0LPz12aFX2FQ2xZX1VAwGMU70+G/zu+3EDC C7qWbq317lePYLHA32KcCreCGl2L+y0JBWo0HJvZQXM8y3iLv+igAfvlDf8DVyST5U1EyrZ5N24 E5Y4TTmLO5VcYo7luHglLcstfCa+AdIBoq6g4y8+46ncs/EeEwHiy96sQwoWm X-Gm-Gg: ASbGncskV5krYakIA2+WStkbR3EMZXU7m64SW8yGF+Fk21H3MKJjblLZGReX/y7xL8d o37CCHhSuU6uaLlbT2VIcma/nDvrk3namzNqqE84MM++Wt12/gdMCCR7YAXjHjkY7OICSqGlqHR oooWRKWMT/ImTh6a+YZvv6pG18NUJVATtl0ZlfH/cqIfh2josxKXPpe3ImkTcjQQrurB1JBVwq9 nQ27p3qEBdKU7Ur8SwyVxzsRjWyzx3wvy3Sg3WXnZVaqfXQwjUPAbyHqCrq8kgCzt5IEbp3Lav2 FQOE4Y3ucBJaJ7HM3NKt7s5VOiDwex3pU73S X-Google-Smtp-Source: AGHT+IGROV1NxRQfmep1RBfVYWBMJMOkI9VP/H4jUF3gm3vXNoLbcWgH5qnzq9/mtMdo138l1ISdfBFPqQa2 X-Received: by 2002:a05:6808:1649:b0:401:9175:ab1f with SMTP id 5614622812f47-404d885e2fbmr2097616b6e.29.1747411782998; Fri, 16 May 2025 09:09:42 -0700 (PDT) Received: from postal.iol.unh.edu (postal.iol.unh.edu. [2606:4100:3880:1234::84]) by smtp-relay.gmail.com with ESMTPS id 006d021491bc7-609f310b18asm78283eaf.22.2025.05.16.09.09.42 (version=TLS1_2 cipher=ECDHE-ECDSA-AES128-GCM-SHA256 bits=128/128); Fri, 16 May 2025 09:09:42 -0700 (PDT) X-Relaying-Domain: iol.unh.edu Date: Fri, 16 May 2025 09:09:42 -0700 (PDT) Message-ID: <68276346.050a0220.390e18.42e5SMTPIN_ADDED_MISSING@mx.google.com> Received: from [172.21.0.6] (unknown [172.18.0.240]) by postal.iol.unh.edu (Postfix) with ESMTP id 7D16A6052471; Fri, 16 May 2025 12:09:42 -0400 (EDT) Subject: |SUCCESS| pw153485 [PATCH] doc: add limitation in using segment-sz i From: dpdklab@iol.unh.edu To: Test Report Cc: dpdk-test-reports@iol.unh.edu In-Reply-To: <20250516121043.145572-1-gakhil@marvell.com> References: <20250516121043.145572-1-gakhil@marvell.com> Content-Type: text/plain X-BeenThere: test-report@dpdk.org X-Mailman-Version: 2.1.29 Precedence: list List-Id: automatic DPDK test reports List-Unsubscribe: , List-Archive: List-Post: List-Help: List-Subscribe: , Errors-To: test-report-bounces@dpdk.org Test-Label: iol-unit-arm64-testing Test-Status: SUCCESS http://dpdk.org/patch/153485 _Testing PASS_ Submitter: Akhil Goyal Date: Friday, May 16 2025 12:10:43 DPDK git baseline: Repo:dpdk Branch: master CommitID:dcf9f9363aa9b4163d241caf8b26a84ca0c0006b 153485 --> testing pass Upstream job id: Generic-Unit-Test-DPDK#338508 Test environment and result as below: +-----------------------------+----------------+------------------------------+--------------+---------------------------+ | Environment | dpdk_unit_test | cryptodev_sw_snow3g_autotest | lpm_autotest | cryptodev_sw_zuc_autotest | +=============================+================+==============================+==============+===========================+ | CentOS Stream 10 (ARM) | PASS | SKIPPED | SKIPPED | SKIPPED | +-----------------------------+----------------+------------------------------+--------------+---------------------------+ | CentOS Stream 9 (ARM) | PASS | SKIPPED | SKIPPED | SKIPPED | +-----------------------------+----------------+------------------------------+--------------+---------------------------+ | Debian 12 (arm) | PASS | PASS | SKIPPED | PASS | +-----------------------------+----------------+------------------------------+--------------+---------------------------+ | Fedora 40 (ARM) | PASS | SKIPPED | SKIPPED | SKIPPED | +-----------------------------+----------------+------------------------------+--------------+---------------------------+ | RHEL9 (ARM) | PASS | SKIPPED | SKIPPED | SKIPPED | +-----------------------------+----------------+------------------------------+--------------+---------------------------+ | Ubuntu 20.04 (ARM) | PASS | SKIPPED | SKIPPED | SKIPPED | +-----------------------------+----------------+------------------------------+--------------+---------------------------+ | Fedora 41 (ARM Clang) | PASS | SKIPPED | SKIPPED | SKIPPED | +-----------------------------+----------------+------------------------------+--------------+---------------------------+ | Fedora 41 (ARM) | PASS | SKIPPED | SKIPPED | SKIPPED | +-----------------------------+----------------+------------------------------+--------------+---------------------------+ | Fedora 40 (ARM Clang) | PASS | SKIPPED | SKIPPED | SKIPPED | +-----------------------------+----------------+------------------------------+--------------+---------------------------+ | Ubuntu 22.04 (ARM) | PASS | SKIPPED | SKIPPED | SKIPPED | +-----------------------------+----------------+------------------------------+--------------+---------------------------+ | Ubuntu 24.04 (ARM) | PASS | SKIPPED | SKIPPED | SKIPPED | +-----------------------------+----------------+------------------------------+--------------+---------------------------+ | 32-bit Ubuntu 22.04.4 (ARM) | PASS | SKIPPED | SKIPPED | SKIPPED | +-----------------------------+----------------+------------------------------+--------------+---------------------------+ | Ubuntu 20.04 ARM SVE | SKIPPED | SKIPPED | PASS | SKIPPED | +-----------------------------+----------------+------------------------------+--------------+---------------------------+ CentOS Stream 10 (ARM) Kernel: Depends on container host Compiler: gcc 14.2.1 20241104 (Red Hat 14.2.1-6) CentOS Stream 9 (ARM) Kernel: Depends on container host Compiler: gcc 11.5.0 20240719 (Red Hat 11.5.0-2) Debian 12 (arm) Kernel: Depends on container host Compiler: gcc (Debian 12.2.0-14) 12.2.0 Fedora 40 (ARM) Kernel: Depends on container host Compiler: gcc 14.2.1 20240912 (Red Hat 14.2.1-3) RHEL9 (ARM) Kernel: Depends on container host Compiler: gcc 11.5.0 20240719 (Red Hat 11.5.0-2) Ubuntu 20.04 (ARM) Kernel: Depends on container host Compiler: gcc (Ubuntu 9.4.0-1ubuntu1~20.04.2) 9.4.0 Fedora 41 (ARM Clang) Kernel: Depends on container host Compiler: clang 19.1.5 (Fedora 19.1.5-1.fc41) Fedora 41 (ARM) Kernel: Depends on container host Compiler: gcc 14.2.1 20240912 (Red Hat 14.2.1-3) Fedora 40 (ARM Clang) Kernel: Depends on container host Compiler: clang 18.1.8 (Fedora 18.1.8-1.fc40) Ubuntu 22.04 (ARM) Kernel: Depends on container host Compiler: gcc (Ubuntu 11.4.0-1ubuntu1~22.04) 11.4.0 Ubuntu 24.04 (ARM) Kernel: Depends on container host Compiler: gcc (Ubuntu 13.3.0-6ubuntu2~24.04) 13.3.0 32-bit Ubuntu 22.04.4 (ARM) Kernel: 5.15.83+ aarch64 Compiler: gcc (Ubuntu 11.4.0-1ubuntu1~22.04) 11.4.0 Ubuntu 20.04 ARM SVE Kernel: Depends on container host Compiler: gcc (Ubuntu 10.5.0-1ubuntu1~20.04) 10.5.0 To view detailed results, visit: https://lab.dpdk.org/results/dashboard/patchsets/33191/ UNH-IOL DPDK Community Lab To manage your email subscriptions, visit: https://lab.dpdk.org/results/dashboard/preferences/subscriptions/