From mboxrd@z Thu Jan 1 00:00:00 1970 Return-Path: Received: from mails.dpdk.org (mails.dpdk.org [217.70.189.124]) by inbox.dpdk.org (Postfix) with ESMTP id A14EC46764 for ; Fri, 16 May 2025 18:18:05 +0200 (CEST) Received: from mails.dpdk.org (localhost [127.0.0.1]) by mails.dpdk.org (Postfix) with ESMTP id 8FE89402ED; Fri, 16 May 2025 18:18:05 +0200 (CEST) Received: from mail-il1-f228.google.com (mail-il1-f228.google.com [209.85.166.228]) by mails.dpdk.org (Postfix) with ESMTP id 4D891402CD for ; Fri, 16 May 2025 18:18:04 +0200 (CEST) Received: by mail-il1-f228.google.com with SMTP id e9e14a558f8ab-3d948ce7d9dso7756515ab.2 for ; Fri, 16 May 2025 09:18:04 -0700 (PDT) DKIM-Signature: v=1; a=rsa-sha256; c=relaxed/relaxed; d=iol.unh.edu; s=unh-iol; t=1747412283; x=1748017083; darn=dpdk.org; h=references:in-reply-to:cc:to:from:subject:message-id:date:from:to :cc:subject:date:message-id:reply-to; bh=zjxyUwQPb1Sk2xzqbN+kRT9BGnxbprE71xg7QJF3nLE=; b=XjZ8eeCM5NYcPNpGmenJt2kj638yW2Q++SpPM1MwIB7UsLzaltL0ke3zZbBj2Cx8nu 4c98jtcBCCpTxElvibK4vX9dPSnwWy0R9Her9VVAYkOFUTAu+AT5o5C3I6ydOdAMMy0O PRPopjqH7BqVBJl+uBmS6vFhfb8sARiRUeHW4= X-Google-DKIM-Signature: v=1; a=rsa-sha256; c=relaxed/relaxed; d=1e100.net; s=20230601; t=1747412283; x=1748017083; h=references:in-reply-to:cc:to:from:subject:message-id:date :x-gm-message-state:from:to:cc:subject:date:message-id:reply-to; bh=zjxyUwQPb1Sk2xzqbN+kRT9BGnxbprE71xg7QJF3nLE=; b=hWlNaw7Lz+QwK3Wz4dHFNjL3SB3/Wx6F5dGtlg7+edKTIfKGUH6YSyhE1bs/gu5G8t kIC33YRp9hSW10DTV/zTWmzX5rztmSvtAlGoNYXM6L19o4oGP59o0MHBuv9F16mFwDgp DA4M8QesE0ZYceWmUoHuVyFa2rmJN5KxDR1jren9hur3q8BLqy+e+lTH9Q7HKcc/DOXB hR9io0sj9LmqCXJqd1DCWa7e5RptIrdUqZEk5GHMzfcgKLJez/NZK95QqQ6GTW+Q9uKX Vh8/Hw4MAFCK6GdvBzrxE8Egc5GNo/jRHXCD98xkQw+pzjG3d9e/p6wSibSNYKY3YDUS TTZQ== X-Gm-Message-State: AOJu0YzTcAn5WxEJKjQ/D0QG1RTee1ckiWG51IMtNsn0ybnmmtL9SGg/ cqHmdnIqj0ALuysG81sX7ndWVtXw6LcR4hHKcj5i5qgaBMfk3h9e5Usy9BgorJQvfUXAc/x7/J2 kerd05Crjw3hiNiP5lVpzK1e7g4jenlCZuK4d9CgvIOJQ8xBWFLYQ2SCnfVj1 X-Gm-Gg: ASbGncuH+tPXfQ9BHtwi4LZPdLT9z4jYGt+PmmgILuwJRwqEHpI4Cn0bQe/UQCBcw8K iWksBo6a4Hu0aw7+I+QfG685DYjNIEtcSlLx9DbdY3CLclYc+RjL7UasGv9jR0uDGKVrJUNr9iA uMLrCkulr/DxOVU+C+w+8qiydcnFIGDr90rJ5b4rnfrmnJYlARddtpg8QLkChPtkD1i9FkHxd8a v4+t2kmorLgrUh4PzNqCMcYnhQ8wP85i7bdglPjlrtP1cb4zitET3H8CGtCZN1WSy2S4+S9bxUm pidxEVzW92nSdIWlGRURDQwzPP5pGbJgEndz X-Google-Smtp-Source: AGHT+IHSePwmH0iL7IpanB0UO0z2CoSITticZ4sGyPAt4dBDcSmMd/HIJy5bDPCTE7hL/LSO8EmVZo2e4jow X-Received: by 2002:a92:cda6:0:b0:3d8:1d2d:60b0 with SMTP id e9e14a558f8ab-3db842aae78mr50935185ab.5.1747412283525; Fri, 16 May 2025 09:18:03 -0700 (PDT) Received: from postal.iol.unh.edu (postal.iol.unh.edu. [2606:4100:3880:1234::84]) by smtp-relay.gmail.com with ESMTPS id 8926c6da1cb9f-4fbcc4a05dfsm103294173.64.2025.05.16.09.18.03 (version=TLS1_2 cipher=ECDHE-ECDSA-AES128-GCM-SHA256 bits=128/128); Fri, 16 May 2025 09:18:03 -0700 (PDT) X-Relaying-Domain: iol.unh.edu Date: Fri, 16 May 2025 09:18:03 -0700 (PDT) Message-ID: <6827653b.020a0220.1d4008.5280SMTPIN_ADDED_MISSING@mx.google.com> Received: from [172.17.0.3] (unknown [172.18.0.74]) by postal.iol.unh.edu (Postfix) with ESMTP id 0B7EE6052471; Fri, 16 May 2025 12:18:03 -0400 (EDT) Subject: |SUCCESS| pw153485 [PATCH] doc: add limitation in using segment-sz i From: dpdklab@iol.unh.edu To: Test Report Cc: dpdk-test-reports@iol.unh.edu In-Reply-To: <20250516121043.145572-1-gakhil@marvell.com> References: <20250516121043.145572-1-gakhil@marvell.com> Content-Type: text/plain X-BeenThere: test-report@dpdk.org X-Mailman-Version: 2.1.29 Precedence: list List-Id: automatic DPDK test reports List-Unsubscribe: , List-Archive: List-Post: List-Help: List-Subscribe: , Errors-To: test-report-bounces@dpdk.org Test-Label: iol-abi-testing Test-Status: SUCCESS http://dpdk.org/patch/153485 _Testing PASS_ Submitter: Akhil Goyal Date: Friday, May 16 2025 12:10:43 DPDK git baseline: Repo:dpdk Branch: master CommitID:dcf9f9363aa9b4163d241caf8b26a84ca0c0006b 153485 --> testing pass Upstream job id: Generic-DPDK-Compile-ABI#126689 Test environment and result as below: +-------------------+----------+ | Environment | abi_test | +===================+==========+ | CentOS Stream 10 | PASS | +-------------------+----------+ | CentOS Stream 9 | PASS | +-------------------+----------+ | Debian 12 | PASS | +-------------------+----------+ | Fedora 40 (Clang) | PASS | +-------------------+----------+ | Fedora 40 | PASS | +-------------------+----------+ | RHEL9 | PASS | +-------------------+----------+ | Fedora 41 (Clang) | PASS | +-------------------+----------+ | Fedora 41 | PASS | +-------------------+----------+ | openSUSE Leap 15 | PASS | +-------------------+----------+ | RHEL8 | PASS | +-------------------+----------+ | Ubuntu 22.04 | PASS | +-------------------+----------+ | Ubuntu 24.04 | PASS | +-------------------+----------+ CentOS Stream 10 Kernel: Depends on container host Compiler: gcc 14.2.1 20241104 (Red Hat 14.2.1-6) CentOS Stream 9 Kernel: Depends on container host Compiler: gcc 11.5.0 20240719 (Red Hat 11.5.0-2) Debian 12 Kernel: Depends on container host Compiler: gcc (Debian 12.2.0-14) 12.2.0 Fedora 40 (Clang) Kernel: Depends on container host Compiler: clang 18.1.8 (Fedora 18.1.8-1.fc40) Fedora 40 Kernel: Depends on container host Compiler: gcc 14.2.1 20240912 (Red Hat 14.2.1-3) RHEL9 Kernel: Depends on container host Compiler: gcc 11.5.0 20240719 (Red Hat 11.5.0-2) Fedora 41 (Clang) Kernel: Depends on container host Compiler: clang 19.1.5 (Fedora 19.1.5-1.fc41) Fedora 41 Kernel: Depends on container host Compiler: gcc 14.2.1 20240912 (Red Hat 14.2.1-3) openSUSE Leap 15 Kernel: Depends on container host Compiler: gcc (SUSE Linux) 7.5.0 RHEL8 Kernel: Depends on container host Compiler: gcc 8.5.0 20210514 (Red Hat 8.5.0-22) Ubuntu 22.04 Kernel: Depends on container host Compiler: gcc (Ubuntu 11.4.0-1ubuntu1~22.04) 11.4.0 Ubuntu 24.04 Kernel: Depends on container host Compiler: gcc (Ubuntu 13.3.0-6ubuntu2~24.04) 13.3.0 To view detailed results, visit: https://lab.dpdk.org/results/dashboard/patchsets/33191/ UNH-IOL DPDK Community Lab To manage your email subscriptions, visit: https://lab.dpdk.org/results/dashboard/preferences/subscriptions/