From mboxrd@z Thu Jan 1 00:00:00 1970 Return-Path: Received: from mails.dpdk.org (mails.dpdk.org [217.70.189.124]) by inbox.dpdk.org (Postfix) with ESMTP id 6A33846764 for ; Fri, 16 May 2025 18:23:39 +0200 (CEST) Received: from mails.dpdk.org (localhost [127.0.0.1]) by mails.dpdk.org (Postfix) with ESMTP id 3C229402ED; Fri, 16 May 2025 18:23:39 +0200 (CEST) Received: from mail-pl1-f226.google.com (mail-pl1-f226.google.com [209.85.214.226]) by mails.dpdk.org (Postfix) with ESMTP id B736B402CD for ; Fri, 16 May 2025 18:23:37 +0200 (CEST) Received: by mail-pl1-f226.google.com with SMTP id d9443c01a7336-22e331215dbso25790955ad.1 for ; Fri, 16 May 2025 09:23:37 -0700 (PDT) DKIM-Signature: v=1; a=rsa-sha256; c=relaxed/relaxed; d=iol.unh.edu; s=unh-iol; t=1747412616; x=1748017416; darn=dpdk.org; h=references:in-reply-to:cc:to:from:subject:message-id:date:from:to :cc:subject:date:message-id:reply-to; bh=btT84YoOhNhV5j3rk2XmUCEonO9VNddD3pSKu0Oyz3o=; b=YEub0pZPefy+rKQfMxYlPl4xhgnRiPnH5S40VwLSrODEtKxWPaI2TOfX6yNMmy9Omb +CQ/3qZDI/smoTf1bFpl05obL5mj5fq8FKAhNdSKnPmN/DMJ6n2syL9zH9XkE3Doll4L d+QH4/GvtAyAV8Id3OT/wz1qGb1jBoi4BrmAg= X-Google-DKIM-Signature: v=1; a=rsa-sha256; c=relaxed/relaxed; d=1e100.net; s=20230601; t=1747412616; x=1748017416; h=references:in-reply-to:cc:to:from:subject:message-id:date :x-gm-message-state:from:to:cc:subject:date:message-id:reply-to; bh=btT84YoOhNhV5j3rk2XmUCEonO9VNddD3pSKu0Oyz3o=; b=JSkRmcztkb+tx0S7wp5KoyjnPQNJHaBQGH4kByR88ZdD6sBv0ZwZHEZDGgQjrF2W5p /IVV1lS8U7oSpR2YLLWqqrelEhQVSrX3w7nBKVetRJAAdEsCKyI5+LaVuEGRsXONYdK7 oed6nyeHpXBQq33UTfRTpGWks7PLDdTpEehRDszcfY7DfZDRQctgLuPwDvAOX3qQ9NLL Ka8jYOe34ZBPLfUJCXfhouWACZDKyjffAejwklqUJ8WYg3jofna9UqfTLOg37KVkf1V9 BtXLbqFS3Z4d0+WnJOJ8CYUpAbVv/j2M3EFDTEzJ9LT3E4nbhgHq+oNj7Ecz/txD22kn aMTg== X-Gm-Message-State: AOJu0YzM8Gj61RMP/rzB61NbVYLgjrGgS3d692t87on6dytwZ5pmGFZV ++H8MGv716v/tyeCFuodsvwUimCinFdDWuxj6tSaywTdUv0AtTiSXqpuLHgc4gCkwDnxkHjDCzD ARyi5R6c5QVk2CJoGqwG2mg6E3/zq9Bb0UH4EVbbdLV3m X-Gm-Gg: ASbGncv1J4MPHzBZlRIWo9QpZTJnmnaBPKSbLg0fMkroHX/G+LdQPrErfWdhGqO72ZU 50nkYmyats9Dt1GhctEKySV6zxl11MDCVoRa0NhdrwpukmLg0KkN3XAvbglFmwzvS2NKusZ4Ltd 1vgJVM1rlLsI3iBeVs4nJQw309lq9qr6i6sLDUTnsZkMXsjlwt1BDiqSPs226L4z1vAo9HphUCI 1oA9Sb8t5fNZR8vTk7hA4jgY2dcnYw/PxvjYUnU8teTZIUXnS2bE9q6XkFrHYTwYQqv4bfuUKeL P1Tj0yliZzZ+0wT2A4TeaMNJx7cAMdSTfY6+b/1YsQ7iBP9aiTgzlcLheik= X-Google-Smtp-Source: AGHT+IErSudCqhMHYYk3HBe1tjEoz3hHZhvFUFWy+Yk5xFdIBII+7jBXYLflfTAC1nX8QYaU4LlR8RzosSxz X-Received: by 2002:a17:902:c943:b0:223:4d5e:76a6 with SMTP id d9443c01a7336-231d4ae1dc9mr49270985ad.1.1747412616329; Fri, 16 May 2025 09:23:36 -0700 (PDT) Received: from postal.iol.unh.edu (postal.iol.unh.edu. [132.177.123.84]) by smtp-relay.gmail.com with ESMTPS id d9443c01a7336-231d4eb9456sm1318095ad.96.2025.05.16.09.23.36 (version=TLS1_2 cipher=ECDHE-ECDSA-AES128-GCM-SHA256 bits=128/128); Fri, 16 May 2025 09:23:36 -0700 (PDT) X-Relaying-Domain: iol.unh.edu Date: Fri, 16 May 2025 09:23:36 -0700 (PDT) Message-ID: <68276688.170a0220.2a53f.713eSMTPIN_ADDED_MISSING@mx.google.com> Received: from [172.17.0.3] (unknown [172.18.0.74]) by postal.iol.unh.edu (Postfix) with ESMTP id 496986052471; Fri, 16 May 2025 12:23:35 -0400 (EDT) Subject: |SUCCESS| pw153476-153480 [PATCH] [v4,9/9] app/test: add zsda crypto From: dpdklab@iol.unh.edu To: Test Report Cc: dpdk-test-reports@iol.unh.edu In-Reply-To: <20250516072752.1971299-10-li.hanxiao@zte.com.cn> References: <20250516072752.1971299-10-li.hanxiao@zte.com.cn> Content-Type: text/plain X-BeenThere: test-report@dpdk.org X-Mailman-Version: 2.1.29 Precedence: list List-Id: automatic DPDK test reports List-Unsubscribe: , List-Archive: List-Post: List-Help: List-Subscribe: , Errors-To: test-report-bounces@dpdk.org Test-Label: iol-compile-arm64-testing Test-Status: SUCCESS http://dpdk.org/patch/153480 _Testing PASS_ Submitter: Hanxiao Li Date: Friday, May 16 2025 07:27:51 DPDK git baseline: Repo:dpdk Branch: master CommitID:dcf9f9363aa9b4163d241caf8b26a84ca0c0006b 153476-153480 --> testing pass Upstream job id: Generic-DPDK-Compile-Meson#388698 Test environment and result as below: +----------------------------------------+--------------------+ | Environment | dpdk_meson_compile | +========================================+====================+ | Ubuntu 20.04 ARM SVE | PASS | +----------------------------------------+--------------------+ | RHEL9 (ARM) | PASS | +----------------------------------------+--------------------+ | Ubuntu 20.04 ARM GCC Cross Compile | PASS | +----------------------------------------+--------------------+ | Ubuntu 20.04 (ARM) | PASS | +----------------------------------------+--------------------+ | Fedora 41 (ARM Clang) | PASS | +----------------------------------------+--------------------+ | Fedora 40 (ARM) | PASS | +----------------------------------------+--------------------+ | Ubuntu 22.04 (ARM) | PASS | +----------------------------------------+--------------------+ | Fedora 41 (ARM) | PASS | +----------------------------------------+--------------------+ | Fedora 40 (ARM Clang) | PASS | +----------------------------------------+--------------------+ | Debian 12 with MUSDK | PASS | +----------------------------------------+--------------------+ | CentOS Stream 9 (ARM) | PASS | +----------------------------------------+--------------------+ | Ubuntu 24.04 (ARM) | PASS | +----------------------------------------+--------------------+ | CentOS Stream 10 (ARM) | PASS | +----------------------------------------+--------------------+ | Ubuntu 20.04 aarch32 GCC Cross Compile | PASS | +----------------------------------------+--------------------+ | Debian 12 (arm) | PASS | +----------------------------------------+--------------------+ | Ubuntu 20.04 ARM Clang Cross Compile | PASS | +----------------------------------------+--------------------+ Ubuntu 20.04 ARM SVE Kernel: Depends on container host Compiler: gcc (Ubuntu 10.5.0-1ubuntu1~20.04) 10.5.0 RHEL9 (ARM) Kernel: Depends on container host Compiler: gcc 11.5.0 20240719 (Red Hat 11.5.0-2) Ubuntu 20.04 ARM GCC Cross Compile Kernel: Depends on container host Compiler: aarch64-linux-gnu-gcc (Ubuntu 9.4.0-1ubuntu1~20.04.2) 9.4.0 Ubuntu 20.04 (ARM) Kernel: Depends on container host Compiler: gcc (Ubuntu 9.4.0-1ubuntu1~20.04.2) 9.4.0 Fedora 41 (ARM Clang) Kernel: Depends on container host Compiler: clang 19.1.5 (Fedora 19.1.5-1.fc41) Fedora 40 (ARM) Kernel: Depends on container host Compiler: gcc 14.2.1 20240912 (Red Hat 14.2.1-3) Ubuntu 22.04 (ARM) Kernel: Depends on container host Compiler: gcc (Ubuntu 11.4.0-1ubuntu1~22.04) 11.4.0 Fedora 41 (ARM) Kernel: Depends on container host Compiler: gcc 14.2.1 20240912 (Red Hat 14.2.1-3) Fedora 40 (ARM Clang) Kernel: Depends on container host Compiler: clang 18.1.8 (Fedora 18.1.8-1.fc40) Debian 12 with MUSDK Kernel: Depends on container host Compiler: gcc (Debian 12.2.0-14) 12.2.0 CentOS Stream 9 (ARM) Kernel: Depends on container host Compiler: gcc 11.5.0 20240719 (Red Hat 11.5.0-2) Ubuntu 24.04 (ARM) Kernel: Depends on container host Compiler: gcc (Ubuntu 13.3.0-6ubuntu2~24.04) 13.3.0 CentOS Stream 10 (ARM) Kernel: Depends on container host Compiler: gcc 14.2.1 20241104 (Red Hat 14.2.1-6) Ubuntu 20.04 aarch32 GCC Cross Compile Kernel: Depends on container host Compiler: gcc 9.4.0 Debian 12 (arm) Kernel: Depends on container host Compiler: gcc (Debian 12.2.0-14) 12.2.0 Ubuntu 20.04 ARM Clang Cross Compile Kernel: Depends on container host Compiler: clang 10.0.0-4ubuntu1 To view detailed results, visit: https://lab.dpdk.org/results/dashboard/patchsets/33189/ UNH-IOL DPDK Community Lab To manage your email subscriptions, visit: https://lab.dpdk.org/results/dashboard/preferences/subscriptions/