From mboxrd@z Thu Jan 1 00:00:00 1970 Return-Path: Received: from mails.dpdk.org (mails.dpdk.org [217.70.189.124]) by inbox.dpdk.org (Postfix) with ESMTP id 0276F46764 for ; Fri, 16 May 2025 18:42:19 +0200 (CEST) Received: from mails.dpdk.org (localhost [127.0.0.1]) by mails.dpdk.org (Postfix) with ESMTP id CF24C402CD; Fri, 16 May 2025 18:42:19 +0200 (CEST) Received: from mail-yw1-f228.google.com (mail-yw1-f228.google.com [209.85.128.228]) by mails.dpdk.org (Postfix) with ESMTP id B9F29402B1 for ; Fri, 16 May 2025 18:42:18 +0200 (CEST) Received: by mail-yw1-f228.google.com with SMTP id 00721157ae682-7053f85f059so20898667b3.2 for ; Fri, 16 May 2025 09:42:18 -0700 (PDT) DKIM-Signature: v=1; a=rsa-sha256; c=relaxed/relaxed; d=iol.unh.edu; s=unh-iol; t=1747413738; x=1748018538; darn=dpdk.org; h=references:in-reply-to:cc:to:from:subject:message-id:date:from:to :cc:subject:date:message-id:reply-to; bh=mcUDTpodf3qIBpttThEXOFbikt0kPi6iJpyrO4jiuzA=; b=VxsuiLUH8s96JA0dGn35Ag9vMi8Ap3UVrm3mRQjGT0yr/ntWoEjOJvT3I9TKv9eeK3 ZI45KXXU4ol/1FD5HcChDgLqcvyjUqgvww8EgiSrD4DlU/5jdsYzYTpmt2kijS4Y5r+f Zvo9H/myR6I76M9LBjGFVS4BmlZoChdDRclqE= X-Google-DKIM-Signature: v=1; a=rsa-sha256; c=relaxed/relaxed; d=1e100.net; s=20230601; t=1747413738; x=1748018538; h=references:in-reply-to:cc:to:from:subject:message-id:date :x-gm-message-state:from:to:cc:subject:date:message-id:reply-to; bh=mcUDTpodf3qIBpttThEXOFbikt0kPi6iJpyrO4jiuzA=; b=jjuI0BpUNC+7N7IbVGEESGH6/xqDJP32KZG2aguj4Wj9CIikTI4yhDCeQNl/I1Y+c2 VLtrMwl6pBZv3Y4PMi7+3TemhBpwEDopHvWx4kLd5f9TkcawYmPftD/U12QiWSw3SvxQ Fq3hAJQ761Tqch/rM23REwmbwm64vfVP2S04pkE73nD2NGg3ZOFxaoYxBxMR9r4rdQM5 vqD5IGAItQIpE8aL4axvGgEJkuBml2Jxt7Ogk9bbQTTCpYWRYl7yubrtZrH3BSm5Q8CB sXd4sZAarKUxc2gXQXObZyzmlUib/xwXn0yDu1Knj4p9++US2A/0CXF8DyfuA4jV1vgW aAIQ== X-Gm-Message-State: AOJu0YwTYEuho9DICo2me6ezcYHqumRZksZfOAvTihRpBEVqRht3DSow aCHcmtot9bmXnNa4jTg6N9igLIcH7xNcghXcjTBs9rePPhhrmPrVN7ebd8npp1z1Xt64x4P3iuW wsW98AoOOHzO7aYtdfY8F73l/tGXsFPLsNy5kxroqYhGx X-Gm-Gg: ASbGnctsnCy00DliqA8nAG+Ku5T9p9TkWaXoj8VEpHs+qa4rqmhbDWhU86Fzk5lr04N GPqtsR4a+yS2X6mrpnZxH1ukX4CgP0Vc8fyjOjjhCV6yvY1WSnVb6iPcYMispX8KTdDVKfg2rI0 PKJ+xsPeqcQ92ptWQecl66GbP4N7mjKDbagvbRAkho27wlojJTMF6zvVdCFRzZsnfAL9/yfQyXN U5xev8m8FJk93IQvueG0oTsK2QtemBIwmtUnE7JLFOTlHUBn1y0RT5zWXoqIlMyyAnV4UGp1BFu RY20Kg8D249+S25EHuF+Fb+uOz5WFgljtSfihPK5WYE6g+zQJwtCIKq1e7M= X-Google-Smtp-Source: AGHT+IFwFMUAuJb4ex9MIy1qnSJO8r0Q5PvvBhgsSHlVlDvNbSIn5f70KgOhK3UEFNaJfOP0O1M2xf/dOumG X-Received: by 2002:a05:690c:650e:b0:702:5926:8609 with SMTP id 00721157ae682-70ca79e1580mr58348917b3.12.1747413737947; Fri, 16 May 2025 09:42:17 -0700 (PDT) Received: from postal.iol.unh.edu (postal.iol.unh.edu. [132.177.123.84]) by smtp-relay.gmail.com with ESMTPS id 00721157ae682-70ca84f3bddsm640117b3.61.2025.05.16.09.42.17 (version=TLS1_2 cipher=ECDHE-ECDSA-AES128-GCM-SHA256 bits=128/128); Fri, 16 May 2025 09:42:17 -0700 (PDT) X-Relaying-Domain: iol.unh.edu Date: Fri, 16 May 2025 09:42:17 -0700 (PDT) Message-ID: <68276ae9.050a0220.142f8e.3532SMTPIN_ADDED_MISSING@mx.google.com> Received: from [172.21.0.5] (unknown [172.18.0.240]) by postal.iol.unh.edu (Postfix) with ESMTP id A54386052471; Fri, 16 May 2025 12:42:17 -0400 (EDT) Subject: |SUCCESS| pw153485 [PATCH] doc: add limitation in using segment-sz i From: dpdklab@iol.unh.edu To: Test Report Cc: dpdk-test-reports@iol.unh.edu In-Reply-To: <20250516121043.145572-1-gakhil@marvell.com> References: <20250516121043.145572-1-gakhil@marvell.com> Content-Type: text/plain X-BeenThere: test-report@dpdk.org X-Mailman-Version: 2.1.29 Precedence: list List-Id: automatic DPDK test reports List-Unsubscribe: , List-Archive: List-Post: List-Help: List-Subscribe: , Errors-To: test-report-bounces@dpdk.org Test-Label: iol-unit-amd64-testing Test-Status: SUCCESS http://dpdk.org/patch/153485 _Testing PASS_ Submitter: Akhil Goyal Date: Friday, May 16 2025 12:10:43 DPDK git baseline: Repo:dpdk Branch: master CommitID:dcf9f9363aa9b4163d241caf8b26a84ca0c0006b 153485 --> testing pass Upstream job id: Generic-VM-Unit-Test-DPDK#28576 Test environment and result as below: +---------------------+----------------+ | Environment | dpdk_unit_test | +=====================+================+ | CentOS Stream 10 | PASS | +---------------------+----------------+ | CentOS Stream 9 | PASS | +---------------------+----------------+ | Debian 12 | PASS | +---------------------+----------------+ | Fedora 40 | PASS | +---------------------+----------------+ | Fedora 41 (Clang) | PASS | +---------------------+----------------+ | RHEL8 | PASS | +---------------------+----------------+ | Ubuntu 20.04 | PASS | +---------------------+----------------+ | RHEL9 | PASS | +---------------------+----------------+ | Fedora 41 | PASS | +---------------------+----------------+ | Ubuntu 22.04 | PASS | +---------------------+----------------+ | Ubuntu 24.04 | PASS | +---------------------+----------------+ | Fedora 40 (Clang) | PASS | +---------------------+----------------+ | Windows Server 2022 | PASS | +---------------------+----------------+ CentOS Stream 10 Kernel: Depends on container host Compiler: gcc 14.2.1 20241104 (Red Hat 14.2.1-6) CentOS Stream 9 Kernel: Depends on container host Compiler: gcc 11.5.0 20240719 (Red Hat 11.5.0-2) Debian 12 Kernel: Depends on container host Compiler: gcc (Debian 12.2.0-14) 12.2.0 Fedora 40 Kernel: Depends on container host Compiler: gcc 14.2.1 20240912 (Red Hat 14.2.1-3) Fedora 41 (Clang) Kernel: Depends on container host Compiler: clang 19.1.5 (Fedora 19.1.5-1.fc41) RHEL8 Kernel: Depends on container host Compiler: gcc 8.5.0 20210514 (Red Hat 8.5.0-22) Ubuntu 20.04 Kernel: Depends on container host Compiler: gcc (Ubuntu 9.4.0-1ubuntu1~20.04.2) 9.4.0 RHEL9 Kernel: Depends on container host Compiler: gcc 11.5.0 20240719 (Red Hat 11.5.0-2) Fedora 41 Kernel: Depends on container host Compiler: gcc 14.2.1 20240912 (Red Hat 14.2.1-3) Ubuntu 22.04 Kernel: Depends on container host Compiler: gcc (Ubuntu 11.4.0-1ubuntu1~22.04) 11.4.0 Ubuntu 24.04 Kernel: Depends on container host Compiler: gcc (Ubuntu 13.3.0-6ubuntu2~24.04) 13.3.0 Fedora 40 (Clang) Kernel: Depends on container host Compiler: clang 18.1.8 (Fedora 18.1.8-1.fc40) Windows Server 2022 Kernel: 10.0.20348.2031 Compiler: clang 15.0.7, gcc 14.1.0 (MinGW), and MSVC VS 19.39.33521 To view detailed results, visit: https://lab.dpdk.org/results/dashboard/patchsets/33191/ UNH-IOL DPDK Community Lab To manage your email subscriptions, visit: https://lab.dpdk.org/results/dashboard/preferences/subscriptions/