From mboxrd@z Thu Jan 1 00:00:00 1970 Return-Path: Received: from mails.dpdk.org (mails.dpdk.org [217.70.189.124]) by inbox.dpdk.org (Postfix) with ESMTP id 939CD46764 for ; Fri, 16 May 2025 19:37:11 +0200 (CEST) Received: from mails.dpdk.org (localhost [127.0.0.1]) by mails.dpdk.org (Postfix) with ESMTP id 9086340615; Fri, 16 May 2025 19:37:11 +0200 (CEST) Received: from mail-io1-f97.google.com (mail-io1-f97.google.com [209.85.166.97]) by mails.dpdk.org (Postfix) with ESMTP id 507104065D for ; Fri, 16 May 2025 19:37:10 +0200 (CEST) Received: by mail-io1-f97.google.com with SMTP id ca18e2360f4ac-8616987c261so91029839f.3 for ; Fri, 16 May 2025 10:37:10 -0700 (PDT) DKIM-Signature: v=1; a=rsa-sha256; c=relaxed/relaxed; d=iol.unh.edu; s=unh-iol; t=1747417029; x=1748021829; darn=dpdk.org; h=cc:to:from:subject:message-id:date:from:to:cc:subject:date :message-id:reply-to; bh=PEOiFzZVMogD5lnd4XQq1zL7fk70Zvfz7GlLIz0muxM=; b=Pw99/JQE+qGfewC2YhxNRuCHLgwibyrAhiLDeZm9WrrkDwT16gPckpWtjvYtRcX7It lz1ID62PYSgtTmRqNHksdCl0Cn4sNrJ5+7IUOYrXZFM6DXDjx9urqasQlQYsjAzNdywn ULFyEFR5jIi0ZK0VESvnmgZN3tfWneLjk7WV8= X-Google-DKIM-Signature: v=1; a=rsa-sha256; c=relaxed/relaxed; d=1e100.net; s=20230601; t=1747417029; x=1748021829; h=cc:to:from:subject:message-id:date:x-gm-message-state:from:to:cc :subject:date:message-id:reply-to; bh=PEOiFzZVMogD5lnd4XQq1zL7fk70Zvfz7GlLIz0muxM=; b=LFMtRSBHCdJJlXihu6mJ2PMcIqGMiQ4FStATHSLzz8eIQ3jPlLpuwkL0g/YJtQ2zQf U2PwU36QHoqPqhcDiCb9Lv2pjZd4JkQEVVoInIloLlUjw4TlXVGpNZqBvHHOGpxwZNg/ oPIbGeMMnoYLlgBkHNwbmHWZdRdDBhNArQvNoaQlxBSdKm2Ek4SBehAnqXhDP+oIHvFt +cL0sFFgK7W6blN0qm4BhTO177kVkCozgg5XzWROOw8T9Y4sYft48xopzaH+mLI9dAhG Gh0CTDhQQzxEtiS8z8iaWo2/y2mNb/5sypoujdvXmihpppdqeQidyyeyZS26/0wKglbO SHbQ== X-Gm-Message-State: AOJu0Yxprzq5A8WrlaFb59new3aKCJmNfakgg7ziKbw3T8EfwKJUsE69 zNk/ZZZA00zYVsMu3Cp6+aHSrwxeT4H6m76U1Kw9RtgmEltsVu/b4L9c7K/ESdc8+c3YgMZvPwk XClxkuu1z4ycBXCppbeHfc2tN9Vh6M1jQOHpcJIjRMj3lX2qTRLRnJsvltotA X-Gm-Gg: ASbGncux1NVb56WYG/R83gMX1G324l+GLhl0aW6fAVSqxJMBA5FVdn/bGGmd/5Y9iJM IGwgTH0O7wqQBS9Y0a1k+kRvo3Y6ds82u6hF2TLLB/hYqbzzTCAc3Sx8+Q9rZ8KnuHRoWm0TIyi GSDsm3+K+IvMrSERB9xE7q/jWyV9H0CB/HzFD/fpHqxGXZKQLPwz8/EqNQCn6P5rcHwWpjXG6Oc oAjyxnwrYufdCJTq/Mdp5M6By9wsQHKCWwPLlSg6RmmxedJOk/REKo9VnORmism9q/zC9TljX9G 6KeuIkOAFHrfG/JV9uMj04aCvNf0YA5uPY90 X-Google-Smtp-Source: AGHT+IFw76YwCSfUE9/pRk/2hNR/mgf+My3f/mlIy4pbEIvzNDmQfW6fFD+14gQrp+djc/eYUvH0RFCIc6DH X-Received: by 2002:a05:6e02:349c:b0:3d8:1ea5:26d1 with SMTP id e9e14a558f8ab-3db8433e229mr60142675ab.18.1747417029576; Fri, 16 May 2025 10:37:09 -0700 (PDT) Received: from postal.iol.unh.edu (postal.iol.unh.edu. [2606:4100:3880:1234::84]) by smtp-relay.gmail.com with ESMTPS id 8926c6da1cb9f-4fbcc4a6173sm116690173.69.2025.05.16.10.37.09 (version=TLS1_2 cipher=ECDHE-ECDSA-AES128-GCM-SHA256 bits=128/128); Fri, 16 May 2025 10:37:09 -0700 (PDT) X-Relaying-Domain: iol.unh.edu Date: Fri, 16 May 2025 10:37:09 -0700 (PDT) Message-ID: <682777c5.020a0220.2e7204.5cf2SMTPIN_ADDED_MISSING@mx.google.com> Received: from [172.21.0.8] (unknown [172.18.0.240]) by postal.iol.unh.edu (Postfix) with ESMTP id 17CFF6052471; Fri, 16 May 2025 13:37:09 -0400 (EDT) Subject: |SUCCESS| [GIT MASTER] 51e889518fc861f1af5acbbc133a75203225655c From: dpdklab@iol.unh.edu To: Test Report Cc: dpdk-test-reports@iol.unh.edu, Bruce Richardson Content-Type: text/plain X-BeenThere: test-report@dpdk.org X-Mailman-Version: 2.1.29 Precedence: list List-Id: automatic DPDK test reports List-Unsubscribe: , List-Archive: List-Post: List-Help: List-Subscribe: , Errors-To: test-report-bounces@dpdk.org _Testing PASS_ Branch: dpdk-next-net-intel 51e889518fc861f1af5acbbc133a75203225655c --> testing pass Upstream job id: Generic-DPDK-Compile-Meson#388710 Test environment and result as below: +----------------------------------------+--------------------+ | Environment | dpdk_meson_compile | +========================================+====================+ | RHEL9 (ARM) | PASS | +----------------------------------------+--------------------+ | Ubuntu 20.04 ARM SVE | PASS | +----------------------------------------+--------------------+ | Debian 12 with MUSDK | PASS | +----------------------------------------+--------------------+ | Fedora 40 (ARM) | PASS | +----------------------------------------+--------------------+ | Fedora 40 (ARM Clang) | PASS | +----------------------------------------+--------------------+ | Fedora 41 (ARM) | PASS | +----------------------------------------+--------------------+ | Fedora 41 (ARM Clang) | PASS | +----------------------------------------+--------------------+ | Ubuntu 20.04 (ARM) | PASS | +----------------------------------------+--------------------+ | Ubuntu 22.04 (ARM) | PASS | +----------------------------------------+--------------------+ | Ubuntu 24.04 (ARM) | PASS | +----------------------------------------+--------------------+ | CentOS Stream 9 (ARM) | PASS | +----------------------------------------+--------------------+ | CentOS Stream 10 (ARM) | PASS | +----------------------------------------+--------------------+ | Debian 12 (arm) | PASS | +----------------------------------------+--------------------+ | Ubuntu 20.04 ARM Clang Cross Compile | PASS | +----------------------------------------+--------------------+ | Ubuntu 20.04 aarch32 GCC Cross Compile | PASS | +----------------------------------------+--------------------+ | Ubuntu 20.04 ARM GCC Cross Compile | PASS | +----------------------------------------+--------------------+ RHEL9 (ARM) Kernel: Depends on container host Compiler: gcc 11.5.0 20240719 (Red Hat 11.5.0-2) Ubuntu 20.04 ARM SVE Kernel: Depends on container host Compiler: gcc (Ubuntu 10.5.0-1ubuntu1~20.04) 10.5.0 Debian 12 with MUSDK Kernel: Depends on container host Compiler: gcc (Debian 12.2.0-14) 12.2.0 Fedora 40 (ARM) Kernel: Depends on container host Compiler: gcc 14.2.1 20240912 (Red Hat 14.2.1-3) Fedora 40 (ARM Clang) Kernel: Depends on container host Compiler: clang 18.1.8 (Fedora 18.1.8-1.fc40) Fedora 41 (ARM) Kernel: Depends on container host Compiler: gcc 14.2.1 20240912 (Red Hat 14.2.1-3) Fedora 41 (ARM Clang) Kernel: Depends on container host Compiler: clang 19.1.5 (Fedora 19.1.5-1.fc41) Ubuntu 20.04 (ARM) Kernel: Depends on container host Compiler: gcc (Ubuntu 9.4.0-1ubuntu1~20.04.2) 9.4.0 Ubuntu 22.04 (ARM) Kernel: Depends on container host Compiler: gcc (Ubuntu 11.4.0-1ubuntu1~22.04) 11.4.0 Ubuntu 24.04 (ARM) Kernel: Depends on container host Compiler: gcc (Ubuntu 13.3.0-6ubuntu2~24.04) 13.3.0 CentOS Stream 9 (ARM) Kernel: Depends on container host Compiler: gcc 11.5.0 20240719 (Red Hat 11.5.0-2) CentOS Stream 10 (ARM) Kernel: Depends on container host Compiler: gcc 14.2.1 20241104 (Red Hat 14.2.1-6) Debian 12 (arm) Kernel: Depends on container host Compiler: gcc (Debian 12.2.0-14) 12.2.0 Ubuntu 20.04 ARM Clang Cross Compile Kernel: Depends on container host Compiler: clang 10.0.0-4ubuntu1 Ubuntu 20.04 aarch32 GCC Cross Compile Kernel: Depends on container host Compiler: gcc 9.4.0 Ubuntu 20.04 ARM GCC Cross Compile Kernel: Depends on container host Compiler: aarch64-linux-gnu-gcc (Ubuntu 9.4.0-1ubuntu1~20.04.2) 9.4.0 To view detailed results, visit: https://lab.dpdk.org/results/dashboard/tarballs/33557/ UNH-IOL DPDK Community Lab To manage your email subscriptions, visit: https://lab.dpdk.org/results/dashboard/preferences/subscriptions/