From mboxrd@z Thu Jan 1 00:00:00 1970 Return-Path: Received: from mails.dpdk.org (mails.dpdk.org [217.70.189.124]) by inbox.dpdk.org (Postfix) with ESMTP id B7A6846764 for ; Fri, 16 May 2025 19:38:02 +0200 (CEST) Received: from mails.dpdk.org (localhost [127.0.0.1]) by mails.dpdk.org (Postfix) with ESMTP id B00C4402EB; Fri, 16 May 2025 19:38:02 +0200 (CEST) Received: from mail-qt1-f227.google.com (mail-qt1-f227.google.com [209.85.160.227]) by mails.dpdk.org (Postfix) with ESMTP id 709F8402CD for ; Fri, 16 May 2025 19:38:01 +0200 (CEST) Received: by mail-qt1-f227.google.com with SMTP id d75a77b69052e-4769aef457bso29671981cf.2 for ; Fri, 16 May 2025 10:38:01 -0700 (PDT) DKIM-Signature: v=1; a=rsa-sha256; c=relaxed/relaxed; d=iol.unh.edu; s=unh-iol; t=1747417081; x=1748021881; darn=dpdk.org; h=references:in-reply-to:cc:to:from:subject:message-id:date:from:to :cc:subject:date:message-id:reply-to; bh=W62/iAMHtRgNndW/ZUu+RRNCAJSNSUccamg2zT+v4nE=; b=KkdpOHo+qj+KB2TEmbYNFGru/ctUddkSQMxdD7uE1M+VQmz/SwVf8Z3oazc82xqXmS ZUrZes91fbx43pycj7aV0bV2h8+sFYRwJiy55ApXsLKesEecGFKhUQnSsrVrSK/zCkwG BlH4+HZm4C7HVNaXSoWqIk0CeOey+MeePO6oA= X-Google-DKIM-Signature: v=1; a=rsa-sha256; c=relaxed/relaxed; d=1e100.net; s=20230601; t=1747417081; x=1748021881; h=references:in-reply-to:cc:to:from:subject:message-id:date :x-gm-message-state:from:to:cc:subject:date:message-id:reply-to; bh=W62/iAMHtRgNndW/ZUu+RRNCAJSNSUccamg2zT+v4nE=; b=LlDRJVb2B5ra4u9rkfjnYRIz2W6oA5wPIHGViSQ54cNpArznWlCjPMee6WKWLV1ev0 IUDdU1+B5QKsE0h7PSzWldYjipwcevQsBlFZW7K7Pc4bStz9CzGGinqHudaYumNSk4AF MG1saCojGbOded3VQDRjvBJOK70Od/kmMwLWgh7dj8BhMl5SkrUWM8vysRc3qgrPheK2 jZhr3voKrrwJ5JWeFdLTPsEJE4C1JKrz5g/ZWcQfp13xYfWCAEeSp/os9SX7ixtWUNT0 XTQgrQ93vzQyyEljSzzKUbLwqdWAadvFHT1Jw1LUDyp11ydDldjjsqbBRhvV4+YIvvmy 4/ow== X-Gm-Message-State: AOJu0YzLOJQSi7b+sdEF8ac+gkmZqOSzGtfurvJJkKfkfzKUOM4o99L6 5iqZgcp9h5j7NNIroTh5BdhsxdCF8Y2sgbg3pKH9mwSkPVi/tiuBaxpTSDh+JtQW3pFeyTHpeAy A+sQAYwbuKmu77hqv9Zcnt136k0Lia/okFjvTZwuWad1X X-Gm-Gg: ASbGncuzrkL09Yw0uooVtNTTcb01zDm9Juokj7/Lq8y4vwvdO8ndl1JbVjXyLkcrc2n gZR5XseeVSmvMH041Tniu+Qb3h/rSGUg6RZXXLbILKs8p3mckpL6N+N/e7Qbq5PaR1BTu5N75d/ MYwMzK2Q2f383x9dYeWEdkeTbLlildmpo+DsE3ovJS/bwmfYrDluJ7T6i2yznuzcz5Vws29pAye pKy8TC6PuecZHpGOJi8+SPwL4gvF5XhKOCiXj9+MyTpM5epvyksCuSzQAQX2moQIc6wNaqeDFV/ +A7BJwLdtDD/0UckwFjolzPVw3vRH1dGu2s8pg+o1NvTm2HffRQ6No5HGRk= X-Google-Smtp-Source: AGHT+IFe/PbU4CN/YdJ7KVGIml9bVhyoh+Jcn2DteuiweTWwcXVkOVyiRdyXkV/Se1ZTEd3S2niCUfTrVwml X-Received: by 2002:a05:622a:2506:b0:476:a03b:96e1 with SMTP id d75a77b69052e-494ae4b172fmr90400401cf.52.1747417080740; Fri, 16 May 2025 10:38:00 -0700 (PDT) Received: from postal.iol.unh.edu (postal.iol.unh.edu. [132.177.123.84]) by smtp-relay.gmail.com with ESMTPS id d75a77b69052e-494ae42c5b5sm1049401cf.12.2025.05.16.10.38.00 (version=TLS1_2 cipher=ECDHE-ECDSA-AES128-GCM-SHA256 bits=128/128); Fri, 16 May 2025 10:38:00 -0700 (PDT) X-Relaying-Domain: iol.unh.edu Date: Fri, 16 May 2025 10:38:00 -0700 (PDT) Message-ID: <682777f8.c80a0220.c1f08.5cccSMTPIN_ADDED_MISSING@mx.google.com> Received: from [172.21.0.5] (unknown [172.18.0.240]) by postal.iol.unh.edu (Postfix) with ESMTP id 3B45A6052471; Fri, 16 May 2025 13:38:00 -0400 (EDT) Subject: |SUCCESS| pw153488 [PATCH] config/arm: update neoverse n3 SoC and ad From: dpdklab@iol.unh.edu To: Test Report Cc: dpdk-test-reports@iol.unh.edu In-Reply-To: <20250516161558.1482246-1-doug.foster@arm.com> References: <20250516161558.1482246-1-doug.foster@arm.com> Content-Type: text/plain X-BeenThere: test-report@dpdk.org X-Mailman-Version: 2.1.29 Precedence: list List-Id: automatic DPDK test reports List-Unsubscribe: , List-Archive: List-Post: List-Help: List-Subscribe: , Errors-To: test-report-bounces@dpdk.org Test-Label: iol-unit-amd64-testing Test-Status: SUCCESS http://dpdk.org/patch/153488 _Testing PASS_ Submitter: Doug Foster Date: Friday, May 16 2025 16:15:58 DPDK git baseline: Repo:dpdk Branch: master CommitID:117e86c4b96ed761e9a7ab766261208fe81bf5ca 153488 --> testing pass Upstream job id: Generic-Unit-Test-DPDK#338540 Test environment and result as below: +---------------------+----------------+ | Environment | dpdk_unit_test | +=====================+================+ | Fedora 40 | PASS | +---------------------+----------------+ | Fedora 40 (Clang) | PASS | +---------------------+----------------+ | CentOS Stream 9 | PASS | +---------------------+----------------+ | CentOS Stream 10 | PASS | +---------------------+----------------+ | Fedora 41 (Clang) | PASS | +---------------------+----------------+ | Debian 12 | PASS | +---------------------+----------------+ | Fedora 41 | PASS | +---------------------+----------------+ | Ubuntu 20.04 | PASS | +---------------------+----------------+ | RHEL8 | PASS | +---------------------+----------------+ | Ubuntu 24.04 | PASS | +---------------------+----------------+ | Ubuntu 22.04 | PASS | +---------------------+----------------+ | RHEL9 | PASS | +---------------------+----------------+ | Windows Server 2022 | PASS | +---------------------+----------------+ Fedora 40 Kernel: Depends on container host Compiler: gcc 14.2.1 20240912 (Red Hat 14.2.1-3) Fedora 40 (Clang) Kernel: Depends on container host Compiler: clang 18.1.8 (Fedora 18.1.8-1.fc40) CentOS Stream 9 Kernel: Depends on container host Compiler: gcc 11.5.0 20240719 (Red Hat 11.5.0-2) CentOS Stream 10 Kernel: Depends on container host Compiler: gcc 14.2.1 20241104 (Red Hat 14.2.1-6) Fedora 41 (Clang) Kernel: Depends on container host Compiler: clang 19.1.5 (Fedora 19.1.5-1.fc41) Debian 12 Kernel: Depends on container host Compiler: gcc (Debian 12.2.0-14) 12.2.0 Fedora 41 Kernel: Depends on container host Compiler: gcc 14.2.1 20240912 (Red Hat 14.2.1-3) Ubuntu 20.04 Kernel: Depends on container host Compiler: gcc (Ubuntu 9.4.0-1ubuntu1~20.04.2) 9.4.0 RHEL8 Kernel: Depends on container host Compiler: gcc 8.5.0 20210514 (Red Hat 8.5.0-22) Ubuntu 24.04 Kernel: Depends on container host Compiler: gcc (Ubuntu 13.3.0-6ubuntu2~24.04) 13.3.0 Ubuntu 22.04 Kernel: Depends on container host Compiler: gcc (Ubuntu 11.4.0-1ubuntu1~22.04) 11.4.0 RHEL9 Kernel: Depends on container host Compiler: gcc 11.5.0 20240719 (Red Hat 11.5.0-2) Windows Server 2022 Kernel: 10.0.20348.2031 Compiler: clang 15.0.7, gcc 14.1.0 (MinGW), and MSVC VS 19.39.33521 To view detailed results, visit: https://lab.dpdk.org/results/dashboard/patchsets/33193/ UNH-IOL DPDK Community Lab To manage your email subscriptions, visit: https://lab.dpdk.org/results/dashboard/preferences/subscriptions/