From mboxrd@z Thu Jan 1 00:00:00 1970 Return-Path: Received: from mails.dpdk.org (mails.dpdk.org [217.70.189.124]) by inbox.dpdk.org (Postfix) with ESMTP id C289E46764 for ; Fri, 16 May 2025 19:47:13 +0200 (CEST) Received: from mails.dpdk.org (localhost [127.0.0.1]) by mails.dpdk.org (Postfix) with ESMTP id BFD81402CD; Fri, 16 May 2025 19:47:13 +0200 (CEST) Received: from mail-il1-f227.google.com (mail-il1-f227.google.com [209.85.166.227]) by mails.dpdk.org (Postfix) with ESMTP id 26921402B1 for ; Fri, 16 May 2025 19:47:12 +0200 (CEST) Received: by mail-il1-f227.google.com with SMTP id e9e14a558f8ab-3d9189e9a06so9331195ab.2 for ; Fri, 16 May 2025 10:47:12 -0700 (PDT) DKIM-Signature: v=1; a=rsa-sha256; c=relaxed/relaxed; d=iol.unh.edu; s=unh-iol; t=1747417631; x=1748022431; darn=dpdk.org; h=references:in-reply-to:cc:to:from:subject:message-id:date:from:to :cc:subject:date:message-id:reply-to; bh=DwxycJNdjKAcMjkihdBOFRtLDsCPXxAkmsvRV3MpepQ=; b=MT7oQ6Eom1IU1RtIGx6HxJCvk2YLblbzreLPKt066oeOOlLpygrC+KrbcOVxtiKXip 520O0ruT6icgh5DlKsgXLzatovLoC5EzEpULE66USnjyX11Ek8s9vP5cVvVTtoyY4A4T TdpWLzjUC5aIid57Ipnv2PJHNMXU1RIF0e+bw= X-Google-DKIM-Signature: v=1; a=rsa-sha256; c=relaxed/relaxed; d=1e100.net; s=20230601; t=1747417631; x=1748022431; h=references:in-reply-to:cc:to:from:subject:message-id:date :x-gm-message-state:from:to:cc:subject:date:message-id:reply-to; bh=DwxycJNdjKAcMjkihdBOFRtLDsCPXxAkmsvRV3MpepQ=; b=bXwHU+k8C9bNo4Usq/udwbwjC1FvJym7L3az9ZBsEY2U9+YzveMoLUzatCvqwaOaTr 1ElcdRcCHHb3fl34wBaIKTMRQH4XVpnislVcqLDKffRzeI9I9mJ/wpZTYvSb3lEeSGPw fPmZJe3Azw9NG+T6VFD+p6oHkT296BNLq4JYiolHRkz7IOJR4ONbN1kQVA3V30hmRpM+ bFxZZpTUj6sG+FXM0Rbl/OLQUjY4g1fS5JIW/zuv3Rrw/wWqR+kox6716g22CM9YSRNQ AvMX6K71PjJfCrAhvt3/6kM6+Lbq12nv0RilPKzi4DUo0K+f675G24pgoozt0Tm/Twep VPmA== X-Gm-Message-State: AOJu0YxINAHjOJKePVNjb/4lkgfV3NN/cAZQruHIy9QBLeWnJlZThFXt 1nLscBUf7eFWBz1SrzCYxUJiqYaSPvP62HKZ0MkFAXKPCpiKjT8TJpk6CKwWneKsbofNqTZbztN ifxWYUhi8aBKqqifVWzQ7L6YGPgydr0h5LhCPnzlfG0xNwJJWEV+YUFYJw1Bv X-Gm-Gg: ASbGnctvUC8jaNNB3vMsiyGpmZNdPJT+7DPkRAlg3tdA8p1RXon0mR5K4p1TwnVaGMl iPeIYTmQz2mWi8I27jd1fWzQ3v3BA/gtbintWkoR9pfE+ioh9vqxXj6Ym39GdupjESTu3B7yLFA WR62OYxut0U6qkltytOfRZRTmXb+LNR/BDRtoxUgZg1Xg5VYtI5ta8u78K1q0w9XZk/VoIX6GK5 3qRK8TSqTXOCvqgKTHJDWXDVBNXXwDZISIi0zyiczJrmLpp3rOcZofJfnj5yXt3pzKQm6xQIdpP eVXUxDdTs/cWYfXzf+Lr8AFrCl1pPt/D1N0o X-Google-Smtp-Source: AGHT+IFf79R9ZL/oQv9ReZlAl/zvHCwRGIak2QeLenjceU6H4NsBTw39VeYB2AGKVmt4Eo1lHs7QyMjYtRs+ X-Received: by 2002:a05:6e02:198c:b0:3da:71c3:f548 with SMTP id e9e14a558f8ab-3db85792a1dmr42208595ab.18.1747417631334; Fri, 16 May 2025 10:47:11 -0700 (PDT) Received: from postal.iol.unh.edu (postal.iol.unh.edu. [2606:4100:3880:1234::84]) by smtp-relay.gmail.com with ESMTPS id 8926c6da1cb9f-4fbcc3769eesm105430173.6.2025.05.16.10.47.11 (version=TLS1_2 cipher=ECDHE-ECDSA-AES128-GCM-SHA256 bits=128/128); Fri, 16 May 2025 10:47:11 -0700 (PDT) X-Relaying-Domain: iol.unh.edu Date: Fri, 16 May 2025 10:47:11 -0700 (PDT) Message-ID: <68277a1f.050a0220.15b48e.5946SMTPIN_ADDED_MISSING@mx.google.com> Received: from [172.21.0.11] (unknown [172.18.0.240]) by postal.iol.unh.edu (Postfix) with ESMTP id D29F16052471; Fri, 16 May 2025 13:47:10 -0400 (EDT) Subject: |SUCCESS| pw153488 [PATCH] config/arm: update neoverse n3 SoC and ad From: dpdklab@iol.unh.edu To: Test Report Cc: dpdk-test-reports@iol.unh.edu In-Reply-To: <20250516161558.1482246-1-doug.foster@arm.com> References: <20250516161558.1482246-1-doug.foster@arm.com> Content-Type: text/plain X-BeenThere: test-report@dpdk.org X-Mailman-Version: 2.1.29 Precedence: list List-Id: automatic DPDK test reports List-Unsubscribe: , List-Archive: List-Post: List-Help: List-Subscribe: , Errors-To: test-report-bounces@dpdk.org Test-Label: iol-abi-testing Test-Status: SUCCESS http://dpdk.org/patch/153488 _Testing PASS_ Submitter: Doug Foster Date: Friday, May 16 2025 16:15:58 DPDK git baseline: Repo:dpdk Branch: master CommitID:117e86c4b96ed761e9a7ab766261208fe81bf5ca 153488 --> testing pass Upstream job id: Generic-DPDK-Compile-ABI#126702 Test environment and result as below: +-------------------+----------+ | Environment | abi_test | +===================+==========+ | CentOS Stream 10 | PASS | +-------------------+----------+ | CentOS Stream 9 | PASS | +-------------------+----------+ | Fedora 40 (Clang) | PASS | +-------------------+----------+ | Debian 12 | PASS | +-------------------+----------+ | Fedora 40 | PASS | +-------------------+----------+ | Fedora 41 | PASS | +-------------------+----------+ | Fedora 41 (Clang) | PASS | +-------------------+----------+ | RHEL8 | PASS | +-------------------+----------+ | Ubuntu 22.04 | PASS | +-------------------+----------+ | openSUSE Leap 15 | PASS | +-------------------+----------+ | RHEL9 | PASS | +-------------------+----------+ | Ubuntu 24.04 | PASS | +-------------------+----------+ CentOS Stream 10 Kernel: Depends on container host Compiler: gcc 14.2.1 20241104 (Red Hat 14.2.1-6) CentOS Stream 9 Kernel: Depends on container host Compiler: gcc 11.5.0 20240719 (Red Hat 11.5.0-2) Fedora 40 (Clang) Kernel: Depends on container host Compiler: clang 18.1.8 (Fedora 18.1.8-1.fc40) Debian 12 Kernel: Depends on container host Compiler: gcc (Debian 12.2.0-14) 12.2.0 Fedora 40 Kernel: Depends on container host Compiler: gcc 14.2.1 20240912 (Red Hat 14.2.1-3) Fedora 41 Kernel: Depends on container host Compiler: gcc 14.2.1 20240912 (Red Hat 14.2.1-3) Fedora 41 (Clang) Kernel: Depends on container host Compiler: clang 19.1.5 (Fedora 19.1.5-1.fc41) RHEL8 Kernel: Depends on container host Compiler: gcc 8.5.0 20210514 (Red Hat 8.5.0-22) Ubuntu 22.04 Kernel: Depends on container host Compiler: gcc (Ubuntu 11.4.0-1ubuntu1~22.04) 11.4.0 openSUSE Leap 15 Kernel: Depends on container host Compiler: gcc (SUSE Linux) 7.5.0 RHEL9 Kernel: Depends on container host Compiler: gcc 11.5.0 20240719 (Red Hat 11.5.0-2) Ubuntu 24.04 Kernel: Depends on container host Compiler: gcc (Ubuntu 13.3.0-6ubuntu2~24.04) 13.3.0 To view detailed results, visit: https://lab.dpdk.org/results/dashboard/patchsets/33193/ UNH-IOL DPDK Community Lab To manage your email subscriptions, visit: https://lab.dpdk.org/results/dashboard/preferences/subscriptions/