From mboxrd@z Thu Jan 1 00:00:00 1970 Return-Path: Received: from mails.dpdk.org (mails.dpdk.org [217.70.189.124]) by inbox.dpdk.org (Postfix) with ESMTP id 0C7B446764 for ; Fri, 16 May 2025 19:55:35 +0200 (CEST) Received: from mails.dpdk.org (localhost [127.0.0.1]) by mails.dpdk.org (Postfix) with ESMTP id D3BE4402CD; Fri, 16 May 2025 19:55:34 +0200 (CEST) Received: from mail-pl1-f225.google.com (mail-pl1-f225.google.com [209.85.214.225]) by mails.dpdk.org (Postfix) with ESMTP id 1E078402B1 for ; Fri, 16 May 2025 19:55:33 +0200 (CEST) Received: by mail-pl1-f225.google.com with SMTP id d9443c01a7336-2302d90c7f7so30250885ad.3 for ; Fri, 16 May 2025 10:55:33 -0700 (PDT) DKIM-Signature: v=1; a=rsa-sha256; c=relaxed/relaxed; d=iol.unh.edu; s=unh-iol; t=1747418132; x=1748022932; darn=dpdk.org; h=references:in-reply-to:cc:to:from:subject:message-id:date:from:to :cc:subject:date:message-id:reply-to; bh=7hxiRzjiVEj8PPljY96ePuA6Olozp/DLZxcfkJbMF3c=; b=QZm60LkVrZpiQhCOfoMFmnaCk/thVylbHCqpMNVea7ZMgPsHliODlGNy/vXhp3shGI d3s4FsHJtAPecdl9zzkSvCAg6wygInZ+vXvjbJNB6ZgHTLUazJdfqueIAlnX+UQNtPF6 Juq1Fttq36XKiswSLG5xqY9hXGjQtcZUtXF9k= X-Google-DKIM-Signature: v=1; a=rsa-sha256; c=relaxed/relaxed; d=1e100.net; s=20230601; t=1747418132; x=1748022932; h=references:in-reply-to:cc:to:from:subject:message-id:date :x-gm-message-state:from:to:cc:subject:date:message-id:reply-to; bh=7hxiRzjiVEj8PPljY96ePuA6Olozp/DLZxcfkJbMF3c=; b=qqUZVi1LRfMwNIN3BSjSoSPZs5ISusFWd2nltPD60jdSyYaXzQNeJzdm14uTN30/Lr 5GZbji0o+byx+TDsua+gzStpRKarfJDSaO6qd7zDWV83/LdHQCQjw6T7Ouc1jFC1YF53 qSAzRlgYyfPWLpZX4/RO50j0DJTc+3G5R7gmaQgIThxYbn5VuhBfW2+gN9EYJ20SjXiH FJADeoepWWD63sAU8abND4ydhqLED6RvvP+zrmZtcFicvVLsvpvnKK/lk8+gxM/CILsV AyX5hwYLLeR57pHWREbq5FvgRXHqqEoyoH3rIUPw+UgXVhYiLogll1xnqgkM9VyLXo5U nM+g== X-Gm-Message-State: AOJu0YyD50VFcBo+vvEkl/xCWF9mwAVkPQAwbG6nZg+e6ygmYo5jet/X WZt779DGPRM3Fu+Xak0e52Q3hYYuVSzAClquQCNptDIyVYr9Foe2ved1+X5q4OqZBLycnWS0Fye pcfQVK9Q/CsOxHQ3UDZchhWLWw4C7bIMp72xw3Y8Q6SlE X-Gm-Gg: ASbGncsp6WosOTqzdr6QpZLYfJJ2rOsSBtcD3TbpaD4276QijVmitd0+S9xE0qycLeH imdGSWfjaHzvDL+OnyILigjhp8Pnr2hvt27VPSTTF5+iRkdiAGzhdFUiX589qxdSUxu0F3W2oTI q3V+OpyNnVIHsdtORJuInZxGMwJYxEPUl0RtlQszpL0glXVw1NY2DEQgL3CuMAQimiW8cEsvQBH pKQLJCqPmmXOk+NEbbJYnkPSPmGInps/Eohaikb3dChts69+cb/P28nmKsvJQ9INN5wbMl+Bf2g J/F5xzr1IFF3yUJTz4dfOKbRyvhDJlMdla1xRTrGX0bmJjizm8F65iN1hDk= X-Google-Smtp-Source: AGHT+IEGleUN/HSeYxJwSfhEgsoAmCqTBXJ7+tYNRt13oC2k8/g7ewDHa7lr6VAB6zKXBakLDD5XAqXV/hEZ X-Received: by 2002:a17:902:c951:b0:22e:421b:49ad with SMTP id d9443c01a7336-231d454e4bamr63796495ad.46.1747418132200; Fri, 16 May 2025 10:55:32 -0700 (PDT) Received: from postal.iol.unh.edu (postal.iol.unh.edu. [132.177.123.84]) by smtp-relay.gmail.com with ESMTPS id d9443c01a7336-231d4abe188sm1381265ad.33.2025.05.16.10.55.32 (version=TLS1_2 cipher=ECDHE-ECDSA-AES128-GCM-SHA256 bits=128/128); Fri, 16 May 2025 10:55:32 -0700 (PDT) X-Relaying-Domain: iol.unh.edu Date: Fri, 16 May 2025 10:55:32 -0700 (PDT) Message-ID: <68277c14.170a0220.1b31c4.7249SMTPIN_ADDED_MISSING@mx.google.com> Received: from [172.21.0.5] (unknown [172.18.0.240]) by postal.iol.unh.edu (Postfix) with ESMTP id 6681D6052471; Fri, 16 May 2025 13:55:31 -0400 (EDT) Subject: |SUCCESS| pw153488 [PATCH] config/arm: update neoverse n3 SoC and ad From: dpdklab@iol.unh.edu To: Test Report Cc: dpdk-test-reports@iol.unh.edu In-Reply-To: <20250516161558.1482246-1-doug.foster@arm.com> References: <20250516161558.1482246-1-doug.foster@arm.com> Content-Type: text/plain X-BeenThere: test-report@dpdk.org X-Mailman-Version: 2.1.29 Precedence: list List-Id: automatic DPDK test reports List-Unsubscribe: , List-Archive: List-Post: List-Help: List-Subscribe: , Errors-To: test-report-bounces@dpdk.org Test-Label: iol-unit-amd64-testing Test-Status: SUCCESS http://dpdk.org/patch/153488 _Testing PASS_ Submitter: Doug Foster Date: Friday, May 16 2025 16:15:58 DPDK git baseline: Repo:dpdk Branch: master CommitID:117e86c4b96ed761e9a7ab766261208fe81bf5ca 153488 --> testing pass Upstream job id: Generic-VM-Unit-Test-DPDK#28578 Test environment and result as below: +---------------------+----------------+ | Environment | dpdk_unit_test | +=====================+================+ | Fedora 40 | PASS | +---------------------+----------------+ | Fedora 40 (Clang) | PASS | +---------------------+----------------+ | CentOS Stream 9 | PASS | +---------------------+----------------+ | CentOS Stream 10 | PASS | +---------------------+----------------+ | Fedora 41 (Clang) | PASS | +---------------------+----------------+ | Debian 12 | PASS | +---------------------+----------------+ | Fedora 41 | PASS | +---------------------+----------------+ | Ubuntu 20.04 | PASS | +---------------------+----------------+ | RHEL8 | PASS | +---------------------+----------------+ | Ubuntu 24.04 | PASS | +---------------------+----------------+ | Ubuntu 22.04 | PASS | +---------------------+----------------+ | RHEL9 | PASS | +---------------------+----------------+ | Windows Server 2022 | PASS | +---------------------+----------------+ Fedora 40 Kernel: Depends on container host Compiler: gcc 14.2.1 20240912 (Red Hat 14.2.1-3) Fedora 40 (Clang) Kernel: Depends on container host Compiler: clang 18.1.8 (Fedora 18.1.8-1.fc40) CentOS Stream 9 Kernel: Depends on container host Compiler: gcc 11.5.0 20240719 (Red Hat 11.5.0-2) CentOS Stream 10 Kernel: Depends on container host Compiler: gcc 14.2.1 20241104 (Red Hat 14.2.1-6) Fedora 41 (Clang) Kernel: Depends on container host Compiler: clang 19.1.5 (Fedora 19.1.5-1.fc41) Debian 12 Kernel: Depends on container host Compiler: gcc (Debian 12.2.0-14) 12.2.0 Fedora 41 Kernel: Depends on container host Compiler: gcc 14.2.1 20240912 (Red Hat 14.2.1-3) Ubuntu 20.04 Kernel: Depends on container host Compiler: gcc (Ubuntu 9.4.0-1ubuntu1~20.04.2) 9.4.0 RHEL8 Kernel: Depends on container host Compiler: gcc 8.5.0 20210514 (Red Hat 8.5.0-22) Ubuntu 24.04 Kernel: Depends on container host Compiler: gcc (Ubuntu 13.3.0-6ubuntu2~24.04) 13.3.0 Ubuntu 22.04 Kernel: Depends on container host Compiler: gcc (Ubuntu 11.4.0-1ubuntu1~22.04) 11.4.0 RHEL9 Kernel: Depends on container host Compiler: gcc 11.5.0 20240719 (Red Hat 11.5.0-2) Windows Server 2022 Kernel: 10.0.20348.2031 Compiler: clang 15.0.7, gcc 14.1.0 (MinGW), and MSVC VS 19.39.33521 To view detailed results, visit: https://lab.dpdk.org/results/dashboard/patchsets/33193/ UNH-IOL DPDK Community Lab To manage your email subscriptions, visit: https://lab.dpdk.org/results/dashboard/preferences/subscriptions/