From mboxrd@z Thu Jan 1 00:00:00 1970 Return-Path: Received: from mails.dpdk.org (mails.dpdk.org [217.70.189.124]) by inbox.dpdk.org (Postfix) with ESMTP id A0C8D46764 for ; Fri, 16 May 2025 20:02:23 +0200 (CEST) Received: from mails.dpdk.org (localhost [127.0.0.1]) by mails.dpdk.org (Postfix) with ESMTP id 8B703402CD; Fri, 16 May 2025 20:02:23 +0200 (CEST) Received: from mail-pf1-f228.google.com (mail-pf1-f228.google.com [209.85.210.228]) by mails.dpdk.org (Postfix) with ESMTP id EDAD5402B1 for ; Fri, 16 May 2025 20:02:21 +0200 (CEST) Received: by mail-pf1-f228.google.com with SMTP id d2e1a72fcca58-7406c6dd2b1so3165387b3a.0 for ; Fri, 16 May 2025 11:02:21 -0700 (PDT) DKIM-Signature: v=1; a=rsa-sha256; c=relaxed/relaxed; d=iol.unh.edu; s=unh-iol; t=1747418541; x=1748023341; darn=dpdk.org; h=references:in-reply-to:cc:to:from:subject:message-id:date:from:to :cc:subject:date:message-id:reply-to; bh=jCzwnfGa1+bCYlzPJ+X1BEjiOJqpP4bB/Us8xN48O58=; b=MRbtSmmZlyu7Pq4DFvhhcSZ5niUPqbFslZyLjyzMIwUsnF6JPyTUcgYHnrWvrv61+O FE2LlQT9mcBmzRBfi3kgXEZHh0qP3gynRYWQM3nfUWcYynZT7h3XoBhoNFMXho8BQBa2 cMFClE9uoKubQwvQYCOUCPUz+M5IKvs4B9uxQ= X-Google-DKIM-Signature: v=1; a=rsa-sha256; c=relaxed/relaxed; d=1e100.net; s=20230601; t=1747418541; x=1748023341; h=references:in-reply-to:cc:to:from:subject:message-id:date :x-gm-message-state:from:to:cc:subject:date:message-id:reply-to; bh=jCzwnfGa1+bCYlzPJ+X1BEjiOJqpP4bB/Us8xN48O58=; b=gV88IWOYP6Gd7JsKlmSqrn+kZaIVWcbCQKgIqBm7LXW21U88vWh0T1CAaw3OjdgbJn +N2kt7r4UF8G2HS71A31S+K+XYZrvGHRLM17EJoUAFDhWlRD6TXyMMCJA3yim7bnRiG/ FAn3NN9ham/WnDBGXOutQOoGLnoD1+VkavYshvkvQvRhcEZnX4eCk+U24Bu5DoZHqPWd N3AI51XdHpuRdX6vfhhVel9p23rJWMPGh8xkQ9DExZrvlcBj2S1aTvjFlz119xj2uzE1 NykE3csfqiCnMF/1RVraxQ+E7Y4EOlaMdyvix5mszj1BZfXBe10b4THf1ncbuAcImYgw +alw== X-Gm-Message-State: AOJu0YwnhyWyAcM2L5H/sLnvNnM9UcjlmWEc5hId9JincOwxtJEUTF+8 U7bqCUjNz1TbZkZKjRhtpC9uJQqoPSFODxzfxTOgRocugy4EEDSZGgCR/MrCrDszWBQ4eRuNAG5 8OIlBTOjE8NqzE/Fg/79z+ddDlYjJZVeSo6o51eNb4ZPV X-Gm-Gg: ASbGncsgDzobTdzzKjm+Y4gNGzUnQ9MA7M+h5vOCWJ/i/3PdiFDBr9Dsw3fquw1cJOy vBBbw6KjIq1NdvEB6QjmivL/waijoG58B4hbhVGY9uI3cArtIPwJJehek0ovupdFFCOzFICe2YR dnwv/GgbKy5ZWRDCBr/oY3lmBoRfHu6a3t8X5HkegaHjFJSPCiP0fyWKf8v88hhUxFBHy/8CArR pEEAqt6z/uEj4b0sOQt2l4upRN7QCHMsoNM5mKcjX77PiM8bp7bM/bjg86E3iD0Cn7PbDxKen+P HBp4UtioC2fyJIah3CsxdhY4hbtOqGoYzZVqwbGky9aFRlSyD/BH8zw5eDM= X-Google-Smtp-Source: AGHT+IGfDdOnv2s4lW++xElDYXi/68bjEwt0ZfzdHwzfNJyHTJj438b6l+fgl8gCxUoQ1eVZednClm5NWnV6 X-Received: by 2002:a17:903:2ec3:b0:215:a2f4:d4ab with SMTP id d9443c01a7336-231d4b05c54mr52493525ad.7.1747418540698; Fri, 16 May 2025 11:02:20 -0700 (PDT) Received: from postal.iol.unh.edu (postal.iol.unh.edu. [132.177.123.84]) by smtp-relay.gmail.com with ESMTPS id d9443c01a7336-231d4acb2eesm1244705ad.44.2025.05.16.11.02.20 (version=TLS1_2 cipher=ECDHE-ECDSA-AES128-GCM-SHA256 bits=128/128); Fri, 16 May 2025 11:02:20 -0700 (PDT) X-Relaying-Domain: iol.unh.edu Date: Fri, 16 May 2025 11:02:20 -0700 (PDT) Message-ID: <68277dac.170a0220.77d33.6b7aSMTPIN_ADDED_MISSING@mx.google.com> Received: from [172.21.0.8] (unknown [172.18.0.240]) by postal.iol.unh.edu (Postfix) with ESMTP id 25B6F6052471; Fri, 16 May 2025 14:02:20 -0400 (EDT) Subject: |SUCCESS| pw153488 [PATCH] config/arm: update neoverse n3 SoC and ad From: dpdklab@iol.unh.edu To: Test Report Cc: dpdk-test-reports@iol.unh.edu In-Reply-To: <20250516161558.1482246-1-doug.foster@arm.com> References: <20250516161558.1482246-1-doug.foster@arm.com> Content-Type: text/plain X-BeenThere: test-report@dpdk.org X-Mailman-Version: 2.1.29 Precedence: list List-Id: automatic DPDK test reports List-Unsubscribe: , List-Archive: List-Post: List-Help: List-Subscribe: , Errors-To: test-report-bounces@dpdk.org Test-Label: iol-unit-arm64-testing Test-Status: SUCCESS http://dpdk.org/patch/153488 _Testing PASS_ Submitter: Doug Foster Date: Friday, May 16 2025 16:15:58 DPDK git baseline: Repo:dpdk Branch: master CommitID:117e86c4b96ed761e9a7ab766261208fe81bf5ca 153488 --> testing pass Upstream job id: Generic-Unit-Test-DPDK#338534 Test environment and result as below: +-----------------------------+--------------+------------------------------+---------------------------+----------------+ | Environment | lpm_autotest | cryptodev_sw_snow3g_autotest | cryptodev_sw_zuc_autotest | dpdk_unit_test | +=============================+==============+==============================+===========================+================+ | Ubuntu 20.04 ARM SVE | PASS | SKIPPED | SKIPPED | SKIPPED | +-----------------------------+--------------+------------------------------+---------------------------+----------------+ | Debian 12 (arm) | SKIPPED | PASS | PASS | PASS | +-----------------------------+--------------+------------------------------+---------------------------+----------------+ | Fedora 40 (ARM) | SKIPPED | SKIPPED | SKIPPED | PASS | +-----------------------------+--------------+------------------------------+---------------------------+----------------+ | Fedora 41 (ARM Clang) | SKIPPED | SKIPPED | SKIPPED | PASS | +-----------------------------+--------------+------------------------------+---------------------------+----------------+ | Fedora 40 (ARM Clang) | SKIPPED | SKIPPED | SKIPPED | PASS | +-----------------------------+--------------+------------------------------+---------------------------+----------------+ | CentOS Stream 10 (ARM) | SKIPPED | SKIPPED | SKIPPED | PASS | +-----------------------------+--------------+------------------------------+---------------------------+----------------+ | CentOS Stream 9 (ARM) | SKIPPED | SKIPPED | SKIPPED | PASS | +-----------------------------+--------------+------------------------------+---------------------------+----------------+ | RHEL9 (ARM) | SKIPPED | SKIPPED | SKIPPED | PASS | +-----------------------------+--------------+------------------------------+---------------------------+----------------+ | Fedora 41 (ARM) | SKIPPED | SKIPPED | SKIPPED | PASS | +-----------------------------+--------------+------------------------------+---------------------------+----------------+ | Ubuntu 22.04 (ARM) | SKIPPED | SKIPPED | SKIPPED | PASS | +-----------------------------+--------------+------------------------------+---------------------------+----------------+ | Ubuntu 20.04 (ARM) | SKIPPED | SKIPPED | SKIPPED | PASS | +-----------------------------+--------------+------------------------------+---------------------------+----------------+ | Ubuntu 24.04 (ARM) | SKIPPED | SKIPPED | SKIPPED | PASS | +-----------------------------+--------------+------------------------------+---------------------------+----------------+ | 32-bit Ubuntu 22.04.4 (ARM) | SKIPPED | SKIPPED | SKIPPED | PASS | +-----------------------------+--------------+------------------------------+---------------------------+----------------+ Ubuntu 20.04 ARM SVE Kernel: Depends on container host Compiler: gcc (Ubuntu 10.5.0-1ubuntu1~20.04) 10.5.0 Debian 12 (arm) Kernel: Depends on container host Compiler: gcc (Debian 12.2.0-14) 12.2.0 Fedora 40 (ARM) Kernel: Depends on container host Compiler: gcc 14.2.1 20240912 (Red Hat 14.2.1-3) Fedora 41 (ARM Clang) Kernel: Depends on container host Compiler: clang 19.1.5 (Fedora 19.1.5-1.fc41) Fedora 40 (ARM Clang) Kernel: Depends on container host Compiler: clang 18.1.8 (Fedora 18.1.8-1.fc40) CentOS Stream 10 (ARM) Kernel: Depends on container host Compiler: gcc 14.2.1 20241104 (Red Hat 14.2.1-6) CentOS Stream 9 (ARM) Kernel: Depends on container host Compiler: gcc 11.5.0 20240719 (Red Hat 11.5.0-2) RHEL9 (ARM) Kernel: Depends on container host Compiler: gcc 11.5.0 20240719 (Red Hat 11.5.0-2) Fedora 41 (ARM) Kernel: Depends on container host Compiler: gcc 14.2.1 20240912 (Red Hat 14.2.1-3) Ubuntu 22.04 (ARM) Kernel: Depends on container host Compiler: gcc (Ubuntu 11.4.0-1ubuntu1~22.04) 11.4.0 Ubuntu 20.04 (ARM) Kernel: Depends on container host Compiler: gcc (Ubuntu 9.4.0-1ubuntu1~20.04.2) 9.4.0 Ubuntu 24.04 (ARM) Kernel: Depends on container host Compiler: gcc (Ubuntu 13.3.0-6ubuntu2~24.04) 13.3.0 32-bit Ubuntu 22.04.4 (ARM) Kernel: 5.15.83+ aarch64 Compiler: gcc (Ubuntu 11.4.0-1ubuntu1~22.04) 11.4.0 To view detailed results, visit: https://lab.dpdk.org/results/dashboard/patchsets/33193/ UNH-IOL DPDK Community Lab To manage your email subscriptions, visit: https://lab.dpdk.org/results/dashboard/preferences/subscriptions/