From mboxrd@z Thu Jan  1 00:00:00 1970
Return-Path: <test-report-bounces@dpdk.org>
Received: from mails.dpdk.org (mails.dpdk.org [217.70.189.124])
	by inbox.dpdk.org (Postfix) with ESMTP id 2C8DA46764
	for <public@inbox.dpdk.org>; Fri, 16 May 2025 20:36:58 +0200 (CEST)
Received: from mails.dpdk.org (localhost [127.0.0.1])
	by mails.dpdk.org (Postfix) with ESMTP id F3962402CD;
	Fri, 16 May 2025 20:36:57 +0200 (CEST)
Received: from mail-il1-f228.google.com (mail-il1-f228.google.com
 [209.85.166.228])
 by mails.dpdk.org (Postfix) with ESMTP id 856F2402B1
 for <test-report@dpdk.org>; Fri, 16 May 2025 20:36:56 +0200 (CEST)
Received: by mail-il1-f228.google.com with SMTP id
 e9e14a558f8ab-3d91db4f0c3so10968035ab.3
 for <test-report@dpdk.org>; Fri, 16 May 2025 11:36:56 -0700 (PDT)
DKIM-Signature: v=1; a=rsa-sha256; c=relaxed/relaxed;
 d=iol.unh.edu; s=unh-iol; t=1747420616; x=1748025416; darn=dpdk.org;
 h=references:in-reply-to:cc:to:from:subject:message-id:date:from:to
 :cc:subject:date:message-id:reply-to;
 bh=grzue+OjGrrc8qHTwETxqfe0j1edKpv2vw29QUSFDbM=;
 b=e+IHvxOl+FGI9T8c4AcuYox/kBoRTJVUvNBMLiSlUyLvbLbyvTfk4E/Ptmf2CLAG0m
 EKOD6g0evEmiVRIF3PgVgNt4E8POdXqZmw9uUiKgmoKWzU6Gm0qYw44azvHez2PlBoTW
 8RpKLv8iIChWpqQqaXsts2PTsOLUZ1KE1Ge0I=
X-Google-DKIM-Signature: v=1; a=rsa-sha256; c=relaxed/relaxed;
 d=1e100.net; s=20230601; t=1747420616; x=1748025416;
 h=references:in-reply-to:cc:to:from:subject:message-id:date
 :x-gm-message-state:from:to:cc:subject:date:message-id:reply-to;
 bh=grzue+OjGrrc8qHTwETxqfe0j1edKpv2vw29QUSFDbM=;
 b=IWGO2Z8zsW4IasAXh5pF4blIBvCM0sQvzL2ta9cWHSHiaXogk+BqPXCW0rR3VcvApw
 Q0Pc2OlmUQES2BiJAjnWWIP93zEWW/UqCt5dTwkeDSBWMLLUgN2avgNNqVPJSQYmrmlA
 1TvMjTs26mEZAXsFQGlMkdYvQ8WIOidXD6+My3KQhDbWvNpYFYLcEvkTozbZb2EERdPX
 q0pdPjhyCuOh9VyITiIzxBLYWldDKCcNzhE/n4k9a9MHrXwJbaliZ/ZtXoAaBSyNoVAm
 KFLp1gOYd/PVywLOhgTW3TY6oNOfB7wCzBPByaFJZ6Rbzdcyni+ku5exHaDXegG/d8Tu
 cX/A==
X-Gm-Message-State: AOJu0Yx4de4uhxLxxbfY3sGWWdkflfhtVbiFbIZzUhp4mJhEiuTMdTNV
 RPXgsLwS483wd3UOks75qvu8dpC7Wuq/k3RwgkfS2DrAlVNQsH3kxf45rmm3c8DcGuf+kKu3VQz
 2TPUNptkoExzzIiKIcr0Fbaqyw2hJqYUDzESw1RP6faFa
X-Gm-Gg: ASbGncshg7XevXVMxUCDCm8Uech9v7OHX69R0ZnrLlZ4xAjLIaIqHGSa9ysinAtjc5k
 fAo1EJNG7+dz1XDSq0VVxwCaGIPxxJTSE4x/D9GXlEtLxMsIP/JrAMHdtzuhjwMd0foDfL2Jrco
 hmTymxM0TBQ5iocbgJTxfRoFmnQ/E4v76DFUT+6R8OCyOyrA/Z+/z4UziEsxdLNuUTVFI0+NzhY
 APnWbbkNl+RHeBovPI+wXpjqZOwk2I+5WnZ6bfkSQ7PFfcVjiRgPIQ03kmJBGFKoCnkeeZ4jpV6
 ay1qZxX1ZzEi1McN+XQl/AUN/Eh8rgtfL/4Iwr/ultehMR3da03gVsX5HDM=
X-Google-Smtp-Source: AGHT+IH5XWT80Ei686wxlGp5y10KXfFD3hbN82m2wrdBIu4SI6BMuEF49b/9j4RPiwsKRApGZnL7od7tYus7
X-Received: by 2002:a05:6e02:370e:b0:3d5:890b:8ee with SMTP id
 e9e14a558f8ab-3db85723a3emr43599415ab.2.1747420615741; 
 Fri, 16 May 2025 11:36:55 -0700 (PDT)
Received: from postal.iol.unh.edu (postal.iol.unh.edu. [132.177.123.84])
 by smtp-relay.gmail.com with ESMTPS id
 e9e14a558f8ab-3db8449c0f3sm982575ab.50.2025.05.16.11.36.55
 (version=TLS1_2 cipher=ECDHE-ECDSA-AES128-GCM-SHA256 bits=128/128);
 Fri, 16 May 2025 11:36:55 -0700 (PDT)
X-Relaying-Domain: iol.unh.edu
Date: Fri, 16 May 2025 11:36:55 -0700 (PDT)
Message-ID: <682785c7.920a0220.2fd270.5a0aSMTPIN_ADDED_MISSING@mx.google.com>
Received: from [172.17.0.4] (unknown [172.18.0.74])
 by postal.iol.unh.edu (Postfix) with ESMTP id 3BA556052471;
 Fri, 16 May 2025 14:36:55 -0400 (EDT)
Subject: |SUCCESS| pw153488 [PATCH] config/arm: update neoverse n3 SoC and ad
From: dpdklab@iol.unh.edu
To: Test Report <test-report@dpdk.org>
Cc: dpdk-test-reports@iol.unh.edu
In-Reply-To: <20250516161558.1482246-1-doug.foster@arm.com>
References: <20250516161558.1482246-1-doug.foster@arm.com>
Content-Type: text/plain
X-BeenThere: test-report@dpdk.org
X-Mailman-Version: 2.1.29
Precedence: list
List-Id: automatic DPDK test reports <test-report.dpdk.org>
List-Unsubscribe: <https://mails.dpdk.org/options/test-report>,
 <mailto:test-report-request@dpdk.org?subject=unsubscribe>
List-Archive: <http://mails.dpdk.org/archives/test-report/>
List-Post: <mailto:test-report@dpdk.org>
List-Help: <mailto:test-report-request@dpdk.org?subject=help>
List-Subscribe: <https://mails.dpdk.org/listinfo/test-report>,
 <mailto:test-report-request@dpdk.org?subject=subscribe>
Errors-To: test-report-bounces@dpdk.org

Test-Label: iol-compile-amd64-testing
Test-Status: SUCCESS
http://dpdk.org/patch/153488

_Testing PASS_

Submitter: Doug Foster <doug.foster@arm.com>
Date: Friday, May 16 2025 16:15:58 
DPDK git baseline: Repo:dpdk
  Branch: master
  CommitID:117e86c4b96ed761e9a7ab766261208fe81bf5ca

153488 --> testing pass

Upstream job id: Generic-DPDK-Compile-Meson#388802

Test environment and result as below:

+-----------------------------------+--------------------+-------------------+------------------+-------------------------+-------------------+----------------------+
|            Environment            | dpdk_meson_compile | dpdk_compile_spdk | dpdk_compile_ovs | dpdk_llvm_clang_compile | dpdk_msvc_compile | dpdk_mingw64_compile |
+===================================+====================+===================+==================+=========================+===================+======================+
| CentOS Stream 10                  | PASS               | SKIPPED           | SKIPPED          | SKIPPED                 | SKIPPED           | SKIPPED              |
+-----------------------------------+--------------------+-------------------+------------------+-------------------------+-------------------+----------------------+
| CentOS Stream 9                   | PASS               | PASS              | SKIPPED          | SKIPPED                 | SKIPPED           | SKIPPED              |
+-----------------------------------+--------------------+-------------------+------------------+-------------------------+-------------------+----------------------+
| Fedora 40 (Clang)                 | PASS               | PASS              | SKIPPED          | SKIPPED                 | SKIPPED           | SKIPPED              |
+-----------------------------------+--------------------+-------------------+------------------+-------------------------+-------------------+----------------------+
| Debian 12                         | PASS               | PASS              | SKIPPED          | SKIPPED                 | SKIPPED           | SKIPPED              |
+-----------------------------------+--------------------+-------------------+------------------+-------------------------+-------------------+----------------------+
| openSUSE Leap 15                  | PASS               | SKIPPED           | SKIPPED          | SKIPPED                 | SKIPPED           | SKIPPED              |
+-----------------------------------+--------------------+-------------------+------------------+-------------------------+-------------------+----------------------+
| RHEL8                             | PASS               | SKIPPED           | SKIPPED          | SKIPPED                 | SKIPPED           | SKIPPED              |
+-----------------------------------+--------------------+-------------------+------------------+-------------------------+-------------------+----------------------+
| Fedora 41                         | PASS               | PASS              | PASS             | SKIPPED                 | SKIPPED           | SKIPPED              |
+-----------------------------------+--------------------+-------------------+------------------+-------------------------+-------------------+----------------------+
| Fedora 41 (Clang)                 | PASS               | PASS              | PASS             | SKIPPED                 | SKIPPED           | SKIPPED              |
+-----------------------------------+--------------------+-------------------+------------------+-------------------------+-------------------+----------------------+
| Ubuntu 22.04                      | PASS               | PASS              | SKIPPED          | SKIPPED                 | SKIPPED           | SKIPPED              |
+-----------------------------------+--------------------+-------------------+------------------+-------------------------+-------------------+----------------------+
| RHEL9                             | PASS               | SKIPPED           | SKIPPED          | SKIPPED                 | SKIPPED           | SKIPPED              |
+-----------------------------------+--------------------+-------------------+------------------+-------------------------+-------------------+----------------------+
| Ubuntu 24.04                      | PASS               | PASS              | PASS             | SKIPPED                 | SKIPPED           | SKIPPED              |
+-----------------------------------+--------------------+-------------------+------------------+-------------------------+-------------------+----------------------+
| Ubuntu 20.04                      | PASS               | SKIPPED           | SKIPPED          | SKIPPED                 | SKIPPED           | SKIPPED              |
+-----------------------------------+--------------------+-------------------+------------------+-------------------------+-------------------+----------------------+
| Alpine                            | PASS               | SKIPPED           | SKIPPED          | SKIPPED                 | SKIPPED           | SKIPPED              |
+-----------------------------------+--------------------+-------------------+------------------+-------------------------+-------------------+----------------------+
| Ubuntu 24.04 32 Bit Cross Compile | PASS               | SKIPPED           | SKIPPED          | SKIPPED                 | SKIPPED           | SKIPPED              |
+-----------------------------------+--------------------+-------------------+------------------+-------------------------+-------------------+----------------------+
| FreeBSD 13.5                      | PASS               | SKIPPED           | SKIPPED          | SKIPPED                 | SKIPPED           | SKIPPED              |
+-----------------------------------+--------------------+-------------------+------------------+-------------------------+-------------------+----------------------+
| FreeBSD 14.2                      | PASS               | SKIPPED           | SKIPPED          | SKIPPED                 | SKIPPED           | SKIPPED              |
+-----------------------------------+--------------------+-------------------+------------------+-------------------------+-------------------+----------------------+
| Fedora 40                         | PASS               | PASS              | SKIPPED          | SKIPPED                 | SKIPPED           | SKIPPED              |
+-----------------------------------+--------------------+-------------------+------------------+-------------------------+-------------------+----------------------+
| Windows Server 2022               | SKIPPED            | SKIPPED           | SKIPPED          | PASS                    | PASS              | PASS                 |
+-----------------------------------+--------------------+-------------------+------------------+-------------------------+-------------------+----------------------+


CentOS Stream 10
	Kernel: Depends on container host
	Compiler: gcc 14.2.1 20241104 (Red Hat 14.2.1-6)

CentOS Stream 9
	Kernel: Depends on container host
	Compiler: gcc 11.5.0 20240719 (Red Hat 11.5.0-2)

Fedora 40 (Clang)
	Kernel: Depends on container host
	Compiler: clang 18.1.8 (Fedora 18.1.8-1.fc40)

Debian 12
	Kernel: Depends on container host
	Compiler: gcc (Debian 12.2.0-14) 12.2.0

openSUSE Leap 15
	Kernel: Depends on container host
	Compiler: gcc (SUSE Linux) 7.5.0

RHEL8
	Kernel: Depends on container host
	Compiler: gcc 8.5.0 20210514 (Red Hat 8.5.0-22)

Fedora 41
	Kernel: Depends on container host
	Compiler: gcc 14.2.1 20240912 (Red Hat 14.2.1-3)

Fedora 41 (Clang)
	Kernel: Depends on container host
	Compiler: clang 19.1.5 (Fedora 19.1.5-1.fc41)

Ubuntu 22.04
	Kernel: Depends on container host
	Compiler: gcc (Ubuntu 11.4.0-1ubuntu1~22.04) 11.4.0

RHEL9
	Kernel: Depends on container host
	Compiler: gcc 11.5.0 20240719 (Red Hat 11.5.0-2)

Ubuntu 24.04
	Kernel: Depends on container host
	Compiler: gcc (Ubuntu 13.3.0-6ubuntu2~24.04) 13.3.0

Ubuntu 20.04
	Kernel: 4.19.325-0419325-generic
	Compiler: gcc (Ubuntu 9.4.0-1ubuntu1~20.04.2) 9.4.0

Alpine
	Kernel: Depends on container host
	Compiler: gcc (Alpine 14.2.0) 14.2.0

Ubuntu 24.04 32 Bit Cross Compile
	Kernel: Depends on container host
	Compiler: gcc (Ubuntu 13.3.0-6ubuntu2~24.04) 13.3.0

FreeBSD 13.5
	Kernel: 13.5-RELEASE
	Compiler: clang 19.1.7

FreeBSD 14.2
	Kernel: 14.2-RELEASE
	Compiler: clang 18.1.6

Fedora 40
	Kernel: Depends on container host
	Compiler: gcc 14.2.1 20240912 (Red Hat 14.2.1-3)

Windows Server 2022
	Kernel: 10.0.20348.2031
	Compiler: clang 15.0.7, gcc 14.1.0 (MinGW), and MSVC VS 19.39.33521

To view detailed results, visit:
https://lab.dpdk.org/results/dashboard/patchsets/33193/

UNH-IOL DPDK Community Lab

To manage your email subscriptions, visit: 
https://lab.dpdk.org/results/dashboard/preferences/subscriptions/