From mboxrd@z Thu Jan 1 00:00:00 1970 Return-Path: Received: from mails.dpdk.org (mails.dpdk.org [217.70.189.124]) by inbox.dpdk.org (Postfix) with ESMTP id 39D6B46764 for ; Fri, 16 May 2025 20:38:33 +0200 (CEST) Received: from mails.dpdk.org (localhost [127.0.0.1]) by mails.dpdk.org (Postfix) with ESMTP id 33642402CD; Fri, 16 May 2025 20:38:33 +0200 (CEST) Received: from mail-pg1-f225.google.com (mail-pg1-f225.google.com [209.85.215.225]) by mails.dpdk.org (Postfix) with ESMTP id E5071402B1 for ; Fri, 16 May 2025 20:38:31 +0200 (CEST) Received: by mail-pg1-f225.google.com with SMTP id 41be03b00d2f7-b07d607dc83so2194181a12.1 for ; Fri, 16 May 2025 11:38:31 -0700 (PDT) DKIM-Signature: v=1; a=rsa-sha256; c=relaxed/relaxed; d=iol.unh.edu; s=unh-iol; t=1747420711; x=1748025511; darn=dpdk.org; h=references:in-reply-to:cc:to:from:subject:message-id:date:from:to :cc:subject:date:message-id:reply-to; bh=y1/R42nmNT5HjWtcNyhjp61NCJRZUD0vgW+jzYki/sg=; b=SRf+UVkMpqloL50KpxWCPhs1+8Z/LPrxUyKrq/aoe8lIcAnIz+mxF7LmeOYnAQUjwf 6TMQqh8Bh6URQ4qdh0J8HYX3o5aoXF2uHocxCB3iaBc6hG6O9aHwzMLGeiRGwzrxE/bu o2z0/q3VRojFfmDaL0y7OYx0bhPmvKKTghE8w= X-Google-DKIM-Signature: v=1; a=rsa-sha256; c=relaxed/relaxed; d=1e100.net; s=20230601; t=1747420711; x=1748025511; h=references:in-reply-to:cc:to:from:subject:message-id:date :x-gm-message-state:from:to:cc:subject:date:message-id:reply-to; bh=y1/R42nmNT5HjWtcNyhjp61NCJRZUD0vgW+jzYki/sg=; b=JLsPQC1WSDenVtOH25FtARU0moUHR2yfqeCY5NW6JbdKVxfP3OYVmYSl2tvXngahAj zSyM71iwYfXkohzmRUH1Dy91nNJwhKZJl3RzqMDk6MmmxzvoYKQhZb1meXIHgcrECp0X 3HgEdLMuieReudh+4T1Ko+dwZMLAfBw1RgYdmMMZw1zNUyb5OxkI+7LdSr6F146qzIrP ECKFwfnM72eqaPJGGiuDSYVfxCDkIu0jPGe1XvbKK4p7+r+wcbwIZIM908KwqgDdU1jo t4lg4F49LT9wuHuw04Ufy+KclZltJk8/TT3gJMpgs4xUkbku8xTI7pCYEjOGDynMKSo9 WJ7Q== X-Gm-Message-State: AOJu0Yzu9uPhc+q5h4HLKBy3M1z6Lnxm+V+BOeFD53tE5aW38G2miLZh YOg1x65HSo9ChmqLEuBur1M/cpKQagv69udYUMRCQtUMwKpZlTXb9st+Mx6rdKfDcfQ7Ttd5HYB Y3+HGVl1MBpsymwzGcwsXQ3nMLB41hXN8Hw7pC+rR2jvcqQ9WqfhbLeXqv3wP X-Gm-Gg: ASbGncu92F2NN0SsAcBp1+f6vWqAX9KjAQ7j1zWkOGouzdlBfsHKZZN5Skgddr9zMSz t4eJdeF50G107QMVH+sJT7T4iaM9QlhRKpuh11CiW4/swf/ppHJaREfw2uvrElh0ORllRzskHR0 MgG29ADHB8f75DP09b6AR1Rr++m9k0dWQz4ffGyB+tV+fLSQP3NRzqq10niQ87RM24fiUIsugU0 JybWSFs90/QJ/rL+dz9A96mrmE3SGksxSWTsdhb3iXcqdbsBpYyTZzZ8wR7Jjp//13QDgxS5R6u cojYSo82I1xFmJhaG/yJlMFkpYp6hD06ycW8 X-Google-Smtp-Source: AGHT+IGQQIrsWabPo+mu8TxBf9yQMtsRsZDPd3vsyuFTSGcWNwWsCtbzwOxTnXEZBFEFKSQ1ZGOjjNVDeklw X-Received: by 2002:a17:903:2990:b0:231:8030:74ab with SMTP id d9443c01a7336-231d45a9a94mr61969585ad.36.1747420710854; Fri, 16 May 2025 11:38:30 -0700 (PDT) Received: from postal.iol.unh.edu (postal.iol.unh.edu. [2606:4100:3880:1234::84]) by smtp-relay.gmail.com with ESMTPS id d9443c01a7336-231d4ae1f42sm1342635ad.59.2025.05.16.11.38.30 (version=TLS1_2 cipher=ECDHE-ECDSA-AES128-GCM-SHA256 bits=128/128); Fri, 16 May 2025 11:38:30 -0700 (PDT) X-Relaying-Domain: iol.unh.edu Date: Fri, 16 May 2025 11:38:30 -0700 (PDT) Message-ID: <68278626.170a0220.19c27a.7086SMTPIN_ADDED_MISSING@mx.google.com> Received: from [172.21.0.6] (unknown [172.18.0.240]) by postal.iol.unh.edu (Postfix) with ESMTP id 487DC6052471; Fri, 16 May 2025 14:38:30 -0400 (EDT) Subject: |SUCCESS| pw153485 [PATCH] doc: add limitation in using segment-sz i From: dpdklab@iol.unh.edu To: Test Report Cc: dpdk-test-reports@iol.unh.edu In-Reply-To: <20250516121043.145572-1-gakhil@marvell.com> References: <20250516121043.145572-1-gakhil@marvell.com> Content-Type: text/plain X-BeenThere: test-report@dpdk.org X-Mailman-Version: 2.1.29 Precedence: list List-Id: automatic DPDK test reports List-Unsubscribe: , List-Archive: List-Post: List-Help: List-Subscribe: , Errors-To: test-report-bounces@dpdk.org Test-Label: iol-compile-arm64-testing Test-Status: SUCCESS http://dpdk.org/patch/153485 _Testing PASS_ Submitter: Akhil Goyal Date: Friday, May 16 2025 12:10:43 DPDK git baseline: Repo:dpdk Branch: master CommitID:dcf9f9363aa9b4163d241caf8b26a84ca0c0006b 153485 --> testing pass Upstream job id: Generic-DPDK-Compile-Meson#388764 Test environment and result as below: +----------------------------------------+--------------------+ | Environment | dpdk_meson_compile | +========================================+====================+ | RHEL9 (ARM) | PASS | +----------------------------------------+--------------------+ | Ubuntu 20.04 ARM SVE | PASS | +----------------------------------------+--------------------+ | Ubuntu 20.04 ARM GCC Cross Compile | PASS | +----------------------------------------+--------------------+ | Debian 12 with MUSDK | PASS | +----------------------------------------+--------------------+ | Fedora 40 (ARM) | PASS | +----------------------------------------+--------------------+ | Fedora 40 (ARM Clang) | PASS | +----------------------------------------+--------------------+ | Fedora 41 (ARM) | PASS | +----------------------------------------+--------------------+ | Fedora 41 (ARM Clang) | PASS | +----------------------------------------+--------------------+ | Ubuntu 20.04 (ARM) | PASS | +----------------------------------------+--------------------+ | Ubuntu 22.04 (ARM) | PASS | +----------------------------------------+--------------------+ | Ubuntu 24.04 (ARM) | PASS | +----------------------------------------+--------------------+ | CentOS Stream 9 (ARM) | PASS | +----------------------------------------+--------------------+ | CentOS Stream 10 (ARM) | PASS | +----------------------------------------+--------------------+ | Debian 12 (arm) | PASS | +----------------------------------------+--------------------+ | Ubuntu 20.04 aarch32 GCC Cross Compile | PASS | +----------------------------------------+--------------------+ | Ubuntu 20.04 ARM Clang Cross Compile | PASS | +----------------------------------------+--------------------+ RHEL9 (ARM) Kernel: Depends on container host Compiler: gcc 11.5.0 20240719 (Red Hat 11.5.0-2) Ubuntu 20.04 ARM SVE Kernel: Depends on container host Compiler: gcc (Ubuntu 10.5.0-1ubuntu1~20.04) 10.5.0 Ubuntu 20.04 ARM GCC Cross Compile Kernel: Depends on container host Compiler: aarch64-linux-gnu-gcc (Ubuntu 9.4.0-1ubuntu1~20.04.2) 9.4.0 Debian 12 with MUSDK Kernel: Depends on container host Compiler: gcc (Debian 12.2.0-14) 12.2.0 Fedora 40 (ARM) Kernel: Depends on container host Compiler: gcc 14.2.1 20240912 (Red Hat 14.2.1-3) Fedora 40 (ARM Clang) Kernel: Depends on container host Compiler: clang 18.1.8 (Fedora 18.1.8-1.fc40) Fedora 41 (ARM) Kernel: Depends on container host Compiler: gcc 14.2.1 20240912 (Red Hat 14.2.1-3) Fedora 41 (ARM Clang) Kernel: Depends on container host Compiler: clang 19.1.5 (Fedora 19.1.5-1.fc41) Ubuntu 20.04 (ARM) Kernel: Depends on container host Compiler: gcc (Ubuntu 9.4.0-1ubuntu1~20.04.2) 9.4.0 Ubuntu 22.04 (ARM) Kernel: Depends on container host Compiler: gcc (Ubuntu 11.4.0-1ubuntu1~22.04) 11.4.0 Ubuntu 24.04 (ARM) Kernel: Depends on container host Compiler: gcc (Ubuntu 13.3.0-6ubuntu2~24.04) 13.3.0 CentOS Stream 9 (ARM) Kernel: Depends on container host Compiler: gcc 11.5.0 20240719 (Red Hat 11.5.0-2) CentOS Stream 10 (ARM) Kernel: Depends on container host Compiler: gcc 14.2.1 20241104 (Red Hat 14.2.1-6) Debian 12 (arm) Kernel: Depends on container host Compiler: gcc (Debian 12.2.0-14) 12.2.0 Ubuntu 20.04 aarch32 GCC Cross Compile Kernel: Depends on container host Compiler: gcc 9.4.0 Ubuntu 20.04 ARM Clang Cross Compile Kernel: Depends on container host Compiler: clang 10.0.0-4ubuntu1 To view detailed results, visit: https://lab.dpdk.org/results/dashboard/patchsets/33191/ UNH-IOL DPDK Community Lab To manage your email subscriptions, visit: https://lab.dpdk.org/results/dashboard/preferences/subscriptions/