From mboxrd@z Thu Jan 1 00:00:00 1970 Return-Path: Received: from mails.dpdk.org (mails.dpdk.org [217.70.189.124]) by inbox.dpdk.org (Postfix) with ESMTP id 59FEF46764 for ; Fri, 16 May 2025 20:48:52 +0200 (CEST) Received: from mails.dpdk.org (localhost [127.0.0.1]) by mails.dpdk.org (Postfix) with ESMTP id 320FA402CD; Fri, 16 May 2025 20:48:52 +0200 (CEST) Received: from mail-pl1-f227.google.com (mail-pl1-f227.google.com [209.85.214.227]) by mails.dpdk.org (Postfix) with ESMTP id 950E0402B1 for ; Fri, 16 May 2025 20:48:50 +0200 (CEST) Received: by mail-pl1-f227.google.com with SMTP id d9443c01a7336-231e011edfaso10923905ad.0 for ; Fri, 16 May 2025 11:48:50 -0700 (PDT) DKIM-Signature: v=1; a=rsa-sha256; c=relaxed/relaxed; d=iol.unh.edu; s=unh-iol; t=1747421330; x=1748026130; darn=dpdk.org; h=references:in-reply-to:cc:to:from:subject:message-id:date:from:to :cc:subject:date:message-id:reply-to; bh=DxFxjuublB5zUSnk/wF6kLCTa4StSkR286qVRcUIZHw=; b=Eo3lyq0QjcyUNh5JZM6LlAALKzMBa0TuzZlKikG5hIiyRVpgmRmiG1ucbpCCkiKIGS fmHpb5EZoUdtFfGZy8lGtBZzuOtql3OkoHs6qil3M/wilYD9w0xgcz9g2YLXPeVtXWOV 0qw1djfUFZ4CUb6SnkcR/vggGj3qdUS2gTxgo= X-Google-DKIM-Signature: v=1; a=rsa-sha256; c=relaxed/relaxed; d=1e100.net; s=20230601; t=1747421330; x=1748026130; h=references:in-reply-to:cc:to:from:subject:message-id:date :x-gm-message-state:from:to:cc:subject:date:message-id:reply-to; bh=DxFxjuublB5zUSnk/wF6kLCTa4StSkR286qVRcUIZHw=; b=nOZ2GriqFPZ1DcnoyAPls7FnqvUQa/5PdRs95goLuwsqRKJXBoIdz6ga0nU+EqVL+F e8hqJnjHNdOLoCCR8bgtHRw2TDfm9yVp7Wk6DeRT7ikUJPSRlkHn3mx42s4daz+SsZQj v+hX1jbr7pt6ilU2BT0mAlb1FETOYzST+YBECGE1oki36rONI3ImfkWRWoqDsUBAL9V7 2fEu7Lkq0d1Wj/52sYRKzPn7ODVlVu3aMlQz8jqAS0TWW7HB7Efj7NMy6dBYAb07cMpY T2zhsRoXzkRDATQqfXFYkFmNBPIOJ1FYmQiXdvwyufe92dnAJA4vDE/3mVn4p1Dd8auD EDdA== X-Gm-Message-State: AOJu0Yx/4Q4+bBF5+GO9hu0lHKpaNnLRe9SFl2dSu9l205z88Vw12NZH NNyLvfyVTqfAcLyV5DnXjXj3nH/+I32S82zGsj9/Wr9rHppfMxKN8HZmbs1aFsAm/3C46MSRGnk VfDZhxNHWTP1YIy4NpkVfHe7baFVW4hx8Jo/S7Ss5jeKW X-Gm-Gg: ASbGncvZhuZpk/WsfkXsJCbRvriEE8IJYzDisi1ctcZzIY/M8jZa2Sb1AzaMZOKYjUD Wnq4ne/gwIeNjFZARyGHocE7A6Wz8IGjvt8OpSJMm7n+rW7D4ek64kPQfjeG1ydYjlZGxvzqRu1 R+nVLvyyXyv4n8I6lm4Xc6mcJYTiZxT8wsTbKntpcnXkHr1ZEsf/ACN5i3Hqg2KzBdKDQAmUx5V AqOaDajHhgtzqQrq2tdsrgBSit670xZPpnXEdZ4qK7H7i4syVX9kdRis7H+sCuafr1w9+YKxTfO +V1I62+WhXPPnFJbdYfhdDZNjHs0yn0oCnmEbpPZpgtUP9M476YAQ3hanh0= X-Google-Smtp-Source: AGHT+IE3zfsfNDE89VhmJW2Lnpc3ZhB8N1pveGPW3DK99CdZEsqTTx/H8RQAXR0eX6IOS8kt9DwlLAapYjW7 X-Received: by 2002:a17:902:db05:b0:231:c792:205 with SMTP id d9443c01a7336-231d43dcad8mr64499285ad.4.1747421329720; Fri, 16 May 2025 11:48:49 -0700 (PDT) Received: from postal.iol.unh.edu (postal.iol.unh.edu. [132.177.123.84]) by smtp-relay.gmail.com with ESMTPS id d9443c01a7336-231d4abe931sm1292005ad.38.2025.05.16.11.48.49 (version=TLS1_2 cipher=ECDHE-ECDSA-AES128-GCM-SHA256 bits=128/128); Fri, 16 May 2025 11:48:49 -0700 (PDT) X-Relaying-Domain: iol.unh.edu Date: Fri, 16 May 2025 11:48:49 -0700 (PDT) Message-ID: <68278891.170a0220.78ceb.7db5SMTPIN_ADDED_MISSING@mx.google.com> Received: from [172.17.0.3] (unknown [172.18.0.76]) by postal.iol.unh.edu (Postfix) with ESMTP id D36586052471; Fri, 16 May 2025 14:48:48 -0400 (EDT) Subject: |SUCCESS| pw153486-153487 [PATCH] [2/2] test/strsep: add tests for f From: dpdklab@iol.unh.edu To: Test Report Cc: dpdk-test-reports@iol.unh.edu In-Reply-To: <1747401734-6303-2-git-send-email-andremue@linux.microsoft.com> References: <1747401734-6303-2-git-send-email-andremue@linux.microsoft.com> Content-Type: text/plain X-BeenThere: test-report@dpdk.org X-Mailman-Version: 2.1.29 Precedence: list List-Id: automatic DPDK test reports List-Unsubscribe: , List-Archive: List-Post: List-Help: List-Subscribe: , Errors-To: test-report-bounces@dpdk.org Test-Label: iol-unit-amd64-testing Test-Status: SUCCESS http://dpdk.org/patch/153487 _Testing PASS_ Submitter: Andre Muezerie Date: Friday, May 16 2025 13:22:14 DPDK git baseline: Repo:dpdk Branch: master CommitID:117e86c4b96ed761e9a7ab766261208fe81bf5ca 153486-153487 --> testing pass Upstream job id: Generic-Unit-Test-DPDK#338563 Test environment and result as below: +---------------------+----------------+ | Environment | dpdk_unit_test | +=====================+================+ | CentOS Stream 10 | PASS | +---------------------+----------------+ | CentOS Stream 9 | PASS | +---------------------+----------------+ | RHEL9 | PASS | +---------------------+----------------+ | Debian 12 | PASS | +---------------------+----------------+ | Fedora 40 | PASS | +---------------------+----------------+ | RHEL8 | PASS | +---------------------+----------------+ | Fedora 40 (Clang) | PASS | +---------------------+----------------+ | Fedora 41 | PASS | +---------------------+----------------+ | Ubuntu 20.04 | PASS | +---------------------+----------------+ | Ubuntu 22.04 | PASS | +---------------------+----------------+ | Fedora 41 (Clang) | PASS | +---------------------+----------------+ | Ubuntu 24.04 | PASS | +---------------------+----------------+ | Windows Server 2022 | PASS | +---------------------+----------------+ CentOS Stream 10 Kernel: Depends on container host Compiler: gcc 14.2.1 20241104 (Red Hat 14.2.1-6) CentOS Stream 9 Kernel: Depends on container host Compiler: gcc 11.5.0 20240719 (Red Hat 11.5.0-2) RHEL9 Kernel: Depends on container host Compiler: gcc 11.5.0 20240719 (Red Hat 11.5.0-2) Debian 12 Kernel: Depends on container host Compiler: gcc (Debian 12.2.0-14) 12.2.0 Fedora 40 Kernel: Depends on container host Compiler: gcc 14.2.1 20240912 (Red Hat 14.2.1-3) RHEL8 Kernel: Depends on container host Compiler: gcc 8.5.0 20210514 (Red Hat 8.5.0-22) Fedora 40 (Clang) Kernel: Depends on container host Compiler: clang 18.1.8 (Fedora 18.1.8-1.fc40) Fedora 41 Kernel: Depends on container host Compiler: gcc 14.2.1 20240912 (Red Hat 14.2.1-3) Ubuntu 20.04 Kernel: Depends on container host Compiler: gcc (Ubuntu 9.4.0-1ubuntu1~20.04.2) 9.4.0 Ubuntu 22.04 Kernel: Depends on container host Compiler: gcc (Ubuntu 11.4.0-1ubuntu1~22.04) 11.4.0 Fedora 41 (Clang) Kernel: Depends on container host Compiler: clang 19.1.5 (Fedora 19.1.5-1.fc41) Ubuntu 24.04 Kernel: Depends on container host Compiler: gcc (Ubuntu 13.3.0-6ubuntu2~24.04) 13.3.0 Windows Server 2022 Kernel: 10.0.20348.2031 Compiler: clang 15.0.7, gcc 14.1.0 (MinGW), and MSVC VS 19.39.33521 To view detailed results, visit: https://lab.dpdk.org/results/dashboard/patchsets/33192/ UNH-IOL DPDK Community Lab To manage your email subscriptions, visit: https://lab.dpdk.org/results/dashboard/preferences/subscriptions/