From mboxrd@z Thu Jan 1 00:00:00 1970 Return-Path: Received: from mails.dpdk.org (mails.dpdk.org [217.70.189.124]) by inbox.dpdk.org (Postfix) with ESMTP id 991FA46764 for ; Fri, 16 May 2025 20:54:28 +0200 (CEST) Received: from mails.dpdk.org (localhost [127.0.0.1]) by mails.dpdk.org (Postfix) with ESMTP id 94BF9402D1; Fri, 16 May 2025 20:54:28 +0200 (CEST) Received: from mail-qt1-f225.google.com (mail-qt1-f225.google.com [209.85.160.225]) by mails.dpdk.org (Postfix) with ESMTP id 950E2402CD for ; Fri, 16 May 2025 20:54:26 +0200 (CEST) Received: by mail-qt1-f225.google.com with SMTP id d75a77b69052e-47662449055so15018451cf.1 for ; Fri, 16 May 2025 11:54:26 -0700 (PDT) DKIM-Signature: v=1; a=rsa-sha256; c=relaxed/relaxed; d=iol.unh.edu; s=unh-iol; t=1747421666; x=1748026466; darn=dpdk.org; h=references:in-reply-to:cc:to:from:subject:message-id:date:from:to :cc:subject:date:message-id:reply-to; bh=/RrujMFOJ/1cK/cHITyu/YFXZ0XI5zNRca79poVErN4=; b=SSTU74Fm/rFtBdv5pNDrZxfSHLj/dJPGdG6k1sqvHRGPaeN8eTDY53o+Q3L4MLboxm /Oz68NOverDOBZ2rVaSLKgaNsXfJ/wjIfE8U7jR1MUv3qtoFGnCbkwV3V3aZf7nzTeeh nCSPGFFOrNftQ/Y+PsKWgI6Tl+DvxPuKTrPDA= X-Google-DKIM-Signature: v=1; a=rsa-sha256; c=relaxed/relaxed; d=1e100.net; s=20230601; t=1747421666; x=1748026466; h=references:in-reply-to:cc:to:from:subject:message-id:date :x-gm-message-state:from:to:cc:subject:date:message-id:reply-to; bh=/RrujMFOJ/1cK/cHITyu/YFXZ0XI5zNRca79poVErN4=; b=wt/GYBwcXyc1VdG01+887MJXm+wswTjyr1wjXR+ssuAvjMYXME5ElPwMkrF1ofDZ06 PsFRvKCwldSpPJIA0Jp+XfnXGes0XbhetOOpYzqOPY5eWsc7qYNlyoJgHsqgytaLH8wT PRnCdTxdru0F8XGxV+0MS4gjM6yZx8S0o+djBoTiIEorCkkMzJtUuo6hWUBfVo+Q8DWf hodopJOCXMJelnPdUWqj7Et/saWrvYn1EiAkZBOShVQcIx/fNzrZ5Df/oWNfKSxtPXFs 2An1Pv5MjxeymVrkZmeKuAft4KNfUA7fQqyr1kFvwoxEQdbG8zDVHt6h1stkKMtzWYzc 8X8w== X-Gm-Message-State: AOJu0YzHFHafDk8uvCFMCVv2bSmcg595qP74tQM9ynpewZx+uSXR56Cf zJ7+VaH6uts7xAGexMwpHngRi0QzbhPG4jkPnQmObtukRQY+IoAVFICNt8cQWnGp6BGhy6DkEt5 Y6rm5gvq7eaHJKZ52RztDm8Hj5cJVgOioMz1iRIVelbvp X-Gm-Gg: ASbGncuvDQvFAi5/PB1bCrEEvyX94yz6g0epgdZUVe7gvqbfokIdGJWmHwQXIwzj0Am A2ox9PO3HD0rzWJ2XXXWtsHfNGapbaxtGa0hbiioUCbFbkGmZDXiZDPaO94XlwwwDcxSGiBPPep SBo14Amd5KiTFrEyi1rVdP6zGlyWqCAz145/d4Pv4MEfuqUMfKx4xwdtdHVZIxL5AX82T9TsliP DBqpPspVv30B2CkNmLreqVb6MBiAb8d1RGRu43ylZFoa+zHMmXOZi60ZPPnnaVQZwT+DFiSMaZB nH0eDtG2nKw8cJa7rTzaoQ/eTKNJn0e8cQFT6rGeEEe2v/NVv9lxdECLjYk= X-Google-Smtp-Source: AGHT+IFPJhF6MbSjECl2li2qDy7mHhVqfrExDH10EdYNkrVKXox14tT7V7aKWc6fAzJAFYpo0+kskdyWI+Z8 X-Received: by 2002:a05:622a:4894:b0:494:7cdf:4d23 with SMTP id d75a77b69052e-494ae3d6defmr72972411cf.27.1747421665927; Fri, 16 May 2025 11:54:25 -0700 (PDT) Received: from postal.iol.unh.edu (postal.iol.unh.edu. [132.177.123.84]) by smtp-relay.gmail.com with ESMTPS id d75a77b69052e-494ae507a4csm1055451cf.22.2025.05.16.11.54.25 (version=TLS1_2 cipher=ECDHE-ECDSA-AES128-GCM-SHA256 bits=128/128); Fri, 16 May 2025 11:54:25 -0700 (PDT) X-Relaying-Domain: iol.unh.edu Date: Fri, 16 May 2025 11:54:25 -0700 (PDT) Message-ID: <682789e1.c80a0220.3c6b48.607cSMTPIN_ADDED_MISSING@mx.google.com> Received: from [172.17.0.3] (unknown [172.18.0.76]) by postal.iol.unh.edu (Postfix) with ESMTP id 97E386052471; Fri, 16 May 2025 14:54:25 -0400 (EDT) Subject: |SUCCESS| pw153486-153487 [PATCH] [2/2] test/strsep: add tests for f From: dpdklab@iol.unh.edu To: Test Report Cc: dpdk-test-reports@iol.unh.edu In-Reply-To: <1747401734-6303-2-git-send-email-andremue@linux.microsoft.com> References: <1747401734-6303-2-git-send-email-andremue@linux.microsoft.com> Content-Type: text/plain X-BeenThere: test-report@dpdk.org X-Mailman-Version: 2.1.29 Precedence: list List-Id: automatic DPDK test reports List-Unsubscribe: , List-Archive: List-Post: List-Help: List-Subscribe: , Errors-To: test-report-bounces@dpdk.org Test-Label: iol-unit-arm64-testing Test-Status: SUCCESS http://dpdk.org/patch/153487 _Testing PASS_ Submitter: Andre Muezerie Date: Friday, May 16 2025 13:22:14 DPDK git baseline: Repo:dpdk Branch: master CommitID:117e86c4b96ed761e9a7ab766261208fe81bf5ca 153486-153487 --> testing pass Upstream job id: Generic-Unit-Test-DPDK#338560 Test environment and result as below: +-----------------------------+--------------+---------------------------+------------------------------+----------------+ | Environment | lpm_autotest | cryptodev_sw_zuc_autotest | cryptodev_sw_snow3g_autotest | dpdk_unit_test | +=============================+==============+===========================+==============================+================+ | Ubuntu 20.04 ARM SVE | PASS | SKIPPED | SKIPPED | SKIPPED | +-----------------------------+--------------+---------------------------+------------------------------+----------------+ | Debian 12 (arm) | SKIPPED | PASS | PASS | PASS | +-----------------------------+--------------+---------------------------+------------------------------+----------------+ | CentOS Stream 9 (ARM) | SKIPPED | SKIPPED | SKIPPED | PASS | +-----------------------------+--------------+---------------------------+------------------------------+----------------+ | Fedora 40 (ARM) | SKIPPED | SKIPPED | SKIPPED | PASS | +-----------------------------+--------------+---------------------------+------------------------------+----------------+ | CentOS Stream 10 (ARM) | SKIPPED | SKIPPED | SKIPPED | PASS | +-----------------------------+--------------+---------------------------+------------------------------+----------------+ | Fedora 41 (ARM Clang) | SKIPPED | SKIPPED | SKIPPED | PASS | +-----------------------------+--------------+---------------------------+------------------------------+----------------+ | Fedora 40 (ARM Clang) | SKIPPED | SKIPPED | SKIPPED | PASS | +-----------------------------+--------------+---------------------------+------------------------------+----------------+ | Ubuntu 22.04 (ARM) | SKIPPED | SKIPPED | SKIPPED | PASS | +-----------------------------+--------------+---------------------------+------------------------------+----------------+ | Ubuntu 20.04 (ARM) | SKIPPED | SKIPPED | SKIPPED | PASS | +-----------------------------+--------------+---------------------------+------------------------------+----------------+ | Ubuntu 24.04 (ARM) | SKIPPED | SKIPPED | SKIPPED | PASS | +-----------------------------+--------------+---------------------------+------------------------------+----------------+ | RHEL9 (ARM) | SKIPPED | SKIPPED | SKIPPED | PASS | +-----------------------------+--------------+---------------------------+------------------------------+----------------+ | Fedora 41 (ARM) | SKIPPED | SKIPPED | SKIPPED | PASS | +-----------------------------+--------------+---------------------------+------------------------------+----------------+ | 32-bit Ubuntu 22.04.4 (ARM) | SKIPPED | SKIPPED | SKIPPED | PASS | +-----------------------------+--------------+---------------------------+------------------------------+----------------+ Ubuntu 20.04 ARM SVE Kernel: Depends on container host Compiler: gcc (Ubuntu 10.5.0-1ubuntu1~20.04) 10.5.0 Debian 12 (arm) Kernel: Depends on container host Compiler: gcc (Debian 12.2.0-14) 12.2.0 CentOS Stream 9 (ARM) Kernel: Depends on container host Compiler: gcc 11.5.0 20240719 (Red Hat 11.5.0-2) Fedora 40 (ARM) Kernel: Depends on container host Compiler: gcc 14.2.1 20240912 (Red Hat 14.2.1-3) CentOS Stream 10 (ARM) Kernel: Depends on container host Compiler: gcc 14.2.1 20241104 (Red Hat 14.2.1-6) Fedora 41 (ARM Clang) Kernel: Depends on container host Compiler: clang 19.1.5 (Fedora 19.1.5-1.fc41) Fedora 40 (ARM Clang) Kernel: Depends on container host Compiler: clang 18.1.8 (Fedora 18.1.8-1.fc40) Ubuntu 22.04 (ARM) Kernel: Depends on container host Compiler: gcc (Ubuntu 11.4.0-1ubuntu1~22.04) 11.4.0 Ubuntu 20.04 (ARM) Kernel: Depends on container host Compiler: gcc (Ubuntu 9.4.0-1ubuntu1~20.04.2) 9.4.0 Ubuntu 24.04 (ARM) Kernel: Depends on container host Compiler: gcc (Ubuntu 13.3.0-6ubuntu2~24.04) 13.3.0 RHEL9 (ARM) Kernel: Depends on container host Compiler: gcc 11.5.0 20240719 (Red Hat 11.5.0-2) Fedora 41 (ARM) Kernel: Depends on container host Compiler: gcc 14.2.1 20240912 (Red Hat 14.2.1-3) 32-bit Ubuntu 22.04.4 (ARM) Kernel: 5.15.83+ aarch64 Compiler: gcc (Ubuntu 11.4.0-1ubuntu1~22.04) 11.4.0 To view detailed results, visit: https://lab.dpdk.org/results/dashboard/patchsets/33192/ UNH-IOL DPDK Community Lab To manage your email subscriptions, visit: https://lab.dpdk.org/results/dashboard/preferences/subscriptions/