From mboxrd@z Thu Jan 1 00:00:00 1970 Return-Path: Received: from mails.dpdk.org (mails.dpdk.org [217.70.189.124]) by inbox.dpdk.org (Postfix) with ESMTP id 48B8046766 for ; Fri, 16 May 2025 22:09:12 +0200 (CEST) Received: from mails.dpdk.org (localhost [127.0.0.1]) by mails.dpdk.org (Postfix) with ESMTP id 26DDC40615; Fri, 16 May 2025 22:09:12 +0200 (CEST) Received: from mail-yw1-f226.google.com (mail-yw1-f226.google.com [209.85.128.226]) by mails.dpdk.org (Postfix) with ESMTP id DF2A840395 for ; Fri, 16 May 2025 22:09:10 +0200 (CEST) Received: by mail-yw1-f226.google.com with SMTP id 00721157ae682-708ac7dfc19so24239467b3.3 for ; Fri, 16 May 2025 13:09:10 -0700 (PDT) DKIM-Signature: v=1; a=rsa-sha256; c=relaxed/relaxed; d=iol.unh.edu; s=unh-iol; t=1747426150; x=1748030950; darn=dpdk.org; h=references:in-reply-to:cc:to:from:subject:message-id:date:from:to :cc:subject:date:message-id:reply-to; bh=U5ispcjF/dofG+sINB54IDE6DrBF6iCws0BFQibUS0o=; b=Z0hEhgcTS7gI4ySplCP84gtF9Ze/Sxud2WZ1bE/m1FCMEg+f147KuLmd/B8xEuJ6BY wUBRWaQyFJztd+h5vN6BStVneEVm1kYQn4zMWdg2l8DUPxKunsnpqhUZX8iLPHY9C+43 C9U1AmVfME0p31K0fUu0AfF7phMLNUPT/BHgI= X-Google-DKIM-Signature: v=1; a=rsa-sha256; c=relaxed/relaxed; d=1e100.net; s=20230601; t=1747426150; x=1748030950; h=references:in-reply-to:cc:to:from:subject:message-id:date :x-gm-message-state:from:to:cc:subject:date:message-id:reply-to; bh=U5ispcjF/dofG+sINB54IDE6DrBF6iCws0BFQibUS0o=; b=QpSMFJZg/m2FWtgnhywJc6zSQljvrgFALgXA539SwHQLqkoZhxMPYmqCRxtcb8U599 Yd+LH/ZYsbv/cyygod9i5mDwbMJqeC+j2w1mTrn0z92wpjxpCKmbJNHJLLBAZnn75eJH yxfjS0Z2KNsRnH5x3u2pt/13YaSQKxck/S/vaa2SulkcJSR9Gwh6OMutbOh/HJVgnkxc Aj76Q/+Ah4cfTd9SFpzjvaDqua47nzAfEsHK1VxpbOk2I91sXlwLcVUz7tVMYfEdH5zA q2tbDg4SzBqxffL2wTB8xPwUOxB0jgePEwErGwe+sSXAPvwbqnKD/EiVml108z7MIXvf +Eng== X-Gm-Message-State: AOJu0YwzEcSf/+W547xFSWL4kGwo+u3jYImmVU2gK0pJG39kVGC6MD7A bJv672ULqjVRMO7UBvnTRPOrw0B1OpGql62PN+OXJFl3MT00tDLhhMtE+KoxCxeRjFDNxDzPKbo MGQNeUaWTkNnBJ59zNVsJle1XmhLzTOjTrPnvDxZpEr7W X-Gm-Gg: ASbGncs6LwlcZUtKNaSI8SlgOUIW3gWgdp9zbGYL5QEmqqhj2gTl4Op0r5ZXmC4QxEz hq+/O5Q0IIuKvN1s5B6JW/He5p7BG2yieAIPNBmmYKQ6xpxdc1+kYIhZUbgohzBnyLfJ+Aisism lLXHFye7MVfFeq3Vffj2x30WclMSvWrzUhIULiHU1sOmnuLv1gLxNePe/8tbz8Z6C1zUJL9FkjF YzI2+qbWeNJTpme2DZ3XnKgKeAntKMLAwsGB4uoUGC2iwqhRX7YvBsYxqBeUf51cs/0buz4UNqf yMyIHEVZp+kUl2ERU4+qvPcJZHOSlYo79NJ9CEHtRCkgHUz0NzZuMGkxwug= X-Google-Smtp-Source: AGHT+IElNFproAcxlBTWhQVMUOfrvOl7asLw2kquO7mnnSrlFSR5m+B2Yg+WF47yaeNh5aAYhhJsTVF/HTtu X-Received: by 2002:a05:690c:d1c:b0:708:c18d:e6ac with SMTP id 00721157ae682-70ca79f3012mr78298137b3.18.1747426150156; Fri, 16 May 2025 13:09:10 -0700 (PDT) Received: from postal.iol.unh.edu (postal.iol.unh.edu. [132.177.123.84]) by smtp-relay.gmail.com with ESMTPS id 00721157ae682-70ca82ffab8sm700737b3.1.2025.05.16.13.09.10 (version=TLS1_2 cipher=ECDHE-ECDSA-AES128-GCM-SHA256 bits=128/128); Fri, 16 May 2025 13:09:10 -0700 (PDT) X-Relaying-Domain: iol.unh.edu Date: Fri, 16 May 2025 13:09:10 -0700 (PDT) Message-ID: <68279b66.050a0220.7f3d0.3e50SMTPIN_ADDED_MISSING@mx.google.com> Received: from [172.21.0.5] (unknown [172.18.0.240]) by postal.iol.unh.edu (Postfix) with ESMTP id AB3536052471; Fri, 16 May 2025 16:09:09 -0400 (EDT) Subject: |SUCCESS| pw153488 [PATCH] config/arm: update neoverse n3 SoC and ad From: dpdklab@iol.unh.edu To: Test Report Cc: dpdk-test-reports@iol.unh.edu In-Reply-To: <20250516161558.1482246-1-doug.foster@arm.com> References: <20250516161558.1482246-1-doug.foster@arm.com> Content-Type: text/plain X-BeenThere: test-report@dpdk.org X-Mailman-Version: 2.1.29 Precedence: list List-Id: automatic DPDK test reports List-Unsubscribe: , List-Archive: List-Post: List-Help: List-Subscribe: , Errors-To: test-report-bounces@dpdk.org Test-Label: iol-compile-arm64-testing Test-Status: SUCCESS http://dpdk.org/patch/153488 _Testing PASS_ Submitter: Doug Foster Date: Friday, May 16 2025 16:15:58 DPDK git baseline: Repo:dpdk Branch: master CommitID:117e86c4b96ed761e9a7ab766261208fe81bf5ca 153488 --> testing pass Upstream job id: Generic-DPDK-Compile-Meson#388778 Test environment and result as below: +----------------------------------------+--------------------+ | Environment | dpdk_meson_compile | +========================================+====================+ | RHEL9 (ARM) | PASS | +----------------------------------------+--------------------+ | Ubuntu 20.04 ARM GCC Cross Compile | PASS | +----------------------------------------+--------------------+ | Ubuntu 20.04 ARM SVE | PASS | +----------------------------------------+--------------------+ | Debian 12 with MUSDK | PASS | +----------------------------------------+--------------------+ | Fedora 41 (ARM Clang) | PASS | +----------------------------------------+--------------------+ | Ubuntu 22.04 (ARM) | PASS | +----------------------------------------+--------------------+ | Fedora 40 (ARM) | PASS | +----------------------------------------+--------------------+ | Fedora 41 (ARM) | PASS | +----------------------------------------+--------------------+ | Fedora 40 (ARM Clang) | PASS | +----------------------------------------+--------------------+ | Ubuntu 20.04 (ARM) | PASS | +----------------------------------------+--------------------+ | Ubuntu 20.04 aarch32 GCC Cross Compile | PASS | +----------------------------------------+--------------------+ | Ubuntu 20.04 ARM Clang Cross Compile | PASS | +----------------------------------------+--------------------+ | CentOS Stream 9 (ARM) | PASS | +----------------------------------------+--------------------+ | Ubuntu 24.04 (ARM) | PASS | +----------------------------------------+--------------------+ | Debian 12 (arm) | PASS | +----------------------------------------+--------------------+ | CentOS Stream 10 (ARM) | PASS | +----------------------------------------+--------------------+ RHEL9 (ARM) Kernel: Depends on container host Compiler: gcc 11.5.0 20240719 (Red Hat 11.5.0-2) Ubuntu 20.04 ARM GCC Cross Compile Kernel: Depends on container host Compiler: aarch64-linux-gnu-gcc (Ubuntu 9.4.0-1ubuntu1~20.04.2) 9.4.0 Ubuntu 20.04 ARM SVE Kernel: Depends on container host Compiler: gcc (Ubuntu 10.5.0-1ubuntu1~20.04) 10.5.0 Debian 12 with MUSDK Kernel: Depends on container host Compiler: gcc (Debian 12.2.0-14) 12.2.0 Fedora 41 (ARM Clang) Kernel: Depends on container host Compiler: clang 19.1.5 (Fedora 19.1.5-1.fc41) Ubuntu 22.04 (ARM) Kernel: Depends on container host Compiler: gcc (Ubuntu 11.4.0-1ubuntu1~22.04) 11.4.0 Fedora 40 (ARM) Kernel: Depends on container host Compiler: gcc 14.2.1 20240912 (Red Hat 14.2.1-3) Fedora 41 (ARM) Kernel: Depends on container host Compiler: gcc 14.2.1 20240912 (Red Hat 14.2.1-3) Fedora 40 (ARM Clang) Kernel: Depends on container host Compiler: clang 18.1.8 (Fedora 18.1.8-1.fc40) Ubuntu 20.04 (ARM) Kernel: Depends on container host Compiler: gcc (Ubuntu 9.4.0-1ubuntu1~20.04.2) 9.4.0 Ubuntu 20.04 aarch32 GCC Cross Compile Kernel: Depends on container host Compiler: gcc 9.4.0 Ubuntu 20.04 ARM Clang Cross Compile Kernel: Depends on container host Compiler: clang 10.0.0-4ubuntu1 CentOS Stream 9 (ARM) Kernel: Depends on container host Compiler: gcc 11.5.0 20240719 (Red Hat 11.5.0-2) Ubuntu 24.04 (ARM) Kernel: Depends on container host Compiler: gcc (Ubuntu 13.3.0-6ubuntu2~24.04) 13.3.0 Debian 12 (arm) Kernel: Depends on container host Compiler: gcc (Debian 12.2.0-14) 12.2.0 CentOS Stream 10 (ARM) Kernel: Depends on container host Compiler: gcc 14.2.1 20241104 (Red Hat 14.2.1-6) To view detailed results, visit: https://lab.dpdk.org/results/dashboard/patchsets/33193/ UNH-IOL DPDK Community Lab To manage your email subscriptions, visit: https://lab.dpdk.org/results/dashboard/preferences/subscriptions/