From mboxrd@z Thu Jan 1 00:00:00 1970 Return-Path: Received: from mails.dpdk.org (mails.dpdk.org [217.70.189.124]) by inbox.dpdk.org (Postfix) with ESMTP id 481AC46766 for ; Fri, 16 May 2025 22:09:52 +0200 (CEST) Received: from mails.dpdk.org (localhost [127.0.0.1]) by mails.dpdk.org (Postfix) with ESMTP id 3FB6240615; Fri, 16 May 2025 22:09:52 +0200 (CEST) Received: from mail-vs1-f98.google.com (mail-vs1-f98.google.com [209.85.217.98]) by mails.dpdk.org (Postfix) with ESMTP id 7319F40395 for ; Fri, 16 May 2025 22:09:50 +0200 (CEST) Received: by mail-vs1-f98.google.com with SMTP id ada2fe7eead31-4df4ef9c59dso786515137.0 for ; Fri, 16 May 2025 13:09:50 -0700 (PDT) DKIM-Signature: v=1; a=rsa-sha256; c=relaxed/relaxed; d=iol.unh.edu; s=unh-iol; t=1747426190; x=1748030990; darn=dpdk.org; h=references:in-reply-to:cc:to:from:subject:message-id:date:from:to :cc:subject:date:message-id:reply-to; bh=/rLf9IE1rmA7tPZktV7hssIXhf0pB+IIOrYZArJsoSs=; b=SE8/Zn9HaDrefgZOr+xblM+PXPeVtNlm0OZdndOKV6jH6bxVUJRgTu/W+RciZtxWn6 aMbYh8rRN8EA7MJ5SJokLBFwhy/R0RIzxC5k/blo+FVFK1L/dFywNDRuteHBtIfzzh1L r3E53V5uHk6gdm5nRPV+FCwJeQTTfbQ+N+nZI= X-Google-DKIM-Signature: v=1; a=rsa-sha256; c=relaxed/relaxed; d=1e100.net; s=20230601; t=1747426190; x=1748030990; h=references:in-reply-to:cc:to:from:subject:message-id:date :x-gm-message-state:from:to:cc:subject:date:message-id:reply-to; bh=/rLf9IE1rmA7tPZktV7hssIXhf0pB+IIOrYZArJsoSs=; b=SP+WS0hr2ynuN5h94to216nrpNE+eemSgp+ZqPPyK3mP42XKHCIDAzH7ywF6VO/8xF maTl5CWycq3pQcy2dY4jVx+j0y3U6r0JXUFD3r2GE8XBH5jXvXnkaqcxsvn9oWWZTxv+ 8QPN8t+kcL+nlRFSBZ3153GzfyjIcHGHDIAqKhe7U4JtLMmYcWhpYAuyBhdV0Lc0rL4d sqNstWkl0c73pDoTvJky/ExQYOyll97lpgORRdk1if5hItoxFwtiQr21mdgAPsTDAIi2 msdWqhTeUCHK3XN5t1oeGkZjCUloInrMCdBeQ7enM9ZUCppmS5eHHpGDWVtv2DOtPc5i Vvqg== X-Gm-Message-State: AOJu0YzElDNdm88YBUbFQlyC/AMNJQP79I6+GQ3nqaOF6szvjpFvhv7E U8b6I5k7l7F9szNxT7gOlIz6or0ZvV60rS1qhgG+jLukbjm06DvXEfci8M2etuh1UTtkL6LOz/F R9R5pPCJT4Es/u98+sK/drC1tWE0/VK5e+oyeo7TXj+ltyzB/7JZsVxIk+Qff X-Gm-Gg: ASbGncv7qpRj0h3OhNFYPUi4YzNh0hcDXDPT1SnNYNNvS1pjlwBelqDHqynf1EZxlWa NyWB8giNZPCiFMoaFT8STRu2+gJeMM+Fju3eaYS1pCsigcqYY0dLQbpgfcjmMQnlK0BjyAarmzj XjdMB7gBqUdC5g4jUm7oiNqsNkTVyQ1I7JSeyR9plZfr1HsNOw2rzIHtk0lwfCB4gNt2iE5bOQ1 w6EvhFu/7VAuzH+taTQUt2czReeG3wd3YgK27yUUN1ljO7CguDXlWm7NaJqnyoo2RyOUnYqVhku cWpLdu2gT8UbBKoPhM1hagwviDX6zgelsKJ6 X-Google-Smtp-Source: AGHT+IE+DKoCfZ2At55y4q7bh/JYc/LaRSj0HVIQ/kNd+UjVWuAa5gxt/OFQq6I1TffhOqgeN6Mc1uzYPKw1 X-Received: by 2002:a05:6102:91c:b0:4de:b205:dd57 with SMTP id ada2fe7eead31-4dfa6c93418mr6382007137.25.1747426189681; Fri, 16 May 2025 13:09:49 -0700 (PDT) Received: from postal.iol.unh.edu (postal.iol.unh.edu. [2606:4100:3880:1234::84]) by smtp-relay.gmail.com with ESMTPS id a1e0cc1a2514c-87bec102c7esm47941241.2.2025.05.16.13.09.49 (version=TLS1_2 cipher=ECDHE-ECDSA-AES128-GCM-SHA256 bits=128/128); Fri, 16 May 2025 13:09:49 -0700 (PDT) X-Relaying-Domain: iol.unh.edu Date: Fri, 16 May 2025 13:09:49 -0700 (PDT) Message-ID: <68279b8d.b00a0220.33f27.2b66SMTPIN_ADDED_MISSING@mx.google.com> Received: from [172.21.0.7] (unknown [172.18.0.240]) by postal.iol.unh.edu (Postfix) with ESMTP id 55A906052471; Fri, 16 May 2025 16:09:49 -0400 (EDT) Subject: |SUCCESS| pw153488 [PATCH] config/arm: update neoverse n3 SoC and ad From: dpdklab@iol.unh.edu To: Test Report Cc: dpdk-test-reports@iol.unh.edu In-Reply-To: <20250516161558.1482246-1-doug.foster@arm.com> References: <20250516161558.1482246-1-doug.foster@arm.com> Content-Type: text/plain X-BeenThere: test-report@dpdk.org X-Mailman-Version: 2.1.29 Precedence: list List-Id: automatic DPDK test reports List-Unsubscribe: , List-Archive: List-Post: List-Help: List-Subscribe: , Errors-To: test-report-bounces@dpdk.org Test-Label: iol-compile-arm64-testing Test-Status: SUCCESS http://dpdk.org/patch/153488 _Testing PASS_ Submitter: Doug Foster Date: Friday, May 16 2025 16:15:58 DPDK git baseline: Repo:dpdk Branch: master CommitID:117e86c4b96ed761e9a7ab766261208fe81bf5ca 153488 --> testing pass Upstream job id: Generic-DPDK-Compile-Meson#388780 Test environment and result as below: +----------------------------------------+--------------------+ | Environment | dpdk_meson_compile | +========================================+====================+ | RHEL9 (ARM) | PASS | +----------------------------------------+--------------------+ | Ubuntu 20.04 ARM GCC Cross Compile | PASS | +----------------------------------------+--------------------+ | Ubuntu 20.04 ARM SVE | PASS | +----------------------------------------+--------------------+ | Debian 12 with MUSDK | PASS | +----------------------------------------+--------------------+ | Fedora 41 (ARM Clang) | PASS | +----------------------------------------+--------------------+ | Ubuntu 22.04 (ARM) | PASS | +----------------------------------------+--------------------+ | Fedora 40 (ARM) | PASS | +----------------------------------------+--------------------+ | Fedora 41 (ARM) | PASS | +----------------------------------------+--------------------+ | Fedora 40 (ARM Clang) | PASS | +----------------------------------------+--------------------+ | Ubuntu 20.04 (ARM) | PASS | +----------------------------------------+--------------------+ | Ubuntu 20.04 aarch32 GCC Cross Compile | PASS | +----------------------------------------+--------------------+ | Ubuntu 20.04 ARM Clang Cross Compile | PASS | +----------------------------------------+--------------------+ | CentOS Stream 9 (ARM) | PASS | +----------------------------------------+--------------------+ | Ubuntu 24.04 (ARM) | PASS | +----------------------------------------+--------------------+ | Debian 12 (arm) | PASS | +----------------------------------------+--------------------+ | CentOS Stream 10 (ARM) | PASS | +----------------------------------------+--------------------+ RHEL9 (ARM) Kernel: Depends on container host Compiler: gcc 11.5.0 20240719 (Red Hat 11.5.0-2) Ubuntu 20.04 ARM GCC Cross Compile Kernel: Depends on container host Compiler: aarch64-linux-gnu-gcc (Ubuntu 9.4.0-1ubuntu1~20.04.2) 9.4.0 Ubuntu 20.04 ARM SVE Kernel: Depends on container host Compiler: gcc (Ubuntu 10.5.0-1ubuntu1~20.04) 10.5.0 Debian 12 with MUSDK Kernel: Depends on container host Compiler: gcc (Debian 12.2.0-14) 12.2.0 Fedora 41 (ARM Clang) Kernel: Depends on container host Compiler: clang 19.1.5 (Fedora 19.1.5-1.fc41) Ubuntu 22.04 (ARM) Kernel: Depends on container host Compiler: gcc (Ubuntu 11.4.0-1ubuntu1~22.04) 11.4.0 Fedora 40 (ARM) Kernel: Depends on container host Compiler: gcc 14.2.1 20240912 (Red Hat 14.2.1-3) Fedora 41 (ARM) Kernel: Depends on container host Compiler: gcc 14.2.1 20240912 (Red Hat 14.2.1-3) Fedora 40 (ARM Clang) Kernel: Depends on container host Compiler: clang 18.1.8 (Fedora 18.1.8-1.fc40) Ubuntu 20.04 (ARM) Kernel: Depends on container host Compiler: gcc (Ubuntu 9.4.0-1ubuntu1~20.04.2) 9.4.0 Ubuntu 20.04 aarch32 GCC Cross Compile Kernel: Depends on container host Compiler: gcc 9.4.0 Ubuntu 20.04 ARM Clang Cross Compile Kernel: Depends on container host Compiler: clang 10.0.0-4ubuntu1 CentOS Stream 9 (ARM) Kernel: Depends on container host Compiler: gcc 11.5.0 20240719 (Red Hat 11.5.0-2) Ubuntu 24.04 (ARM) Kernel: Depends on container host Compiler: gcc (Ubuntu 13.3.0-6ubuntu2~24.04) 13.3.0 Debian 12 (arm) Kernel: Depends on container host Compiler: gcc (Debian 12.2.0-14) 12.2.0 CentOS Stream 10 (ARM) Kernel: Depends on container host Compiler: gcc 14.2.1 20241104 (Red Hat 14.2.1-6) To view detailed results, visit: https://lab.dpdk.org/results/dashboard/patchsets/33193/ UNH-IOL DPDK Community Lab To manage your email subscriptions, visit: https://lab.dpdk.org/results/dashboard/preferences/subscriptions/