From mboxrd@z Thu Jan 1 00:00:00 1970 Return-Path: Received: from mails.dpdk.org (mails.dpdk.org [217.70.189.124]) by inbox.dpdk.org (Postfix) with ESMTP id C5F8B46766 for ; Fri, 16 May 2025 22:22:15 +0200 (CEST) Received: from mails.dpdk.org (localhost [127.0.0.1]) by mails.dpdk.org (Postfix) with ESMTP id C153840615; Fri, 16 May 2025 22:22:15 +0200 (CEST) Received: from mail-qv1-f100.google.com (mail-qv1-f100.google.com [209.85.219.100]) by mails.dpdk.org (Postfix) with ESMTP id 5F48F40395 for ; Fri, 16 May 2025 22:22:14 +0200 (CEST) Received: by mail-qv1-f100.google.com with SMTP id 6a1803df08f44-6f8b81fda4aso8434696d6.1 for ; Fri, 16 May 2025 13:22:14 -0700 (PDT) DKIM-Signature: v=1; a=rsa-sha256; c=relaxed/relaxed; d=iol.unh.edu; s=unh-iol; t=1747426934; x=1748031734; darn=dpdk.org; h=references:in-reply-to:cc:to:from:subject:message-id:date:from:to :cc:subject:date:message-id:reply-to; bh=NtnMYXY2JHBt8+jvid2kmjDZMmCVFm1L6rBvo0OKMfw=; b=aYjRFxKwY3n4E3SgH5xOkJS7jF4059i7fEOEcDkBEQRPEM2USQUsf5keLDFfhnTQsZ +Eh8U/IULI985z37G1yvsKT60ZXBgoRkrXIISOyb1JxQTWNOpJ7AmetROBynyL1AYVdH ATYI/EG9HKof7dtOuFzZNLD/EXa0r7mQLSHG8= X-Google-DKIM-Signature: v=1; a=rsa-sha256; c=relaxed/relaxed; d=1e100.net; s=20230601; t=1747426934; x=1748031734; h=references:in-reply-to:cc:to:from:subject:message-id:date :x-gm-message-state:from:to:cc:subject:date:message-id:reply-to; bh=NtnMYXY2JHBt8+jvid2kmjDZMmCVFm1L6rBvo0OKMfw=; b=EKgzxmahzPAQ+Z1zLwUo0GEqaT1bvSInABHLKRl2KgKznCurQymdSbwj1DWQKGHDAU gsOMtiyYcfgqJcJqmKrv1tRP6x3s9ZXUUaEPeFpZjec+G4n9OAifZjNZU4jVx68PINJC 35/EG79l/0Fvl4CCWNOqs2k+gyHgo1zGTKh3pVbTAqpfRJWAEAorh5YQozNA07BOVduR DMnWUOmjBkLpvz2uRyeluduWPSflwWdwzjJvYWXDMj+8A5zzEbKwqio5CTpecSZZD+kd 2HnJ4EuR2jgERmPuARC/D28r+w4pYI5b7vrvHZBb0tKjWBAtZ8KNIhj/18wg0QvWDPdS zAkg== X-Gm-Message-State: AOJu0YwxGTHVZ3D/+YcdWzSw0YJhQuKtsMsjvfQxOX13pPux2oYA0/TS KNXvpf8Plo5qT8WT9daz+7Puj++vjSO69w/3yf/MZ4pWLyhavljMioZD9BWDn/GKzSPo8zWsfpO DXd4aYt5sRlsSpHIm2C5WHXyrce2zInT0yUT5koEZdrmB/iMsvTpBy6yQ6QJH X-Gm-Gg: ASbGncuM+stRm6iBjq+bOvRLLdQrx5WRyzxbSbj+Rqns7+f4vPNMjuMD7Ms1XV9dZnq JnyhNlstJEtkPzaSpSeEGhyq4xfLSmJ0PLZSgxUmSqIufm0rEhbwb8M5Fg38RZ3FnI6P8XLOp9n 7RbT+cQC8RognNHbc2gEJ2ANYUAp8FcZMkah9S+jZ/jq5ENHST9yY7h7NDtnSQ4S0ZRrljEpyvY /C2n4QhY61lpbVSD5Kj/bEHIH6JzpBOZD9WARAxMklc2Uy97jy7NG/8GiEdaH+8Z+wk5wvmtcQ8 Xao9sH9wjoGq+Ytkr7OVhCD6+jkPl8Sp/E0p X-Google-Smtp-Source: AGHT+IE3EFVbPPEEf1Q7Y55dfRc+O93f4uplELC1DajePQy4qVAkfv/o3Fb10Oaohq9OGAHmnr8fXH57VwIK X-Received: by 2002:a05:6214:1303:b0:6e8:f1b6:a122 with SMTP id 6a1803df08f44-6f8b08ab97emr78604396d6.29.1747426933721; Fri, 16 May 2025 13:22:13 -0700 (PDT) Received: from postal.iol.unh.edu (postal.iol.unh.edu. [2606:4100:3880:1234::84]) by smtp-relay.gmail.com with ESMTPS id 6a1803df08f44-6f8b09b604dsm917346d6.68.2025.05.16.13.22.13 (version=TLS1_2 cipher=ECDHE-ECDSA-AES128-GCM-SHA256 bits=128/128); Fri, 16 May 2025 13:22:13 -0700 (PDT) X-Relaying-Domain: iol.unh.edu Date: Fri, 16 May 2025 13:22:13 -0700 (PDT) Message-ID: <68279e75.0c0a0220.1c0650.582eSMTPIN_ADDED_MISSING@mx.google.com> Received: from [172.21.0.5] (unknown [172.18.0.240]) by postal.iol.unh.edu (Postfix) with ESMTP id 6CC876052471; Fri, 16 May 2025 16:22:13 -0400 (EDT) Subject: |SUCCESS| pw153491 [PATCH] doc/linux_gsg: add build instructions for From: dpdklab@iol.unh.edu To: Test Report Cc: dpdk-test-reports@iol.unh.edu In-Reply-To: <20250516185307.1494231-1-doug.foster@arm.com> References: <20250516185307.1494231-1-doug.foster@arm.com> Content-Type: text/plain X-BeenThere: test-report@dpdk.org X-Mailman-Version: 2.1.29 Precedence: list List-Id: automatic DPDK test reports List-Unsubscribe: , List-Archive: List-Post: List-Help: List-Subscribe: , Errors-To: test-report-bounces@dpdk.org Test-Label: iol-unit-amd64-testing Test-Status: SUCCESS http://dpdk.org/patch/153491 _Testing PASS_ Submitter: Doug Foster Date: Friday, May 16 2025 18:53:07 DPDK git baseline: Repo:dpdk Branch: master CommitID:117e86c4b96ed761e9a7ab766261208fe81bf5ca 153491 --> testing pass Upstream job id: Generic-VM-Unit-Test-DPDK#28581 Test environment and result as below: +---------------------+----------------+ | Environment | dpdk_unit_test | +=====================+================+ | Fedora 40 (Clang) | PASS | +---------------------+----------------+ | CentOS Stream 9 | PASS | +---------------------+----------------+ | Ubuntu 20.04 | PASS | +---------------------+----------------+ | Fedora 40 | PASS | +---------------------+----------------+ | Debian 12 | PASS | +---------------------+----------------+ | RHEL9 | PASS | +---------------------+----------------+ | Fedora 41 | PASS | +---------------------+----------------+ | CentOS Stream 10 | PASS | +---------------------+----------------+ | Fedora 41 (Clang) | PASS | +---------------------+----------------+ | Ubuntu 22.04 | PASS | +---------------------+----------------+ | RHEL8 | PASS | +---------------------+----------------+ | Ubuntu 24.04 | PASS | +---------------------+----------------+ | Windows Server 2022 | PASS | +---------------------+----------------+ Fedora 40 (Clang) Kernel: Depends on container host Compiler: clang 18.1.8 (Fedora 18.1.8-1.fc40) CentOS Stream 9 Kernel: Depends on container host Compiler: gcc 11.5.0 20240719 (Red Hat 11.5.0-2) Ubuntu 20.04 Kernel: Depends on container host Compiler: gcc (Ubuntu 9.4.0-1ubuntu1~20.04.2) 9.4.0 Fedora 40 Kernel: Depends on container host Compiler: gcc 14.2.1 20240912 (Red Hat 14.2.1-3) Debian 12 Kernel: Depends on container host Compiler: gcc (Debian 12.2.0-14) 12.2.0 RHEL9 Kernel: Depends on container host Compiler: gcc 11.5.0 20240719 (Red Hat 11.5.0-2) Fedora 41 Kernel: Depends on container host Compiler: gcc 14.2.1 20240912 (Red Hat 14.2.1-3) CentOS Stream 10 Kernel: Depends on container host Compiler: gcc 14.2.1 20241104 (Red Hat 14.2.1-6) Fedora 41 (Clang) Kernel: Depends on container host Compiler: clang 19.1.5 (Fedora 19.1.5-1.fc41) Ubuntu 22.04 Kernel: Depends on container host Compiler: gcc (Ubuntu 11.4.0-1ubuntu1~22.04) 11.4.0 RHEL8 Kernel: Depends on container host Compiler: gcc 8.5.0 20210514 (Red Hat 8.5.0-22) Ubuntu 24.04 Kernel: Depends on container host Compiler: gcc (Ubuntu 13.3.0-6ubuntu2~24.04) 13.3.0 Windows Server 2022 Kernel: 10.0.20348.2031 Compiler: clang 15.0.7, gcc 14.1.0 (MinGW), and MSVC VS 19.39.33521 To view detailed results, visit: https://lab.dpdk.org/results/dashboard/patchsets/33195/ UNH-IOL DPDK Community Lab To manage your email subscriptions, visit: https://lab.dpdk.org/results/dashboard/preferences/subscriptions/