From mboxrd@z Thu Jan 1 00:00:00 1970 Return-Path: Received: from mails.dpdk.org (mails.dpdk.org [217.70.189.124]) by inbox.dpdk.org (Postfix) with ESMTP id E210046766 for ; Fri, 16 May 2025 22:23:09 +0200 (CEST) Received: from mails.dpdk.org (localhost [127.0.0.1]) by mails.dpdk.org (Postfix) with ESMTP id DF11140615; Fri, 16 May 2025 22:23:09 +0200 (CEST) Received: from mail-qt1-f228.google.com (mail-qt1-f228.google.com [209.85.160.228]) by mails.dpdk.org (Postfix) with ESMTP id A7C5540395 for ; Fri, 16 May 2025 22:23:08 +0200 (CEST) Received: by mail-qt1-f228.google.com with SMTP id d75a77b69052e-476ab588f32so36492501cf.2 for ; Fri, 16 May 2025 13:23:08 -0700 (PDT) DKIM-Signature: v=1; a=rsa-sha256; c=relaxed/relaxed; d=iol.unh.edu; s=unh-iol; t=1747426988; x=1748031788; darn=dpdk.org; h=references:in-reply-to:cc:to:from:subject:message-id:date:from:to :cc:subject:date:message-id:reply-to; bh=L1VpAptZ0L0agBb98w4PEAuLE5sR7jXRNQSqEjbTbyU=; b=g4L6LObi1cq6BYG/F/Hib+cQ68TAZeGFWo2xTwNS9Rzr9inkc1eM5ZpEMC3m5W4ozA yNZixkAfMYHdrLX40/fXIfmF9uF27LLi2dJkcZyNa6CzGwCej2B7t8xoseJj1xX6rrwb 1vzdQFFePEbP32K+Vd3GZ+CLEGCwfbgmCm1ig= X-Google-DKIM-Signature: v=1; a=rsa-sha256; c=relaxed/relaxed; d=1e100.net; s=20230601; t=1747426988; x=1748031788; h=references:in-reply-to:cc:to:from:subject:message-id:date :x-gm-message-state:from:to:cc:subject:date:message-id:reply-to; bh=L1VpAptZ0L0agBb98w4PEAuLE5sR7jXRNQSqEjbTbyU=; b=OQPSzKjd2/Mr2u0SnPat/T0dVfqtwm13sJFPgx7Rvh5Vuaj+Fn+Ab9iilU6MQTkjdS M+98JsRzoKTO6hhv3JpF6BSAExUhTtvrnQyTFGiW4f6MBPBf5ZE8Gzy+iGMqTk3zzcDR 8XiVXzx4onpoh07O3rAUUQsXxpz/ABbQcn3YwAvYYZumOcxNK+BvZw3wHICRMXI60bef 8GPUklKJ6KcyfILR9dI+DyTS3zU3rzEZyzV3HfFSfty54kD8EVG3CMqVlnoeKfVWUhtl zfL1zfNqwLHKx4LgBTd9rTvb3OwKU5KMDCkmKHo/EjmUr1osj2tkVFXRQ9H6Xcas2qQi rGUA== X-Gm-Message-State: AOJu0YzWnxBBOB3Drgm+7cY++C7bOXaqonL+cCoaWeXCBkC/DkfSi0Ay Q/rdda8JCZNp+zcFUzZczkXGOGlW3GvGFiwW3wyqWEEAxdiAqDU3/vodVdVFyoiC/86yN/EZxhb z7DWqqK9bDeXyvly/ygFSLF4obZU/J4b7qHyiKQcgwl9L X-Gm-Gg: ASbGncv0tUiQhPhRrcY2D4sZvuP3kXr/ogH5nUbKTiMXDfjwRtCMZ9D1VashMhWTBe8 uAg6LM/I2gr2WCN08sf2iHdHzif9r4B9HCIe29dmKUplOII37mEjl2MrywKnTGfefcbrRcrwmIT 3NqYYKWlpWnLByj3Fati/ytRU7RBqMHsICHtMT/Vjw7E5vXlGeUZ73NtwKZZIHiPmFO+d73BB6W Iw9MePJACL17pFAyJQPLwft86lX4b6ePsZrI17hW5SBOWwAbmpLCJ29voopE0i/zlRcyy/gc7NI 1kzhklcUXwk4EWpybFAqeUA2Cm+uO9uxEwgjPz8Qcm2ArFoTwqtcATA8GnA= X-Google-Smtp-Source: AGHT+IEjDKrkdHSkxqhiwvnnNZ1BV/U7Ufjyjfo3LLbmLNsAQSvQXhfcX5HBRYXpIeOS3lFhij7Y2IAAtaHI X-Received: by 2002:ac8:690f:0:b0:494:a1c9:f31d with SMTP id d75a77b69052e-494b074b753mr64218431cf.2.1747426988010; Fri, 16 May 2025 13:23:08 -0700 (PDT) Received: from postal.iol.unh.edu (postal.iol.unh.edu. [132.177.123.84]) by smtp-relay.gmail.com with ESMTPS id d75a77b69052e-494ae3d6e19sm1108291cf.5.2025.05.16.13.23.07 (version=TLS1_2 cipher=ECDHE-ECDSA-AES128-GCM-SHA256 bits=128/128); Fri, 16 May 2025 13:23:08 -0700 (PDT) X-Relaying-Domain: iol.unh.edu Date: Fri, 16 May 2025 13:23:08 -0700 (PDT) Message-ID: <68279eac.050a0220.967a0.7382SMTPIN_ADDED_MISSING@mx.google.com> Received: from [172.21.0.6] (unknown [172.18.0.240]) by postal.iol.unh.edu (Postfix) with ESMTP id AA0F76052471; Fri, 16 May 2025 16:23:07 -0400 (EDT) Subject: |SUCCESS| pw153491 [PATCH] doc/linux_gsg: add build instructions for From: dpdklab@iol.unh.edu To: Test Report Cc: dpdk-test-reports@iol.unh.edu In-Reply-To: <20250516185307.1494231-1-doug.foster@arm.com> References: <20250516185307.1494231-1-doug.foster@arm.com> Content-Type: text/plain X-BeenThere: test-report@dpdk.org X-Mailman-Version: 2.1.29 Precedence: list List-Id: automatic DPDK test reports List-Unsubscribe: , List-Archive: List-Post: List-Help: List-Subscribe: , Errors-To: test-report-bounces@dpdk.org Test-Label: iol-unit-arm64-testing Test-Status: SUCCESS http://dpdk.org/patch/153491 _Testing PASS_ Submitter: Doug Foster Date: Friday, May 16 2025 18:53:07 DPDK git baseline: Repo:dpdk Branch: master CommitID:117e86c4b96ed761e9a7ab766261208fe81bf5ca 153491 --> testing pass Upstream job id: Generic-Unit-Test-DPDK#338590 Test environment and result as below: +-----------------------------+--------------+---------------------------+------------------------------+----------------+ | Environment | lpm_autotest | cryptodev_sw_zuc_autotest | cryptodev_sw_snow3g_autotest | dpdk_unit_test | +=============================+==============+===========================+==============================+================+ | Ubuntu 20.04 ARM SVE | PASS | SKIPPED | SKIPPED | SKIPPED | +-----------------------------+--------------+---------------------------+------------------------------+----------------+ | Debian 12 (arm) | SKIPPED | PASS | PASS | PASS | +-----------------------------+--------------+---------------------------+------------------------------+----------------+ | CentOS Stream 10 (ARM) | SKIPPED | SKIPPED | SKIPPED | PASS | +-----------------------------+--------------+---------------------------+------------------------------+----------------+ | RHEL9 (ARM) | SKIPPED | SKIPPED | SKIPPED | PASS | +-----------------------------+--------------+---------------------------+------------------------------+----------------+ | Fedora 40 (ARM Clang) | SKIPPED | SKIPPED | SKIPPED | PASS | +-----------------------------+--------------+---------------------------+------------------------------+----------------+ | CentOS Stream 9 (ARM) | SKIPPED | SKIPPED | SKIPPED | PASS | +-----------------------------+--------------+---------------------------+------------------------------+----------------+ | Fedora 41 (ARM Clang) | SKIPPED | SKIPPED | SKIPPED | PASS | +-----------------------------+--------------+---------------------------+------------------------------+----------------+ | Fedora 40 (ARM) | SKIPPED | SKIPPED | SKIPPED | PASS | +-----------------------------+--------------+---------------------------+------------------------------+----------------+ | Fedora 41 (ARM) | SKIPPED | SKIPPED | SKIPPED | PASS | +-----------------------------+--------------+---------------------------+------------------------------+----------------+ | Ubuntu 22.04 (ARM) | SKIPPED | SKIPPED | SKIPPED | PASS | +-----------------------------+--------------+---------------------------+------------------------------+----------------+ | Ubuntu 24.04 (ARM) | SKIPPED | SKIPPED | SKIPPED | PASS | +-----------------------------+--------------+---------------------------+------------------------------+----------------+ | Ubuntu 20.04 (ARM) | SKIPPED | SKIPPED | SKIPPED | PASS | +-----------------------------+--------------+---------------------------+------------------------------+----------------+ | 32-bit Ubuntu 22.04.4 (ARM) | SKIPPED | SKIPPED | SKIPPED | PASS | +-----------------------------+--------------+---------------------------+------------------------------+----------------+ Ubuntu 20.04 ARM SVE Kernel: Depends on container host Compiler: gcc (Ubuntu 10.5.0-1ubuntu1~20.04) 10.5.0 Debian 12 (arm) Kernel: Depends on container host Compiler: gcc (Debian 12.2.0-14) 12.2.0 CentOS Stream 10 (ARM) Kernel: Depends on container host Compiler: gcc 14.2.1 20241104 (Red Hat 14.2.1-6) RHEL9 (ARM) Kernel: Depends on container host Compiler: gcc 11.5.0 20240719 (Red Hat 11.5.0-2) Fedora 40 (ARM Clang) Kernel: Depends on container host Compiler: clang 18.1.8 (Fedora 18.1.8-1.fc40) CentOS Stream 9 (ARM) Kernel: Depends on container host Compiler: gcc 11.5.0 20240719 (Red Hat 11.5.0-2) Fedora 41 (ARM Clang) Kernel: Depends on container host Compiler: clang 19.1.5 (Fedora 19.1.5-1.fc41) Fedora 40 (ARM) Kernel: Depends on container host Compiler: gcc 14.2.1 20240912 (Red Hat 14.2.1-3) Fedora 41 (ARM) Kernel: Depends on container host Compiler: gcc 14.2.1 20240912 (Red Hat 14.2.1-3) Ubuntu 22.04 (ARM) Kernel: Depends on container host Compiler: gcc (Ubuntu 11.4.0-1ubuntu1~22.04) 11.4.0 Ubuntu 24.04 (ARM) Kernel: Depends on container host Compiler: gcc (Ubuntu 13.3.0-6ubuntu2~24.04) 13.3.0 Ubuntu 20.04 (ARM) Kernel: Depends on container host Compiler: gcc (Ubuntu 9.4.0-1ubuntu1~20.04.2) 9.4.0 32-bit Ubuntu 22.04.4 (ARM) Kernel: 5.15.83+ aarch64 Compiler: gcc (Ubuntu 11.4.0-1ubuntu1~22.04) 11.4.0 To view detailed results, visit: https://lab.dpdk.org/results/dashboard/patchsets/33195/ UNH-IOL DPDK Community Lab To manage your email subscriptions, visit: https://lab.dpdk.org/results/dashboard/preferences/subscriptions/