From mboxrd@z Thu Jan 1 00:00:00 1970 Return-Path: Received: from mails.dpdk.org (mails.dpdk.org [217.70.189.124]) by inbox.dpdk.org (Postfix) with ESMTP id 2364546766 for ; Fri, 16 May 2025 22:23:32 +0200 (CEST) Received: from mails.dpdk.org (localhost [127.0.0.1]) by mails.dpdk.org (Postfix) with ESMTP id 1B9DC40615; Fri, 16 May 2025 22:23:32 +0200 (CEST) Received: from mail-io1-f99.google.com (mail-io1-f99.google.com [209.85.166.99]) by mails.dpdk.org (Postfix) with ESMTP id 1FB2940395 for ; Fri, 16 May 2025 22:23:31 +0200 (CEST) Received: by mail-io1-f99.google.com with SMTP id ca18e2360f4ac-85b41281b50so74961139f.3 for ; Fri, 16 May 2025 13:23:31 -0700 (PDT) DKIM-Signature: v=1; a=rsa-sha256; c=relaxed/relaxed; d=iol.unh.edu; s=unh-iol; t=1747427010; x=1748031810; darn=dpdk.org; h=references:in-reply-to:cc:to:from:subject:message-id:date:from:to :cc:subject:date:message-id:reply-to; bh=jta2OCKn2FPEpFM8qWnHs2yzEUos2mRaF6BKeiWVcTM=; b=MUtRxbeoumY67SK3c9kP5Z45bLgh3FIMo8jqQ2O1HrBY397su+Nxyy3vfR2x/9x2Ya veZcuDSmV/5H3aTMJ2MvAK0qELdE8lrdNqTi7M482e95/vK7P5ZOWlEYzn27tZAt6zgr UU4DRVk6I609f/00a9TDjhpanrN/ktdJBNwOE= X-Google-DKIM-Signature: v=1; a=rsa-sha256; c=relaxed/relaxed; d=1e100.net; s=20230601; t=1747427010; x=1748031810; h=references:in-reply-to:cc:to:from:subject:message-id:date :x-gm-message-state:from:to:cc:subject:date:message-id:reply-to; bh=jta2OCKn2FPEpFM8qWnHs2yzEUos2mRaF6BKeiWVcTM=; b=bTpq9fB+YShZ3eBIpN3UmUU7M408bdaladKr7ure2F4fK3jWQ/5rLgCz4Z4jNuwosC fWdOVvdnB59UFUSSR3lXhLJ3ZaG2ne4UiVlfvT9MO+1DXRorrlFdjBDtoLQGTtI1TpQA Em2oXAR7O2t82q9jRw1vtw16laL4tde5m3wJ5eO4OoSe6R/9GnrVf12Pv2VU5dlKJayb NhPdfPF1AOnuwKytZYzSll+4dm1gzYD0DHNw9W7ZNlFKRiuO4s7UbmbIqguKszanDqDy hiu8shbX+LQgn71A7XP5kTYdtRudqkq03xDfBSX+awF3EQJgqOcmX/K4a80tE0sIe3d7 CYmA== X-Gm-Message-State: AOJu0Yxc9Jm+NiTVZbcdDGK4SBVZXUbkIYkvv25qrDVfpMKP/RqOoiTv TwBErqHS47qIyKOSFTP5OE3QdN4jjOr4NxUi1M8tjCu22ZPy2Wql/t9TptVX22gTEDWOx2k+cDn ROh9ZHeIgrAGBz80WtHkLhoRtdQgsag3i7DDaBWK0P/RI X-Gm-Gg: ASbGnctZIqTaJjods2gpWketE5CD5pAL7j3xKRtsQ8mIac9sNEN9N1dBQ45pg6quO1I FHIAulTxzcE2yfJQIG/fMsyfn0TWYtjA2Wi6SKtRvYCrOBCjyHoTp44fStpyQJFgVBMcdkfMGnE rNcuvVNwaCkxD4BCaxJbx8pZtMzSXaI4SoE2zSFvphEfAQ6b0GdJas+Kp2L2s/oRSQLhJABtjxR nHfSsY8ErwnZLmn7ZvvCuxX1SdVngJdlSvJ+mjp6pbaUbxwXN+VBFPeJ7wIhG952N8ZxohrWJpd 5BSTYzLvjS7nHQiWRyGZtyyZ0K6nknMT5PIVN21BG9pIQV/twRsdly3yT88= X-Google-Smtp-Source: AGHT+IF0oI1xa1eN5YINFCpV0l1T2dvinsnL2/IAGUMvDFsr+E2c1pGFpzBGRhlV2ha5GzGlSRlxyrlJ9UIU X-Received: by 2002:a05:6602:3991:b0:855:5e3a:e56b with SMTP id ca18e2360f4ac-86a23256b96mr669263739f.12.1747427010461; Fri, 16 May 2025 13:23:30 -0700 (PDT) Received: from postal.iol.unh.edu (postal.iol.unh.edu. [132.177.123.84]) by smtp-relay.gmail.com with ESMTPS id 8926c6da1cb9f-4fbcc3add6esm106872173.25.2025.05.16.13.23.30 (version=TLS1_2 cipher=ECDHE-ECDSA-AES128-GCM-SHA256 bits=128/128); Fri, 16 May 2025 13:23:30 -0700 (PDT) X-Relaying-Domain: iol.unh.edu Date: Fri, 16 May 2025 13:23:30 -0700 (PDT) Message-ID: <68279ec2.050a0220.7da0e.655dSMTPIN_ADDED_MISSING@mx.google.com> Received: from [172.21.0.6] (unknown [172.18.0.240]) by postal.iol.unh.edu (Postfix) with ESMTP id F3F586052471; Fri, 16 May 2025 16:23:29 -0400 (EDT) Subject: |SUCCESS| pw153491 [PATCH] doc/linux_gsg: add build instructions for From: dpdklab@iol.unh.edu To: Test Report Cc: dpdk-test-reports@iol.unh.edu In-Reply-To: <20250516185307.1494231-1-doug.foster@arm.com> References: <20250516185307.1494231-1-doug.foster@arm.com> Content-Type: text/plain X-BeenThere: test-report@dpdk.org X-Mailman-Version: 2.1.29 Precedence: list List-Id: automatic DPDK test reports List-Unsubscribe: , List-Archive: List-Post: List-Help: List-Subscribe: , Errors-To: test-report-bounces@dpdk.org Test-Label: iol-abi-testing Test-Status: SUCCESS http://dpdk.org/patch/153491 _Testing PASS_ Submitter: Doug Foster Date: Friday, May 16 2025 18:53:07 DPDK git baseline: Repo:dpdk Branch: master CommitID:117e86c4b96ed761e9a7ab766261208fe81bf5ca 153491 --> testing pass Upstream job id: Generic-DPDK-Compile-ABI#126721 Test environment and result as below: +-------------------+----------+ | Environment | abi_test | +===================+==========+ | CentOS Stream 9 | PASS | +-------------------+----------+ | CentOS Stream 10 | PASS | +-------------------+----------+ | Debian 12 | PASS | +-------------------+----------+ | Fedora 40 (Clang) | PASS | +-------------------+----------+ | Fedora 40 | PASS | +-------------------+----------+ | Fedora 41 | PASS | +-------------------+----------+ | Fedora 41 (Clang) | PASS | +-------------------+----------+ | RHEL8 | PASS | +-------------------+----------+ | openSUSE Leap 15 | PASS | +-------------------+----------+ | RHEL9 | PASS | +-------------------+----------+ | Ubuntu 22.04 | PASS | +-------------------+----------+ | Ubuntu 24.04 | PASS | +-------------------+----------+ CentOS Stream 9 Kernel: Depends on container host Compiler: gcc 11.5.0 20240719 (Red Hat 11.5.0-2) CentOS Stream 10 Kernel: Depends on container host Compiler: gcc 14.2.1 20241104 (Red Hat 14.2.1-6) Debian 12 Kernel: Depends on container host Compiler: gcc (Debian 12.2.0-14) 12.2.0 Fedora 40 (Clang) Kernel: Depends on container host Compiler: clang 18.1.8 (Fedora 18.1.8-1.fc40) Fedora 40 Kernel: Depends on container host Compiler: gcc 14.2.1 20240912 (Red Hat 14.2.1-3) Fedora 41 Kernel: Depends on container host Compiler: gcc 14.2.1 20240912 (Red Hat 14.2.1-3) Fedora 41 (Clang) Kernel: Depends on container host Compiler: clang 19.1.5 (Fedora 19.1.5-1.fc41) RHEL8 Kernel: Depends on container host Compiler: gcc 8.5.0 20210514 (Red Hat 8.5.0-22) openSUSE Leap 15 Kernel: Depends on container host Compiler: gcc (SUSE Linux) 7.5.0 RHEL9 Kernel: Depends on container host Compiler: gcc 11.5.0 20240719 (Red Hat 11.5.0-2) Ubuntu 22.04 Kernel: Depends on container host Compiler: gcc (Ubuntu 11.4.0-1ubuntu1~22.04) 11.4.0 Ubuntu 24.04 Kernel: Depends on container host Compiler: gcc (Ubuntu 13.3.0-6ubuntu2~24.04) 13.3.0 To view detailed results, visit: https://lab.dpdk.org/results/dashboard/patchsets/33195/ UNH-IOL DPDK Community Lab To manage your email subscriptions, visit: https://lab.dpdk.org/results/dashboard/preferences/subscriptions/