From mboxrd@z Thu Jan 1 00:00:00 1970 Return-Path: Received: from mails.dpdk.org (mails.dpdk.org [217.70.189.124]) by inbox.dpdk.org (Postfix) with ESMTP id 17A684674B for ; Fri, 16 May 2025 22:49:09 +0200 (CEST) Received: from mails.dpdk.org (localhost [127.0.0.1]) by mails.dpdk.org (Postfix) with ESMTP id 08E3040659; Fri, 16 May 2025 22:49:09 +0200 (CEST) Received: from mail-pg1-f225.google.com (mail-pg1-f225.google.com [209.85.215.225]) by mails.dpdk.org (Postfix) with ESMTP id E862340615 for ; Fri, 16 May 2025 22:49:07 +0200 (CEST) Received: by mail-pg1-f225.google.com with SMTP id 41be03b00d2f7-ae727e87c26so1702022a12.0 for ; Fri, 16 May 2025 13:49:07 -0700 (PDT) DKIM-Signature: v=1; a=rsa-sha256; c=relaxed/relaxed; d=iol.unh.edu; s=unh-iol; t=1747428547; x=1748033347; darn=dpdk.org; h=references:in-reply-to:cc:to:from:subject:message-id:date:from:to :cc:subject:date:message-id:reply-to; bh=7lxBbM7DzwXqFfQW+SzSzjVi4eBv5znttJinxZMugSk=; b=BON3yPk2cA9eiwf3Yzf3JFEjpn2aBGMvTkh0LAfBlsZJdEzRC7IT7Ci3lIfzxv6Zpn jc1hJEVw2oVBTeGmIbZEw+EbAZ1x78r4buVHnN5WnCQWG0ieAaPttI9EJB8kgFj5LbLO mc+KKw2CKgQIX7BblU1M7Ug9FE4sGa8mOSCHk= X-Google-DKIM-Signature: v=1; a=rsa-sha256; c=relaxed/relaxed; d=1e100.net; s=20230601; t=1747428547; x=1748033347; h=references:in-reply-to:cc:to:from:subject:message-id:date :x-gm-message-state:from:to:cc:subject:date:message-id:reply-to; bh=7lxBbM7DzwXqFfQW+SzSzjVi4eBv5znttJinxZMugSk=; b=knrcVePHvr7LEHwu3SVXcaWWNTO2ayMeimHzxhUCIB36+k4hVps+ENTLEjqqJVzGre l+zHSH9ZscpcK595FVWR8my63ed7jsxCeG1HySI9H1j0SYRySw0rU/A6usgviejAiuUX 5IAxlcXcZHyJe5Mtr2NUYgbgdx8X9c5hUdk01JptYzDZTzaz+aV3SLfVLlz2VLuzzsDE vluKiChbaad29dbVtVmBjNFkv5PuZbAS5bManrO2zh+tB9Hfzv5zGweehFWiXF4wMJVj qzDqSCeZ5g5KnfM52yK7MqlQSmqIsbiRbDeWpl9dSX5sftMj8dEs4KVL1IYF83HvvGHF YbZg== X-Gm-Message-State: AOJu0YycM7/77IiRT6HJMPqKy77141NWL//d6/4aRdv+S+wGh0PCQFYH mwMeYe6uu0R3WkZTivkWxoZNxibEbylE1//VOZR54YUmJDlGfT23DQxW+LOxsxoS6sR9Wb1QPuf L21TPgdglbThRmgkCB/UqdVOpk4B3pRI2ezcWrVsHWrYT X-Gm-Gg: ASbGncvocNTtAMH9ME8R3A2Ep0E9B5DewA9q4DG+0n964W24QcRQL3S3wUn8+7vJQM4 7xfVm9lmxWwc9CyZiTQ++j0xTFHGP6MPi5ejarm0vb1qXsoseqr0WLgVCZsezefggingl4Yggoe KAZ5fyECPZZhEJ80d0JwBILXBHnJVuVqru/9q4rqezAqP7RBvqvGTfIVJymvbSliw4y4OdXXKeB MgdYz67B7jNf+OOriTkAl1rBZdc4TYvgU0o2XXRYJJIjDSZ+Q3CKiHhlWgZO2ZoaH3lAnFncDRt xcInn+BXNtFiXsFv4cSHwecKjPstWOlikJV1hEmQoIPya+m7tfzvzDxr+mc= X-Google-Smtp-Source: AGHT+IGviVV+BCbG89qu5t3VabLcLkOHfzNukDo5aT6/WHnHhWS6C+T9rqdqOws8UqnkHa+iQmpH5VEumkRW X-Received: by 2002:a17:90b:1d4f:b0:2fe:b470:dde4 with SMTP id 98e67ed59e1d1-30e7d50b00amr9195993a91.12.1747428547021; Fri, 16 May 2025 13:49:07 -0700 (PDT) Received: from postal.iol.unh.edu (postal.iol.unh.edu. [132.177.123.84]) by smtp-relay.gmail.com with ESMTPS id 98e67ed59e1d1-30e546f21d0sm265366a91.1.2025.05.16.13.49.06 (version=TLS1_2 cipher=ECDHE-ECDSA-AES128-GCM-SHA256 bits=128/128); Fri, 16 May 2025 13:49:07 -0700 (PDT) X-Relaying-Domain: iol.unh.edu Date: Fri, 16 May 2025 13:49:07 -0700 (PDT) Message-ID: <6827a4c3.170a0220.353c89.e832SMTPIN_ADDED_MISSING@mx.google.com> Received: from [172.21.0.6] (unknown [172.18.0.240]) by postal.iol.unh.edu (Postfix) with ESMTP id 6EEFA6052471; Fri, 16 May 2025 16:49:06 -0400 (EDT) Subject: |SUCCESS| pw153491 [PATCH] doc/linux_gsg: add build instructions for From: dpdklab@iol.unh.edu To: Test Report Cc: dpdk-test-reports@iol.unh.edu In-Reply-To: <20250516185307.1494231-1-doug.foster@arm.com> References: <20250516185307.1494231-1-doug.foster@arm.com> Content-Type: text/plain X-BeenThere: test-report@dpdk.org X-Mailman-Version: 2.1.29 Precedence: list List-Id: automatic DPDK test reports List-Unsubscribe: , List-Archive: List-Post: List-Help: List-Subscribe: , Errors-To: test-report-bounces@dpdk.org Test-Label: iol-unit-amd64-testing Test-Status: SUCCESS http://dpdk.org/patch/153491 _Testing PASS_ Submitter: Doug Foster Date: Friday, May 16 2025 18:53:07 DPDK git baseline: Repo:dpdk Branch: master CommitID:117e86c4b96ed761e9a7ab766261208fe81bf5ca 153491 --> testing pass Upstream job id: Generic-VM-Unit-Test-DPDK#28582 Test environment and result as below: +---------------------+----------------+ | Environment | dpdk_unit_test | +=====================+================+ | Fedora 40 (Clang) | PASS | +---------------------+----------------+ | CentOS Stream 9 | PASS | +---------------------+----------------+ | Ubuntu 20.04 | PASS | +---------------------+----------------+ | Fedora 40 | PASS | +---------------------+----------------+ | Debian 12 | PASS | +---------------------+----------------+ | RHEL9 | PASS | +---------------------+----------------+ | Fedora 41 | PASS | +---------------------+----------------+ | CentOS Stream 10 | PASS | +---------------------+----------------+ | Fedora 41 (Clang) | PASS | +---------------------+----------------+ | Ubuntu 22.04 | PASS | +---------------------+----------------+ | RHEL8 | PASS | +---------------------+----------------+ | Ubuntu 24.04 | PASS | +---------------------+----------------+ | Windows Server 2022 | PASS | +---------------------+----------------+ Fedora 40 (Clang) Kernel: Depends on container host Compiler: clang 18.1.8 (Fedora 18.1.8-1.fc40) CentOS Stream 9 Kernel: Depends on container host Compiler: gcc 11.5.0 20240719 (Red Hat 11.5.0-2) Ubuntu 20.04 Kernel: Depends on container host Compiler: gcc (Ubuntu 9.4.0-1ubuntu1~20.04.2) 9.4.0 Fedora 40 Kernel: Depends on container host Compiler: gcc 14.2.1 20240912 (Red Hat 14.2.1-3) Debian 12 Kernel: Depends on container host Compiler: gcc (Debian 12.2.0-14) 12.2.0 RHEL9 Kernel: Depends on container host Compiler: gcc 11.5.0 20240719 (Red Hat 11.5.0-2) Fedora 41 Kernel: Depends on container host Compiler: gcc 14.2.1 20240912 (Red Hat 14.2.1-3) CentOS Stream 10 Kernel: Depends on container host Compiler: gcc 14.2.1 20241104 (Red Hat 14.2.1-6) Fedora 41 (Clang) Kernel: Depends on container host Compiler: clang 19.1.5 (Fedora 19.1.5-1.fc41) Ubuntu 22.04 Kernel: Depends on container host Compiler: gcc (Ubuntu 11.4.0-1ubuntu1~22.04) 11.4.0 RHEL8 Kernel: Depends on container host Compiler: gcc 8.5.0 20210514 (Red Hat 8.5.0-22) Ubuntu 24.04 Kernel: Depends on container host Compiler: gcc (Ubuntu 13.3.0-6ubuntu2~24.04) 13.3.0 Windows Server 2022 Kernel: 10.0.20348.2031 Compiler: clang 15.0.7, gcc 14.1.0 (MinGW), and MSVC VS 19.39.33521 To view detailed results, visit: https://lab.dpdk.org/results/dashboard/patchsets/33195/ UNH-IOL DPDK Community Lab To manage your email subscriptions, visit: https://lab.dpdk.org/results/dashboard/preferences/subscriptions/