From mboxrd@z Thu Jan 1 00:00:00 1970 Return-Path: Received: from mails.dpdk.org (mails.dpdk.org [217.70.189.124]) by inbox.dpdk.org (Postfix) with ESMTP id B7F8C46766 for ; Fri, 16 May 2025 23:04:53 +0200 (CEST) Received: from mails.dpdk.org (localhost [127.0.0.1]) by mails.dpdk.org (Postfix) with ESMTP id 91FCD40659; Fri, 16 May 2025 23:04:53 +0200 (CEST) Received: from mail-il1-f226.google.com (mail-il1-f226.google.com [209.85.166.226]) by mails.dpdk.org (Postfix) with ESMTP id EDA60402E4 for ; Fri, 16 May 2025 23:04:52 +0200 (CEST) Received: by mail-il1-f226.google.com with SMTP id e9e14a558f8ab-3d6d6d82633so7873665ab.0 for ; Fri, 16 May 2025 14:04:52 -0700 (PDT) DKIM-Signature: v=1; a=rsa-sha256; c=relaxed/relaxed; d=iol.unh.edu; s=unh-iol; t=1747429492; x=1748034292; darn=dpdk.org; h=references:in-reply-to:cc:to:from:subject:message-id:date:from:to :cc:subject:date:message-id:reply-to; bh=oXUP8bnn8aJ9M1PJvpcLHbht6de4FupMsErZsT1DV0U=; b=UTaoUTHnbnA6QBkawNezCwIOZtCFkZuDct1lh2YwNNHU975tbjeE5OpQts6JlQd9Du oKEr7ZPMob/PIRn3tMYNTSRi40C2uO2DuYdKIYnKvkvZkKdqlHZmuX4Y7+X+crwSTB3N qiCdErsq5SURfCn68Qkw6qY5bvLUI7TX1VUJc= X-Google-DKIM-Signature: v=1; a=rsa-sha256; c=relaxed/relaxed; d=1e100.net; s=20230601; t=1747429492; x=1748034292; h=references:in-reply-to:cc:to:from:subject:message-id:date :x-gm-message-state:from:to:cc:subject:date:message-id:reply-to; bh=oXUP8bnn8aJ9M1PJvpcLHbht6de4FupMsErZsT1DV0U=; b=GamqBF7lcCl6244DfcLPDg+uje21yZ7IJDwcvU/JYtzlcPtGJSDT9GoMfVALdU9z03 GpZ+FPoSNRXXUo4+t+Mb6Oy77tnSSsy6c66inhpYrEej1degDZNUkFXYF0aZXO9A2tKN 2GSPbu+Mhh6yKtpKXdHitTpf8LjkEajAAtYlPHrzbcNx7qKRLMwAi14u5kl2OoRuA/hc McdBJ0/AY7N6y6Fr1JGjVHWNgHHmfTjdEDTh0yXgm0jcwWaKBYbUvOQ9lUbiWHjKrNM5 dFj226yQyp1I4tGjGAPKfdXp0/JIXdQ6LbGGOgwrk19Z/qWrXYm99LSA9aVOxOZMhmu1 q/rw== X-Gm-Message-State: AOJu0YzCBZmgSnjZ70WWWFQDwUrtd9GWExTbZYbODbRY7DAoHvbKglK3 BECsfrkM6XoXVLz+X88uTELLG/ZyojJohteRXEXMpHbGbIGRYz3WE7iHZ6u+8mIC4b0R9YK4BLc sXp5QBM08A3dt2B8rK2QvgmazG3voXvTfsbMdCv2IyeJ+SBOsk00G8PerR7TK X-Gm-Gg: ASbGnct62WLPQGUFiINrMoXZgSX/Sh7dBzjNSYUeGqZf03wHeciZpp5rivCu9cW8hSp IAoOYm9e7WLErjgmCApTYUcmEvvOzroBBMrUC9eEsb5j0SUGE6oObirnVrxOmUspTBdGn7T5C53 i7HnlbeYLaZbghfa2sqD1J1P2ixATK0L0YXqNg9N8cN/OkDUbFEqHicDI36M7SoAt77JJmNh9hE xFAhWNbR9nrts7en3vBJ3dH8l4KDZY+G2v4tMatNHpYvpu/l1PHNraQSosY+fU9gOGZQRtl3GkF q/gBtllriIuYLrlu7/G606veUKhirm96pV0z X-Google-Smtp-Source: AGHT+IHSqHzphXI7o2YvM1hnO0bJfMwMWs54JTHvnBQRf6MTayMYjj1IohtrmXr9FzOvG+0ikWdOcgY6vRpn X-Received: by 2002:a05:6e02:d:b0:3d8:2085:a16e with SMTP id e9e14a558f8ab-3db842e8970mr63275905ab.1.1747429492213; Fri, 16 May 2025 14:04:52 -0700 (PDT) Received: from postal.iol.unh.edu (postal.iol.unh.edu. [2606:4100:3880:1234::84]) by smtp-relay.gmail.com with ESMTPS id e9e14a558f8ab-3db844b2914sm1124725ab.69.2025.05.16.14.04.52 (version=TLS1_2 cipher=ECDHE-ECDSA-AES128-GCM-SHA256 bits=128/128); Fri, 16 May 2025 14:04:52 -0700 (PDT) X-Relaying-Domain: iol.unh.edu Date: Fri, 16 May 2025 14:04:52 -0700 (PDT) Message-ID: <6827a874.920a0220.166e1e.673cSMTPIN_ADDED_MISSING@mx.google.com> Received: from [172.17.0.3] (unknown [172.18.0.74]) by postal.iol.unh.edu (Postfix) with ESMTP id D66596052471; Fri, 16 May 2025 17:04:51 -0400 (EDT) Subject: |SUCCESS| pw153490-153489 [PATCH] [v2,2/2] lib/lpm: enable lpm to be From: dpdklab@iol.unh.edu To: Test Report Cc: dpdk-test-reports@iol.unh.edu In-Reply-To: <1747417002-28419-3-git-send-email-andremue@linux.microsoft.com> References: <1747417002-28419-3-git-send-email-andremue@linux.microsoft.com> Content-Type: text/plain X-BeenThere: test-report@dpdk.org X-Mailman-Version: 2.1.29 Precedence: list List-Id: automatic DPDK test reports List-Unsubscribe: , List-Archive: List-Post: List-Help: List-Subscribe: , Errors-To: test-report-bounces@dpdk.org Test-Label: iol-abi-testing Test-Status: SUCCESS http://dpdk.org/patch/153489 _Testing PASS_ Submitter: Andre Muezerie Date: Friday, May 16 2025 17:36:42 DPDK git baseline: Repo:dpdk Branch: master CommitID:117e86c4b96ed761e9a7ab766261208fe81bf5ca 153490-153489 --> testing pass Upstream job id: Generic-DPDK-Compile-ABI#126731 Test environment and result as below: +-------------------+----------+ | Environment | abi_test | +===================+==========+ | CentOS Stream 9 | PASS | +-------------------+----------+ | CentOS Stream 10 | PASS | +-------------------+----------+ | Fedora 40 (Clang) | PASS | +-------------------+----------+ | Fedora 40 | PASS | +-------------------+----------+ | Fedora 41 (Clang) | PASS | +-------------------+----------+ | Debian 12 | PASS | +-------------------+----------+ | openSUSE Leap 15 | PASS | +-------------------+----------+ | Ubuntu 24.04 | PASS | +-------------------+----------+ | Ubuntu 22.04 | PASS | +-------------------+----------+ | Fedora 41 | PASS | +-------------------+----------+ | RHEL9 | PASS | +-------------------+----------+ | RHEL8 | PASS | +-------------------+----------+ CentOS Stream 9 Kernel: Depends on container host Compiler: gcc 11.5.0 20240719 (Red Hat 11.5.0-2) CentOS Stream 10 Kernel: Depends on container host Compiler: gcc 14.2.1 20241104 (Red Hat 14.2.1-6) Fedora 40 (Clang) Kernel: Depends on container host Compiler: clang 18.1.8 (Fedora 18.1.8-1.fc40) Fedora 40 Kernel: Depends on container host Compiler: gcc 14.2.1 20240912 (Red Hat 14.2.1-3) Fedora 41 (Clang) Kernel: Depends on container host Compiler: clang 19.1.5 (Fedora 19.1.5-1.fc41) Debian 12 Kernel: Depends on container host Compiler: gcc (Debian 12.2.0-14) 12.2.0 openSUSE Leap 15 Kernel: Depends on container host Compiler: gcc (SUSE Linux) 7.5.0 Ubuntu 24.04 Kernel: Depends on container host Compiler: gcc (Ubuntu 13.3.0-6ubuntu2~24.04) 13.3.0 Ubuntu 22.04 Kernel: Depends on container host Compiler: gcc (Ubuntu 11.4.0-1ubuntu1~22.04) 11.4.0 Fedora 41 Kernel: Depends on container host Compiler: gcc 14.2.1 20240912 (Red Hat 14.2.1-3) RHEL9 Kernel: Depends on container host Compiler: gcc 11.5.0 20240719 (Red Hat 11.5.0-2) RHEL8 Kernel: Depends on container host Compiler: gcc 8.5.0 20210514 (Red Hat 8.5.0-22) To view detailed results, visit: https://lab.dpdk.org/results/dashboard/patchsets/33194/ UNH-IOL DPDK Community Lab To manage your email subscriptions, visit: https://lab.dpdk.org/results/dashboard/preferences/subscriptions/