From mboxrd@z Thu Jan 1 00:00:00 1970 Return-Path: Received: from mails.dpdk.org (mails.dpdk.org [217.70.189.124]) by inbox.dpdk.org (Postfix) with ESMTP id AEF6A46766 for ; Fri, 16 May 2025 23:05:10 +0200 (CEST) Received: from mails.dpdk.org (localhost [127.0.0.1]) by mails.dpdk.org (Postfix) with ESMTP id A86AD40659; Fri, 16 May 2025 23:05:10 +0200 (CEST) Received: from mail-yw1-f225.google.com (mail-yw1-f225.google.com [209.85.128.225]) by mails.dpdk.org (Postfix) with ESMTP id F3DF9402E4 for ; Fri, 16 May 2025 23:05:09 +0200 (CEST) Received: by mail-yw1-f225.google.com with SMTP id 00721157ae682-70a1f2eb39aso24015447b3.1 for ; Fri, 16 May 2025 14:05:09 -0700 (PDT) DKIM-Signature: v=1; a=rsa-sha256; c=relaxed/relaxed; d=iol.unh.edu; s=unh-iol; t=1747429509; x=1748034309; darn=dpdk.org; h=references:in-reply-to:cc:to:from:subject:message-id:date:from:to :cc:subject:date:message-id:reply-to; bh=WcQegiTic1jZXXPlUX8TXn8p6kgNiUJoA8vn6vJY4tY=; b=cALt6JDTghYfligslpx3VitnDu6JWGrBWGnytiQQXOshH5ggjkONfUC0o2Re7vRLkm 2X2RePEFGRoW4BUSHndoTvRYCdncCaV8sm9KcB2R/LIzHZwQVZV28+K4wFkwIRgIRUPE O2TMd/g5bEuZ+nnwobG/X8Rpo+Ucw1pxWbBGQ= X-Google-DKIM-Signature: v=1; a=rsa-sha256; c=relaxed/relaxed; d=1e100.net; s=20230601; t=1747429509; x=1748034309; h=references:in-reply-to:cc:to:from:subject:message-id:date :x-gm-message-state:from:to:cc:subject:date:message-id:reply-to; bh=WcQegiTic1jZXXPlUX8TXn8p6kgNiUJoA8vn6vJY4tY=; b=a4LwW7le2Sc30t/HcenDn8BDwYT3aTg53YIRs63yEUNef3iJ8buFbiAu/c7KdHf1bI FM1/vcGoJ+Vsg2cs/6wtJ+bcZi5o6J7/G7qEpsDYLzcOh7fRe/LQqCv668Dw5f0qmPWe MBFE5kSSw1iQJNd9NTw4ngU6Y2ZUug5a4ShgUZjmr3fYVqEfmiNrVXumI+FO9PZhSdUs iU6r+yc+0JyhIWy9WQv+P2BEq4van6q+rkuWaZ7cQRdDntS5a51nFDVY7lLg1dshUERk 4/9s38XKG1m8kHLCHyi8Gm41Z2cuntKqj9xBcKuHtfIjbvLDmWc3oepxiaKt3cN1PTv9 5mmg== X-Gm-Message-State: AOJu0Yzn8c0le8f+5hg9CXk+LjcpJnpi9RjsLSWE17RzojMNr9NoGGmQ uaOxPBfCu6HPVrE+7jxVBpr8GWo761Q7Q7eqHIgFGqU7ne26LLya7hBM0uTrvFTYksKtUFjlnp2 BihptXcSroDMHTwY/82Bm4mffR2oty1KScgmgIcZ1b/j3o9eWBZCbN8FOd0hS X-Gm-Gg: ASbGncugfRirmQqkdrn96Gr11nEKMnbwNSM3/botzBHxv0urmFcFWHZ4uoboqYmE28S Tj4X+r+W18yEneFmZ5ZM7y1hQZHx8x62CM+wdnod0gdozIff2V4skWwtQLfDzDLvXHIvr4AbtEw F6XZE8v/MRMdvc5KNKbPgzHtIhNo3sqVdd5KKd+8nrmgramkxplT5E1WjIn6vCPsL9K0dyqRBNy zaUkXQcxFU0M/PIcavhJCAJ4+vnKkolSzDn0fcIEvBIlJqbzD2Ij2fTKgJetEUWLENqT4EbzdMr dp/JVwOAYtAsKCzSrz/urM4OXsp98kfFtDGv X-Google-Smtp-Source: AGHT+IEB/9X8UFQVq9EuQNxXXAkmQHTZ6881mgu9aVs4SZSntCUGbxw+PgCZEgI6dg0wc55UXpI/Q/AzAHlT X-Received: by 2002:a05:690c:f8c:b0:708:c91b:4ae0 with SMTP id 00721157ae682-70ca79f1ee4mr90467247b3.16.1747429509295; Fri, 16 May 2025 14:05:09 -0700 (PDT) Received: from postal.iol.unh.edu (postal.iol.unh.edu. [2606:4100:3880:1234::84]) by smtp-relay.gmail.com with ESMTPS id 00721157ae682-70ca84fa7e2sm720257b3.67.2025.05.16.14.05.09 (version=TLS1_2 cipher=ECDHE-ECDSA-AES128-GCM-SHA256 bits=128/128); Fri, 16 May 2025 14:05:09 -0700 (PDT) X-Relaying-Domain: iol.unh.edu Date: Fri, 16 May 2025 14:05:09 -0700 (PDT) Message-ID: <6827a885.050a0220.258107.3b26SMTPIN_ADDED_MISSING@mx.google.com> Received: from [172.17.0.3] (unknown [172.18.0.74]) by postal.iol.unh.edu (Postfix) with ESMTP id EA0B06052471; Fri, 16 May 2025 17:05:08 -0400 (EDT) Subject: |SUCCESS| pw153490-153489 [PATCH] [v2,2/2] lib/lpm: enable lpm to be From: dpdklab@iol.unh.edu To: Test Report Cc: dpdk-test-reports@iol.unh.edu In-Reply-To: <1747417002-28419-3-git-send-email-andremue@linux.microsoft.com> References: <1747417002-28419-3-git-send-email-andremue@linux.microsoft.com> Content-Type: text/plain X-BeenThere: test-report@dpdk.org X-Mailman-Version: 2.1.29 Precedence: list List-Id: automatic DPDK test reports List-Unsubscribe: , List-Archive: List-Post: List-Help: List-Subscribe: , Errors-To: test-report-bounces@dpdk.org Test-Label: iol-abi-testing Test-Status: SUCCESS http://dpdk.org/patch/153489 _Testing PASS_ Submitter: Andre Muezerie Date: Friday, May 16 2025 17:36:42 DPDK git baseline: Repo:dpdk Branch: master CommitID:117e86c4b96ed761e9a7ab766261208fe81bf5ca 153490-153489 --> testing pass Upstream job id: Generic-DPDK-Compile-ABI#126728 Test environment and result as below: +-------------------+----------+ | Environment | abi_test | +===================+==========+ | CentOS Stream 9 | PASS | +-------------------+----------+ | CentOS Stream 10 | PASS | +-------------------+----------+ | Fedora 40 (Clang) | PASS | +-------------------+----------+ | Fedora 40 | PASS | +-------------------+----------+ | Fedora 41 (Clang) | PASS | +-------------------+----------+ | Debian 12 | PASS | +-------------------+----------+ | openSUSE Leap 15 | PASS | +-------------------+----------+ | Ubuntu 24.04 | PASS | +-------------------+----------+ | Ubuntu 22.04 | PASS | +-------------------+----------+ | Fedora 41 | PASS | +-------------------+----------+ | RHEL9 | PASS | +-------------------+----------+ | RHEL8 | PASS | +-------------------+----------+ CentOS Stream 9 Kernel: Depends on container host Compiler: gcc 11.5.0 20240719 (Red Hat 11.5.0-2) CentOS Stream 10 Kernel: Depends on container host Compiler: gcc 14.2.1 20241104 (Red Hat 14.2.1-6) Fedora 40 (Clang) Kernel: Depends on container host Compiler: clang 18.1.8 (Fedora 18.1.8-1.fc40) Fedora 40 Kernel: Depends on container host Compiler: gcc 14.2.1 20240912 (Red Hat 14.2.1-3) Fedora 41 (Clang) Kernel: Depends on container host Compiler: clang 19.1.5 (Fedora 19.1.5-1.fc41) Debian 12 Kernel: Depends on container host Compiler: gcc (Debian 12.2.0-14) 12.2.0 openSUSE Leap 15 Kernel: Depends on container host Compiler: gcc (SUSE Linux) 7.5.0 Ubuntu 24.04 Kernel: Depends on container host Compiler: gcc (Ubuntu 13.3.0-6ubuntu2~24.04) 13.3.0 Ubuntu 22.04 Kernel: Depends on container host Compiler: gcc (Ubuntu 11.4.0-1ubuntu1~22.04) 11.4.0 Fedora 41 Kernel: Depends on container host Compiler: gcc 14.2.1 20240912 (Red Hat 14.2.1-3) RHEL9 Kernel: Depends on container host Compiler: gcc 11.5.0 20240719 (Red Hat 11.5.0-2) RHEL8 Kernel: Depends on container host Compiler: gcc 8.5.0 20210514 (Red Hat 8.5.0-22) To view detailed results, visit: https://lab.dpdk.org/results/dashboard/patchsets/33194/ UNH-IOL DPDK Community Lab To manage your email subscriptions, visit: https://lab.dpdk.org/results/dashboard/preferences/subscriptions/