From mboxrd@z Thu Jan 1 00:00:00 1970 Return-Path: Received: from mails.dpdk.org (mails.dpdk.org [217.70.189.124]) by inbox.dpdk.org (Postfix) with ESMTP id 0A8ED46766 for ; Fri, 16 May 2025 23:07:32 +0200 (CEST) Received: from mails.dpdk.org (localhost [127.0.0.1]) by mails.dpdk.org (Postfix) with ESMTP id E3673402E4; Fri, 16 May 2025 23:07:31 +0200 (CEST) Received: from mail-qv1-f99.google.com (mail-qv1-f99.google.com [209.85.219.99]) by mails.dpdk.org (Postfix) with ESMTP id CC9D5402E1 for ; Fri, 16 May 2025 23:07:30 +0200 (CEST) Received: by mail-qv1-f99.google.com with SMTP id 6a1803df08f44-6f2c45ecaffso23558716d6.2 for ; Fri, 16 May 2025 14:07:30 -0700 (PDT) DKIM-Signature: v=1; a=rsa-sha256; c=relaxed/relaxed; d=iol.unh.edu; s=unh-iol; t=1747429650; x=1748034450; darn=dpdk.org; h=references:in-reply-to:cc:to:from:subject:message-id:date:from:to :cc:subject:date:message-id:reply-to; bh=ZO5l1LUMwvYqyzljvoV5pOudHW7tspi/vmfyF+5yTcY=; b=D/WBaoG4UsJh2P/X0M0jGUS+cz12BL1IAuvyfrVsTXXbI5reIgYQNSCag1rOYG03Ng BosAL5cumiZA52Pqu7hniuooHekvGldHtfgKSD0twcH+4je4CrH+lUALi8uanfnmoz7L ZqhUMgdjBA2/fiH2cvMXQn1oKurD5SHnFD1Tk= X-Google-DKIM-Signature: v=1; a=rsa-sha256; c=relaxed/relaxed; d=1e100.net; s=20230601; t=1747429650; x=1748034450; h=references:in-reply-to:cc:to:from:subject:message-id:date :x-gm-message-state:from:to:cc:subject:date:message-id:reply-to; bh=ZO5l1LUMwvYqyzljvoV5pOudHW7tspi/vmfyF+5yTcY=; b=Gyb4h/wGrS/ETofE1Wbs7yDAHft/+sF4oGhM+sCOL8tcblY7NWD/UqqRb6txwr/EEV 3Wvm+AxRm1WZHbQNzGiVflawLWxtRlRWoCbyufJQFHlkrKz9CNlxyPEZ6RKmhs70Sjcf ZLm0dlRh8U1KX4m72V5On2oOeVjKJOa17mqsjJVQFlelNb+oJDS0e7OCHC5RkYkQiVLj d6JjdlPmSg9nqL+q3CD6x8JzLXf6JCOAs2dYoq70NZ78umd7zW6B4loB7HfU48tXstSj 8PSWfLhQinvzOMnU7S7EQnrnIQfHZ5oti98pOvVyB4ac+j84Bn9/FBYAd1oFvP8Pbnto 5oog== X-Gm-Message-State: AOJu0YzJSDCYPHmqzHriliuV86DUVVvARD/8yaU8FWa6ex1446eA9uR4 LFJkFH61RkhhCYCRRq7dHgADcX3KJFQQ8PATAvBvHfeMyzgrZk2FKVzEN88zQqZwSGk/L0EecJw 221Rned7z800Gx7HoHOEOTfrFasVGD4zgQtzZ7mPSDIVqIDOZoqSBRC6uriO4 X-Gm-Gg: ASbGncsbI6WqyFjJhfUH8SdJAOBQg1zMx7uSMOmyK0cSg3BJUIWYS7acj4lZUE8J6io pss8xFoMQ094Wa9T7DnVMG/JC6GCAgTI+tCtk9w/OXUGiTvFNjLQabdT7fZDzXZ2go670sht4Bs swY3AbAIqQrTBeRS339amw2kniC9B9yOlnY0vkmUS79ahgoPKMNTN8DLNHLJXvL4tCpxDEG/3Hm JdXWim2aOEXyFpA595YLnXqZWOaI41l2MODJYAtyM/nHwtfl6M9AzAsWeZe3t428m0S4O5BJs8G RlP0qn/Z7xc397q3l++jR72KfV6sUPezH/jL X-Google-Smtp-Source: AGHT+IEMARtmb/g/x8g3hZCSkeK3r9P3Vo50V/sS1Lw/0NQGLFD8cOPkuhwT8O8O2D8R2ZVd+2vGYgPOCp6g X-Received: by 2002:ad4:5b82:0:b0:6f4:b8eb:4815 with SMTP id 6a1803df08f44-6f8b0728a3dmr77762076d6.0.1747429650130; Fri, 16 May 2025 14:07:30 -0700 (PDT) Received: from postal.iol.unh.edu (postal.iol.unh.edu. [2606:4100:3880:1234::84]) by smtp-relay.gmail.com with ESMTPS id 6a1803df08f44-6f8b09b5ef5sm1014546d6.67.2025.05.16.14.07.30 (version=TLS1_2 cipher=ECDHE-ECDSA-AES128-GCM-SHA256 bits=128/128); Fri, 16 May 2025 14:07:30 -0700 (PDT) X-Relaying-Domain: iol.unh.edu Date: Fri, 16 May 2025 14:07:30 -0700 (PDT) Message-ID: <6827a912.0c0a0220.177142.61bfSMTPIN_ADDED_MISSING@mx.google.com> Received: from [172.17.0.3] (unknown [172.18.0.76]) by postal.iol.unh.edu (Postfix) with ESMTP id C5E4B6052471; Fri, 16 May 2025 17:07:29 -0400 (EDT) Subject: |SUCCESS| pw153486-153487 [PATCH] [2/2] test/strsep: add tests for f From: dpdklab@iol.unh.edu To: Test Report Cc: dpdk-test-reports@iol.unh.edu In-Reply-To: <1747401734-6303-2-git-send-email-andremue@linux.microsoft.com> References: <1747401734-6303-2-git-send-email-andremue@linux.microsoft.com> Content-Type: text/plain X-BeenThere: test-report@dpdk.org X-Mailman-Version: 2.1.29 Precedence: list List-Id: automatic DPDK test reports List-Unsubscribe: , List-Archive: List-Post: List-Help: List-Subscribe: , Errors-To: test-report-bounces@dpdk.org Test-Label: iol-compile-arm64-testing Test-Status: SUCCESS http://dpdk.org/patch/153487 _Testing PASS_ Submitter: Andre Muezerie Date: Friday, May 16 2025 13:22:14 DPDK git baseline: Repo:dpdk Branch: master CommitID:117e86c4b96ed761e9a7ab766261208fe81bf5ca 153486-153487 --> testing pass Upstream job id: Generic-DPDK-Compile-Meson#388826 Test environment and result as below: +----------------------------------------+--------------------+ | Environment | dpdk_meson_compile | +========================================+====================+ | RHEL9 (ARM) | PASS | +----------------------------------------+--------------------+ | Ubuntu 20.04 ARM SVE | PASS | +----------------------------------------+--------------------+ | Fedora 40 (ARM) | PASS | +----------------------------------------+--------------------+ | Debian 12 with MUSDK | PASS | +----------------------------------------+--------------------+ | Fedora 40 (ARM Clang) | PASS | +----------------------------------------+--------------------+ | Fedora 41 (ARM) | PASS | +----------------------------------------+--------------------+ | Fedora 41 (ARM Clang) | PASS | +----------------------------------------+--------------------+ | Ubuntu 20.04 (ARM) | PASS | +----------------------------------------+--------------------+ | Ubuntu 22.04 (ARM) | PASS | +----------------------------------------+--------------------+ | Ubuntu 24.04 (ARM) | PASS | +----------------------------------------+--------------------+ | CentOS Stream 9 (ARM) | PASS | +----------------------------------------+--------------------+ | CentOS Stream 10 (ARM) | PASS | +----------------------------------------+--------------------+ | Debian 12 (arm) | PASS | +----------------------------------------+--------------------+ | Ubuntu 20.04 ARM Clang Cross Compile | PASS | +----------------------------------------+--------------------+ | Ubuntu 20.04 aarch32 GCC Cross Compile | PASS | +----------------------------------------+--------------------+ | Ubuntu 20.04 ARM GCC Cross Compile | PASS | +----------------------------------------+--------------------+ RHEL9 (ARM) Kernel: Depends on container host Compiler: gcc 11.5.0 20240719 (Red Hat 11.5.0-2) Ubuntu 20.04 ARM SVE Kernel: Depends on container host Compiler: gcc (Ubuntu 10.5.0-1ubuntu1~20.04) 10.5.0 Fedora 40 (ARM) Kernel: Depends on container host Compiler: gcc 14.2.1 20240912 (Red Hat 14.2.1-3) Debian 12 with MUSDK Kernel: Depends on container host Compiler: gcc (Debian 12.2.0-14) 12.2.0 Fedora 40 (ARM Clang) Kernel: Depends on container host Compiler: clang 18.1.8 (Fedora 18.1.8-1.fc40) Fedora 41 (ARM) Kernel: Depends on container host Compiler: gcc 14.2.1 20240912 (Red Hat 14.2.1-3) Fedora 41 (ARM Clang) Kernel: Depends on container host Compiler: clang 19.1.5 (Fedora 19.1.5-1.fc41) Ubuntu 20.04 (ARM) Kernel: Depends on container host Compiler: gcc (Ubuntu 9.4.0-1ubuntu1~20.04.2) 9.4.0 Ubuntu 22.04 (ARM) Kernel: Depends on container host Compiler: gcc (Ubuntu 11.4.0-1ubuntu1~22.04) 11.4.0 Ubuntu 24.04 (ARM) Kernel: Depends on container host Compiler: gcc (Ubuntu 13.3.0-6ubuntu2~24.04) 13.3.0 CentOS Stream 9 (ARM) Kernel: Depends on container host Compiler: gcc 11.5.0 20240719 (Red Hat 11.5.0-2) CentOS Stream 10 (ARM) Kernel: Depends on container host Compiler: gcc 14.2.1 20241104 (Red Hat 14.2.1-6) Debian 12 (arm) Kernel: Depends on container host Compiler: gcc (Debian 12.2.0-14) 12.2.0 Ubuntu 20.04 ARM Clang Cross Compile Kernel: Depends on container host Compiler: clang 10.0.0-4ubuntu1 Ubuntu 20.04 aarch32 GCC Cross Compile Kernel: Depends on container host Compiler: gcc 9.4.0 Ubuntu 20.04 ARM GCC Cross Compile Kernel: Depends on container host Compiler: aarch64-linux-gnu-gcc (Ubuntu 9.4.0-1ubuntu1~20.04.2) 9.4.0 To view detailed results, visit: https://lab.dpdk.org/results/dashboard/patchsets/33192/ UNH-IOL DPDK Community Lab To manage your email subscriptions, visit: https://lab.dpdk.org/results/dashboard/preferences/subscriptions/