From mboxrd@z Thu Jan 1 00:00:00 1970 Return-Path: Received: from mails.dpdk.org (mails.dpdk.org [217.70.189.124]) by inbox.dpdk.org (Postfix) with ESMTP id 796BE46766 for ; Fri, 16 May 2025 23:11:36 +0200 (CEST) Received: from mails.dpdk.org (localhost [127.0.0.1]) by mails.dpdk.org (Postfix) with ESMTP id 640B1402E4; Fri, 16 May 2025 23:11:36 +0200 (CEST) Received: from mail-il1-f226.google.com (mail-il1-f226.google.com [209.85.166.226]) by mails.dpdk.org (Postfix) with ESMTP id 876C2402E1 for ; Fri, 16 May 2025 23:11:35 +0200 (CEST) Received: by mail-il1-f226.google.com with SMTP id e9e14a558f8ab-3db8326a666so5265665ab.2 for ; Fri, 16 May 2025 14:11:35 -0700 (PDT) DKIM-Signature: v=1; a=rsa-sha256; c=relaxed/relaxed; d=iol.unh.edu; s=unh-iol; t=1747429895; x=1748034695; darn=dpdk.org; h=references:in-reply-to:cc:to:from:subject:message-id:date:from:to :cc:subject:date:message-id:reply-to; bh=0DSvxaDYnhzn97dH87Za48kF3Ivt2m3ifJy0dbVUJZI=; b=Utn93AehpvvCTAo+zsdagbprk+6Z9zJPd3FPVgWBlDpBDbW1FE69hx5a8IYWi1O5fu /NH9CLxZGXS2c/9EnWv2fu5jRBeJYmgeLKZ6zrQctEgqe/0dFJ5zkajcvBq/91HetCmY 2SWjin5LWQImy/kf5BTq1uMbTb0kObxM5FWn8= X-Google-DKIM-Signature: v=1; a=rsa-sha256; c=relaxed/relaxed; d=1e100.net; s=20230601; t=1747429895; x=1748034695; h=references:in-reply-to:cc:to:from:subject:message-id:date :x-gm-message-state:from:to:cc:subject:date:message-id:reply-to; bh=0DSvxaDYnhzn97dH87Za48kF3Ivt2m3ifJy0dbVUJZI=; b=BeHdKP1EAxdQmxZTFIuzoNfDMxgv0kvngV7IFMpyvP3PNYIUqNe7bWu67OO4m/1zA+ 0APm51tQydAycYTSe4nA57Rvh3goIP4LmgHVv19GdFFuG36o7w+e+zWg9raqctxeC57+ MfhHsiektBvG/7ugRBwiLq2stk6ltd4m3LtI3go7/D6At6nPwyzcG2oYIcsuku0llNdh 4c10V00VXeGLf6vLbqbez9CURI+YX7OjCIgSyYx9JuQnPOpb/eLINJ026qKkDgkHjHNy 0nKPAI2Cu2gpxtto5JkMOA/smzGuodpU+FvqNiC/v8F4tfCmsx9+Iak6yp6haFqPNehv hUgw== X-Gm-Message-State: AOJu0YyTPZcj3F5Jnxq8anptlIIKk4YMSmDsWicVp44bYZigpYmBwfOE 6Etjy9/DofSss7K11Ovw8pYEyQAcnO008ODGzL3k9zftbUAVyvidmrSO8yHiGUIrUnvOHKY4j9N 0dJVrzf3gGbqH+jX5ZkBx8LYsN+/K7uO/eb/VtyMg/xMs3i3VQ+fVmOlYqvsR X-Gm-Gg: ASbGncvohGMyq/ZpyoOIQblmL08IQlIm5UYSB9qXITWWWmewatAW+TliW2ljWXUvHDL gqqTZuVXfMk8Odj/sM9TJFBivlSqSsArLHrbSKTwm2yl3NZr9SRVMBkrc2/4DfF/nhEiJAbBUfm 2rTt5QG6SizPETkZdyDmMaocq/Lhbp0MnA6dhmEPk7cpH/1D5LZKm8HQaQWT12XdpA5bSdG484T 1+LlFY8/1vegmTYezs+CJ5qb0V9Q8irNJcRmhdLVLdVbssytvk1xhTSD/1LWmApQ6c4/axdea2C S+N3U1eYNReXoX2ROsT/eiOGfXivACE4wzmw X-Google-Smtp-Source: AGHT+IHUo3QBC4ZpP1hyeFfWt+H9fCD2h76alOxuB7M2gzkFZIb2dhbiRspNykQAo3mI/fQKkKKqLsPC5glP X-Received: by 2002:a92:cda6:0:b0:3da:7213:fcc7 with SMTP id e9e14a558f8ab-3db842fb76fmr65687855ab.12.1747429894825; Fri, 16 May 2025 14:11:34 -0700 (PDT) Received: from postal.iol.unh.edu (postal.iol.unh.edu. [2606:4100:3880:1234::84]) by smtp-relay.gmail.com with ESMTPS id 8926c6da1cb9f-4fbcc3c8134sm127656173.33.2025.05.16.14.11.34 (version=TLS1_2 cipher=ECDHE-ECDSA-AES128-GCM-SHA256 bits=128/128); Fri, 16 May 2025 14:11:34 -0700 (PDT) X-Relaying-Domain: iol.unh.edu Date: Fri, 16 May 2025 14:11:34 -0700 (PDT) Message-ID: <6827aa06.050a0220.3722ea.804dSMTPIN_ADDED_MISSING@mx.google.com> Received: from [172.17.0.3] (unknown [172.18.0.76]) by postal.iol.unh.edu (Postfix) with ESMTP id 538346052471; Fri, 16 May 2025 17:11:34 -0400 (EDT) Subject: |SUCCESS| pw153491 [PATCH] doc/linux_gsg: add build instructions for From: dpdklab@iol.unh.edu To: Test Report Cc: dpdk-test-reports@iol.unh.edu In-Reply-To: <20250516185307.1494231-1-doug.foster@arm.com> References: <20250516185307.1494231-1-doug.foster@arm.com> Content-Type: text/plain X-BeenThere: test-report@dpdk.org X-Mailman-Version: 2.1.29 Precedence: list List-Id: automatic DPDK test reports List-Unsubscribe: , List-Archive: List-Post: List-Help: List-Subscribe: , Errors-To: test-report-bounces@dpdk.org Test-Label: iol-compile-arm64-testing Test-Status: SUCCESS http://dpdk.org/patch/153491 _Testing PASS_ Submitter: Doug Foster Date: Friday, May 16 2025 18:53:07 DPDK git baseline: Repo:dpdk Branch: master CommitID:117e86c4b96ed761e9a7ab766261208fe81bf5ca 153491 --> testing pass Upstream job id: Generic-DPDK-Compile-Meson#388842 Test environment and result as below: +----------------------------------------+--------------------+ | Environment | dpdk_meson_compile | +========================================+====================+ | RHEL9 (ARM) | PASS | +----------------------------------------+--------------------+ | Ubuntu 20.04 ARM GCC Cross Compile | PASS | +----------------------------------------+--------------------+ | Ubuntu 20.04 ARM SVE | PASS | +----------------------------------------+--------------------+ | Debian 12 with MUSDK | PASS | +----------------------------------------+--------------------+ | Fedora 40 (ARM Clang) | PASS | +----------------------------------------+--------------------+ | Fedora 40 (ARM) | PASS | +----------------------------------------+--------------------+ | Fedora 41 (ARM) | PASS | +----------------------------------------+--------------------+ | Ubuntu 22.04 (ARM) | PASS | +----------------------------------------+--------------------+ | Ubuntu 20.04 (ARM) | PASS | +----------------------------------------+--------------------+ | Fedora 41 (ARM Clang) | PASS | +----------------------------------------+--------------------+ | CentOS Stream 9 (ARM) | PASS | +----------------------------------------+--------------------+ | Debian 12 (arm) | PASS | +----------------------------------------+--------------------+ | Ubuntu 24.04 (ARM) | PASS | +----------------------------------------+--------------------+ | CentOS Stream 10 (ARM) | PASS | +----------------------------------------+--------------------+ | Ubuntu 20.04 ARM Clang Cross Compile | PASS | +----------------------------------------+--------------------+ | Ubuntu 20.04 aarch32 GCC Cross Compile | PASS | +----------------------------------------+--------------------+ RHEL9 (ARM) Kernel: Depends on container host Compiler: gcc 11.5.0 20240719 (Red Hat 11.5.0-2) Ubuntu 20.04 ARM GCC Cross Compile Kernel: Depends on container host Compiler: aarch64-linux-gnu-gcc (Ubuntu 9.4.0-1ubuntu1~20.04.2) 9.4.0 Ubuntu 20.04 ARM SVE Kernel: Depends on container host Compiler: gcc (Ubuntu 10.5.0-1ubuntu1~20.04) 10.5.0 Debian 12 with MUSDK Kernel: Depends on container host Compiler: gcc (Debian 12.2.0-14) 12.2.0 Fedora 40 (ARM Clang) Kernel: Depends on container host Compiler: clang 18.1.8 (Fedora 18.1.8-1.fc40) Fedora 40 (ARM) Kernel: Depends on container host Compiler: gcc 14.2.1 20240912 (Red Hat 14.2.1-3) Fedora 41 (ARM) Kernel: Depends on container host Compiler: gcc 14.2.1 20240912 (Red Hat 14.2.1-3) Ubuntu 22.04 (ARM) Kernel: Depends on container host Compiler: gcc (Ubuntu 11.4.0-1ubuntu1~22.04) 11.4.0 Ubuntu 20.04 (ARM) Kernel: Depends on container host Compiler: gcc (Ubuntu 9.4.0-1ubuntu1~20.04.2) 9.4.0 Fedora 41 (ARM Clang) Kernel: Depends on container host Compiler: clang 19.1.5 (Fedora 19.1.5-1.fc41) CentOS Stream 9 (ARM) Kernel: Depends on container host Compiler: gcc 11.5.0 20240719 (Red Hat 11.5.0-2) Debian 12 (arm) Kernel: Depends on container host Compiler: gcc (Debian 12.2.0-14) 12.2.0 Ubuntu 24.04 (ARM) Kernel: Depends on container host Compiler: gcc (Ubuntu 13.3.0-6ubuntu2~24.04) 13.3.0 CentOS Stream 10 (ARM) Kernel: Depends on container host Compiler: gcc 14.2.1 20241104 (Red Hat 14.2.1-6) Ubuntu 20.04 ARM Clang Cross Compile Kernel: Depends on container host Compiler: clang 10.0.0-4ubuntu1 Ubuntu 20.04 aarch32 GCC Cross Compile Kernel: Depends on container host Compiler: gcc 9.4.0 To view detailed results, visit: https://lab.dpdk.org/results/dashboard/patchsets/33195/ UNH-IOL DPDK Community Lab To manage your email subscriptions, visit: https://lab.dpdk.org/results/dashboard/preferences/subscriptions/