From mboxrd@z Thu Jan 1 00:00:00 1970 Return-Path: Received: from mails.dpdk.org (mails.dpdk.org [217.70.189.124]) by inbox.dpdk.org (Postfix) with ESMTP id AA97446766 for ; Fri, 16 May 2025 23:13:36 +0200 (CEST) Received: from mails.dpdk.org (localhost [127.0.0.1]) by mails.dpdk.org (Postfix) with ESMTP id A3E204065C; Fri, 16 May 2025 23:13:36 +0200 (CEST) Received: from mail-pl1-f225.google.com (mail-pl1-f225.google.com [209.85.214.225]) by mails.dpdk.org (Postfix) with ESMTP id A9D3F402E1 for ; Fri, 16 May 2025 23:13:35 +0200 (CEST) Received: by mail-pl1-f225.google.com with SMTP id d9443c01a7336-231f325366eso7390345ad.1 for ; Fri, 16 May 2025 14:13:35 -0700 (PDT) DKIM-Signature: v=1; a=rsa-sha256; c=relaxed/relaxed; d=iol.unh.edu; s=unh-iol; t=1747430015; x=1748034815; darn=dpdk.org; h=references:in-reply-to:cc:to:from:subject:message-id:date:from:to :cc:subject:date:message-id:reply-to; bh=JnSPWdjb7Nh7lCuVORb1t74xsdE/uWRlaF3FWXieR8E=; b=GrrfFmwJFNz4HZC4WSfJtCmSBD5reRGCiU+8vKnHiL2IOYjAiAMLBFkLjgaDxhhG6p Ywr5TPzfqvPtS3b24dG+lCu3YTzbaRigDcZjVAvtchktqmyx0k25ilu+jj2K4lU2lTtc Xh4yvXu1YNjUA6LVv9AymWEI8HyXcF6XfNjtM= X-Google-DKIM-Signature: v=1; a=rsa-sha256; c=relaxed/relaxed; d=1e100.net; s=20230601; t=1747430015; x=1748034815; h=references:in-reply-to:cc:to:from:subject:message-id:date :x-gm-message-state:from:to:cc:subject:date:message-id:reply-to; bh=JnSPWdjb7Nh7lCuVORb1t74xsdE/uWRlaF3FWXieR8E=; b=sm4PzCDCgQirrco+cTfE9+VRjVGz99lhHWNiOJo5EdGWDg9o4GIZzwd041XrWXyw50 NomSj9gHdH8w6SCelraosSOYDc5xINOPoENpaVgsZQVzgM60YnRgGOTVZrE9CXWcQOY0 c1g5F51uoh2xCgWNbJ2s4Ijwr5t7Y8WgV2q6F0HGMO2WAihVxY6NBagOJDZ47X+YGATx 3bzIH19VXxpNFqJhBamH527i3innHvBLluXzNBC4/jOSZ7gb2yLdIuooYj1ExkgvNkBU ICmfWjFA0iZ7xgqmAg8Ews532D11TtJ5SLUEmf03SQ7iP9GVggib0vqvlo/WzMA0d9ny 76YA== X-Gm-Message-State: AOJu0YwTHC4miVkyCAKSLaltd6UbLDyYSyVBPXeN3wVzzocy+QphMM3d GMBJv7nZGpBYvXW8StdSGjoyaNsXne1lSWrmPPI1H7AXdOeQDBKMHJcMG9BGb2UyBq/JvkSi+Ed /X/Xp4KdxRDJx2KKDPly6kQBAAHiTYcvr+77gyf7xL7bp X-Gm-Gg: ASbGncuNPHvbtIz9qRYhCBCfxe2Q1xYrGmcY/DIfXRR6eJDS3k2ca47PqIl62jIwxzN nga2kk+3L6fjmLO86Ua8X2suQjNiQGbis93v2MqrSSHoMys40astbwJzHMIcrzO3Dl6S+2mAPdv Bi3Pnhn+uMrBLEiTuP7Q81xSokM9j4sIjV7sjkvFZxe9GUf67I/9rOG3Reuh4rpDDThX13zzTbh qHFNyLhT4mJ+oVkGFDmRgXA2j1FHoWwxFhBs80GqUP7hAtVpFJoEvLXoXStEowvb2Xfosg/6eLh raYIiURiuQKE9HJFNlTDmV0ooNQS5dVrHDK+I2jHdPNbtpQauKJyh/UHS6k= X-Google-Smtp-Source: AGHT+IFK8jhEV9XwjgL0WECnFPTsoWY7hSE+VWVQUtzQ+vIXUzWM8+QFTRMrdPEgEQd9cntyqUcAOxTp2Ct3 X-Received: by 2002:a17:903:324c:b0:231:e331:b7c8 with SMTP id d9443c01a7336-231e331bbedmr39257655ad.17.1747430014832; Fri, 16 May 2025 14:13:34 -0700 (PDT) Received: from postal.iol.unh.edu (postal.iol.unh.edu. [132.177.123.84]) by smtp-relay.gmail.com with ESMTPS id d9443c01a7336-231d4abe08fsm1480745ad.29.2025.05.16.14.13.34 (version=TLS1_2 cipher=ECDHE-ECDSA-AES128-GCM-SHA256 bits=128/128); Fri, 16 May 2025 14:13:34 -0700 (PDT) X-Relaying-Domain: iol.unh.edu Date: Fri, 16 May 2025 14:13:34 -0700 (PDT) Message-ID: <6827aa7e.170a0220.1a8a29.8518SMTPIN_ADDED_MISSING@mx.google.com> Received: from [172.17.0.3] (unknown [172.18.0.76]) by postal.iol.unh.edu (Postfix) with ESMTP id 43E886052471; Fri, 16 May 2025 17:13:34 -0400 (EDT) Subject: |SUCCESS| pw153490-153489 [PATCH] [v2,2/2] lib/lpm: enable lpm to be From: dpdklab@iol.unh.edu To: Test Report Cc: dpdk-test-reports@iol.unh.edu In-Reply-To: <1747417002-28419-3-git-send-email-andremue@linux.microsoft.com> References: <1747417002-28419-3-git-send-email-andremue@linux.microsoft.com> Content-Type: text/plain X-BeenThere: test-report@dpdk.org X-Mailman-Version: 2.1.29 Precedence: list List-Id: automatic DPDK test reports List-Unsubscribe: , List-Archive: List-Post: List-Help: List-Subscribe: , Errors-To: test-report-bounces@dpdk.org Test-Label: iol-unit-amd64-testing Test-Status: SUCCESS http://dpdk.org/patch/153489 _Testing PASS_ Submitter: Andre Muezerie Date: Friday, May 16 2025 17:36:42 DPDK git baseline: Repo:dpdk Branch: master CommitID:117e86c4b96ed761e9a7ab766261208fe81bf5ca 153490-153489 --> testing pass Upstream job id: Generic-VM-Unit-Test-DPDK#28583 Test environment and result as below: +---------------------+----------------+ | Environment | dpdk_unit_test | +=====================+================+ | CentOS Stream 10 | PASS | +---------------------+----------------+ | Debian 12 | PASS | +---------------------+----------------+ | Fedora 40 (Clang) | PASS | +---------------------+----------------+ | CentOS Stream 9 | PASS | +---------------------+----------------+ | Fedora 41 (Clang) | PASS | +---------------------+----------------+ | RHEL9 | PASS | +---------------------+----------------+ | Fedora 40 | PASS | +---------------------+----------------+ | RHEL8 | PASS | +---------------------+----------------+ | Fedora 41 | PASS | +---------------------+----------------+ | Ubuntu 24.04 | PASS | +---------------------+----------------+ | Ubuntu 22.04 | PASS | +---------------------+----------------+ | Ubuntu 20.04 | PASS | +---------------------+----------------+ | Windows Server 2022 | PASS | +---------------------+----------------+ CentOS Stream 10 Kernel: Depends on container host Compiler: gcc 14.2.1 20241104 (Red Hat 14.2.1-6) Debian 12 Kernel: Depends on container host Compiler: gcc (Debian 12.2.0-14) 12.2.0 Fedora 40 (Clang) Kernel: Depends on container host Compiler: clang 18.1.8 (Fedora 18.1.8-1.fc40) CentOS Stream 9 Kernel: Depends on container host Compiler: gcc 11.5.0 20240719 (Red Hat 11.5.0-2) Fedora 41 (Clang) Kernel: Depends on container host Compiler: clang 19.1.5 (Fedora 19.1.5-1.fc41) RHEL9 Kernel: Depends on container host Compiler: gcc 11.5.0 20240719 (Red Hat 11.5.0-2) Fedora 40 Kernel: Depends on container host Compiler: gcc 14.2.1 20240912 (Red Hat 14.2.1-3) RHEL8 Kernel: Depends on container host Compiler: gcc 8.5.0 20210514 (Red Hat 8.5.0-22) Fedora 41 Kernel: Depends on container host Compiler: gcc 14.2.1 20240912 (Red Hat 14.2.1-3) Ubuntu 24.04 Kernel: Depends on container host Compiler: gcc (Ubuntu 13.3.0-6ubuntu2~24.04) 13.3.0 Ubuntu 22.04 Kernel: Depends on container host Compiler: gcc (Ubuntu 11.4.0-1ubuntu1~22.04) 11.4.0 Ubuntu 20.04 Kernel: Depends on container host Compiler: gcc (Ubuntu 9.4.0-1ubuntu1~20.04.2) 9.4.0 Windows Server 2022 Kernel: 10.0.20348.2031 Compiler: clang 15.0.7, gcc 14.1.0 (MinGW), and MSVC VS 19.39.33521 To view detailed results, visit: https://lab.dpdk.org/results/dashboard/patchsets/33194/ UNH-IOL DPDK Community Lab To manage your email subscriptions, visit: https://lab.dpdk.org/results/dashboard/preferences/subscriptions/