From mboxrd@z Thu Jan 1 00:00:00 1970 Return-Path: Received: from mails.dpdk.org (mails.dpdk.org [217.70.189.124]) by inbox.dpdk.org (Postfix) with ESMTP id 615DB46766 for ; Fri, 16 May 2025 23:19:34 +0200 (CEST) Received: from mails.dpdk.org (localhost [127.0.0.1]) by mails.dpdk.org (Postfix) with ESMTP id 31F70402E4; Fri, 16 May 2025 23:19:34 +0200 (CEST) Received: from mail-pf1-f226.google.com (mail-pf1-f226.google.com [209.85.210.226]) by mails.dpdk.org (Postfix) with ESMTP id 5D57E402E1 for ; Fri, 16 May 2025 23:19:33 +0200 (CEST) Received: by mail-pf1-f226.google.com with SMTP id d2e1a72fcca58-7376e311086so3244054b3a.3 for ; Fri, 16 May 2025 14:19:33 -0700 (PDT) DKIM-Signature: v=1; a=rsa-sha256; c=relaxed/relaxed; d=iol.unh.edu; s=unh-iol; t=1747430372; x=1748035172; darn=dpdk.org; h=references:in-reply-to:cc:to:from:subject:message-id:date:from:to :cc:subject:date:message-id:reply-to; bh=fvSrBzAZ/19lduSj0IGNB3XINwSyVtfFbZ5jn4T+FEU=; b=Dj6lLXqRJgUmnc6OVNlTj6yR4YtmpAUrDsq8V1AnQg2r2NpRxl4oEjk4Hp/VdKPBFb tLcPueEagR9CFKG2cavoyOMf/LnbBoC+LU7ycbjbgVQVChggmwgocfBSdqKJETjdCYa+ faFEWFm/wIYQiM2JxMIW5hCOGx6IZLJ1tXjK0= X-Google-DKIM-Signature: v=1; a=rsa-sha256; c=relaxed/relaxed; d=1e100.net; s=20230601; t=1747430372; x=1748035172; h=references:in-reply-to:cc:to:from:subject:message-id:date :x-gm-message-state:from:to:cc:subject:date:message-id:reply-to; bh=fvSrBzAZ/19lduSj0IGNB3XINwSyVtfFbZ5jn4T+FEU=; b=mPmZQjMTW+2iofszMNToYTfF4Cw6U9Ko4livVl5WXK0uitz06pNtRTS80D9psQ7ccb CeiMA/C88hOYXb8ODyvr+oHpPiJYaFtUP3iGJ/0PaJCe5cGaq5PbWdVLhIerIBx0Fqxo CoY6c9oBiqjIsS2YOkZN2GSghUTP2cAFz/cPYhZ1FXvuxzQxQ+4ED5bSR1s40x3A1Vl3 FQwTryaMqPsgo6fHFsLSa4Be9NLxLV4cGQV4YfUAvPyMqX02UHdtMlmYYadW+eqGtHkh QsEWphva08D2MTZkbNakc7Gq2B6yxBDJN4I75oVtYQcu82+Wb2oky2r99PnD4KGF2XuS QNVg== X-Gm-Message-State: AOJu0YzL3k0V7l5113MWs/MNgYmpUvFJyleb4/EliAYCr5AkOlvk3J/s 85LVN5NG11pAfyfsn4gJQmhLq9skCTTRR/5bIg5wEmQUNZWxvZGKwB/e/dDMQhGuwuUMtODqZSs ICuXYRXZoojdTOX4BBYvA4720L3kSZ2FjViCGhdwMvgcOgx4C25Gw1anRfcIE X-Gm-Gg: ASbGncu7S1pqIM7Q3VBNaqqAuD2EBLjqnG8eLPI8oVRN4NHyKdHkqXcKzxpM+CkgUlC GdPUb9bUbOdWirD6ir5fyW0/td8U9xauFJlHqipyr2h6epr0OiYwgXuAe2y0eEmjMD+D1SZ3XFp rKpaf33V6NXXLRk7HjOWLi0m+br3oT/bWlwnzyV66Sl/PQEu5djsUNyApw4VBlTAZfavFEK9WCo 8pJcPs/86oKhsQJHHIYEbc7ZTYQdhoI1KDpad4cuqcema698bHDKggxRQTELKjcBfeAOproHlag FSMz6JYt5NGb/EUhh2aBbmGfiDVQlpj8t4nl X-Google-Smtp-Source: AGHT+IHc0l5o8rUafbU+9B0PkZVk3I3F9BzUJ/31GYV4ayboZyYc+ZOg6zyasOXc1v+XmFdkABxO2y/aoU/I X-Received: by 2002:a05:6a00:91d4:b0:736:35d4:f03f with SMTP id d2e1a72fcca58-742a97dadf7mr6051974b3a.6.1747430371956; Fri, 16 May 2025 14:19:31 -0700 (PDT) Received: from postal.iol.unh.edu (postal.iol.unh.edu. [2606:4100:3880:1234::84]) by smtp-relay.gmail.com with ESMTPS id d2e1a72fcca58-742a970d89dsm151146b3a.2.2025.05.16.14.19.31 (version=TLS1_2 cipher=ECDHE-ECDSA-AES128-GCM-SHA256 bits=128/128); Fri, 16 May 2025 14:19:31 -0700 (PDT) X-Relaying-Domain: iol.unh.edu Date: Fri, 16 May 2025 14:19:31 -0700 (PDT) Message-ID: <6827abe3.050a0220.c7025.78d6SMTPIN_ADDED_MISSING@mx.google.com> Received: from [172.17.0.3] (unknown [172.18.0.74]) by postal.iol.unh.edu (Postfix) with ESMTP id 193736052471; Fri, 16 May 2025 17:19:31 -0400 (EDT) Subject: |SUCCESS| pw153490-153489 [PATCH] [v2,2/2] lib/lpm: enable lpm to be From: dpdklab@iol.unh.edu To: Test Report Cc: dpdk-test-reports@iol.unh.edu In-Reply-To: <1747417002-28419-3-git-send-email-andremue@linux.microsoft.com> References: <1747417002-28419-3-git-send-email-andremue@linux.microsoft.com> Content-Type: text/plain X-BeenThere: test-report@dpdk.org X-Mailman-Version: 2.1.29 Precedence: list List-Id: automatic DPDK test reports List-Unsubscribe: , List-Archive: List-Post: List-Help: List-Subscribe: , Errors-To: test-report-bounces@dpdk.org Test-Label: iol-unit-arm64-testing Test-Status: SUCCESS http://dpdk.org/patch/153489 _Testing PASS_ Submitter: Andre Muezerie Date: Friday, May 16 2025 17:36:42 DPDK git baseline: Repo:dpdk Branch: master CommitID:117e86c4b96ed761e9a7ab766261208fe81bf5ca 153490-153489 --> testing pass Upstream job id: Generic-Unit-Test-DPDK#338625 Test environment and result as below: +-----------------------------+----------------+--------------+---------------------------+------------------------------+ | Environment | dpdk_unit_test | lpm_autotest | cryptodev_sw_zuc_autotest | cryptodev_sw_snow3g_autotest | +=============================+================+==============+===========================+==============================+ | Fedora 40 (ARM Clang) | PASS | SKIPPED | SKIPPED | SKIPPED | +-----------------------------+----------------+--------------+---------------------------+------------------------------+ | Debian 12 (arm) | PASS | SKIPPED | PASS | PASS | +-----------------------------+----------------+--------------+---------------------------+------------------------------+ | Fedora 40 (ARM) | PASS | SKIPPED | SKIPPED | SKIPPED | +-----------------------------+----------------+--------------+---------------------------+------------------------------+ | RHEL9 (ARM) | PASS | SKIPPED | SKIPPED | SKIPPED | +-----------------------------+----------------+--------------+---------------------------+------------------------------+ | CentOS Stream 9 (ARM) | PASS | SKIPPED | SKIPPED | SKIPPED | +-----------------------------+----------------+--------------+---------------------------+------------------------------+ | CentOS Stream 10 (ARM) | PASS | SKIPPED | SKIPPED | SKIPPED | +-----------------------------+----------------+--------------+---------------------------+------------------------------+ | Fedora 41 (ARM) | PASS | SKIPPED | SKIPPED | SKIPPED | +-----------------------------+----------------+--------------+---------------------------+------------------------------+ | Fedora 41 (ARM Clang) | PASS | SKIPPED | SKIPPED | SKIPPED | +-----------------------------+----------------+--------------+---------------------------+------------------------------+ | Ubuntu 20.04 (ARM) | PASS | SKIPPED | SKIPPED | SKIPPED | +-----------------------------+----------------+--------------+---------------------------+------------------------------+ | Ubuntu 24.04 (ARM) | PASS | SKIPPED | SKIPPED | SKIPPED | +-----------------------------+----------------+--------------+---------------------------+------------------------------+ | Ubuntu 22.04 (ARM) | PASS | SKIPPED | SKIPPED | SKIPPED | +-----------------------------+----------------+--------------+---------------------------+------------------------------+ | 32-bit Ubuntu 22.04.4 (ARM) | PASS | SKIPPED | SKIPPED | SKIPPED | +-----------------------------+----------------+--------------+---------------------------+------------------------------+ | Ubuntu 20.04 ARM SVE | SKIPPED | PASS | SKIPPED | SKIPPED | +-----------------------------+----------------+--------------+---------------------------+------------------------------+ Fedora 40 (ARM Clang) Kernel: Depends on container host Compiler: clang 18.1.8 (Fedora 18.1.8-1.fc40) Debian 12 (arm) Kernel: Depends on container host Compiler: gcc (Debian 12.2.0-14) 12.2.0 Fedora 40 (ARM) Kernel: Depends on container host Compiler: gcc 14.2.1 20240912 (Red Hat 14.2.1-3) RHEL9 (ARM) Kernel: Depends on container host Compiler: gcc 11.5.0 20240719 (Red Hat 11.5.0-2) CentOS Stream 9 (ARM) Kernel: Depends on container host Compiler: gcc 11.5.0 20240719 (Red Hat 11.5.0-2) CentOS Stream 10 (ARM) Kernel: Depends on container host Compiler: gcc 14.2.1 20241104 (Red Hat 14.2.1-6) Fedora 41 (ARM) Kernel: Depends on container host Compiler: gcc 14.2.1 20240912 (Red Hat 14.2.1-3) Fedora 41 (ARM Clang) Kernel: Depends on container host Compiler: clang 19.1.5 (Fedora 19.1.5-1.fc41) Ubuntu 20.04 (ARM) Kernel: Depends on container host Compiler: gcc (Ubuntu 9.4.0-1ubuntu1~20.04.2) 9.4.0 Ubuntu 24.04 (ARM) Kernel: Depends on container host Compiler: gcc (Ubuntu 13.3.0-6ubuntu2~24.04) 13.3.0 Ubuntu 22.04 (ARM) Kernel: Depends on container host Compiler: gcc (Ubuntu 11.4.0-1ubuntu1~22.04) 11.4.0 32-bit Ubuntu 22.04.4 (ARM) Kernel: 5.15.83+ aarch64 Compiler: gcc (Ubuntu 11.4.0-1ubuntu1~22.04) 11.4.0 Ubuntu 20.04 ARM SVE Kernel: Depends on container host Compiler: gcc (Ubuntu 10.5.0-1ubuntu1~20.04) 10.5.0 To view detailed results, visit: https://lab.dpdk.org/results/dashboard/patchsets/33194/ UNH-IOL DPDK Community Lab To manage your email subscriptions, visit: https://lab.dpdk.org/results/dashboard/preferences/subscriptions/