From mboxrd@z Thu Jan 1 00:00:00 1970 Return-Path: Received: from mails.dpdk.org (mails.dpdk.org [217.70.189.124]) by inbox.dpdk.org (Postfix) with ESMTP id 7524146766 for ; Fri, 16 May 2025 23:20:47 +0200 (CEST) Received: from mails.dpdk.org (localhost [127.0.0.1]) by mails.dpdk.org (Postfix) with ESMTP id 6BDF3402E4; Fri, 16 May 2025 23:20:47 +0200 (CEST) Received: from mail-qv1-f99.google.com (mail-qv1-f99.google.com [209.85.219.99]) by mails.dpdk.org (Postfix) with ESMTP id 065D9402E1 for ; Fri, 16 May 2025 23:20:46 +0200 (CEST) Received: by mail-qv1-f99.google.com with SMTP id 6a1803df08f44-6f8c0c8da93so9429106d6.0 for ; Fri, 16 May 2025 14:20:45 -0700 (PDT) DKIM-Signature: v=1; a=rsa-sha256; c=relaxed/relaxed; d=iol.unh.edu; s=unh-iol; t=1747430445; x=1748035245; darn=dpdk.org; h=references:in-reply-to:cc:to:from:subject:message-id:date:from:to :cc:subject:date:message-id:reply-to; bh=wf7IAY+cDDKN2AX5ruil+B3espwVfpOqB+JB2yOJnqw=; b=Y76g08HI+IQC65SoMl6E9zq1sLwBZSQ249O0Pe2+0xBFcGxfx1rJLU12zeUIGthBgp x7fotkWlipeYBWGuiyY+JhIvABLyC7WWG/VPRRa6pDXU+gH3KMKj4nlNhOUbpxuQ+ElW XY1E7+LX3sHHXhvxptOSWTFDu6CKboeeuWeNo= X-Google-DKIM-Signature: v=1; a=rsa-sha256; c=relaxed/relaxed; d=1e100.net; s=20230601; t=1747430445; x=1748035245; h=references:in-reply-to:cc:to:from:subject:message-id:date :x-gm-message-state:from:to:cc:subject:date:message-id:reply-to; bh=wf7IAY+cDDKN2AX5ruil+B3espwVfpOqB+JB2yOJnqw=; b=bJ4MhoM22KmsxqyLMhthyG5hQO/ZhotCcgFNKIMDpDzB8ZxKj0R7P1mK7WNCPvvqJx cwwikYo4GyMbj2vd96DCvD2G/2d8YzVdy94dbYxXPa4QhXAv1u1vnM+tsviZY7QM1fDF 5LV/XTX30tHzIZ/B6kqeBszBCqmjpXozSvlX3TSb5fkOowlzOU4TawHyx7OTN0+KaLdi TnKcMZQQNSCyii0Rd9wheQ/AUBKJF4nbM5FQj4vXg10eVA5gqO725fToDoGWX0rJyikt rCLRidKpn4d0/wtNduTfmuYYuXbkpkFS457IMCMvQiNO4Ev0TCCf0pZhqZJAwIsSlGyZ WVzg== X-Gm-Message-State: AOJu0YwFvbn/u5SoZiAIEyjWTAn/Zui/8YYpf2QFauAPkXA8rxlE3bW+ 7orX+bfV/J2NcSNZe7GME0m3Xtg/yfnrwZiS1FuTflpY52Wl5yJ1353SmifBJPZ1fVwm9UI7Hgm 1PtMIGHRrrpr1Ux2H0W5UAvOYHyYs8Akbhy13IbJ8IzMn X-Gm-Gg: ASbGnctqA+xVTdmtKS3tAhZ4fWJrLEDXF6Wi7xXvuDcrYHFWolHbYTpKWpcrtTSih2m tsAhek9nefRDbuFAx1vYnaDv5euQySDuMNriOyg4ArBaeQf+8XdB5OzI9qpFmlUmqUauiDndlVp dscrvZzRZe0FfPLxqjNtC8i26qhemBP/Ly+INTNlRCu4rqR+vZFdk4nEMPC066DyJSxPiTD7LeY vV7xich8rNN01IycpIhPkq6kK4So3fhdJRMpQjitwaK85kcpjMpU9EzeooWCMq5cbYSkmYE7Vl5 0onMh1a1jPiNMk/YVL0TIgwXep5kNWcGDm8EQRhWpbNvFmUgV8nOMCAN9oY= X-Google-Smtp-Source: AGHT+IF+8D3gvIU0L/0Z38MoEqYgEDvy3UPgFK6ZFprF7LIWyMQwcqszsbidlPXiI3NCsUgd60xYHLSjqqjb X-Received: by 2002:a05:622a:1247:b0:494:ac45:d214 with SMTP id d75a77b69052e-494ae42dc6cmr98750161cf.37.1747430445229; Fri, 16 May 2025 14:20:45 -0700 (PDT) Received: from postal.iol.unh.edu (postal.iol.unh.edu. [132.177.123.84]) by smtp-relay.gmail.com with ESMTPS id d75a77b69052e-494ae3d6db7sm1226931cf.1.2025.05.16.14.20.45 (version=TLS1_2 cipher=ECDHE-ECDSA-AES128-GCM-SHA256 bits=128/128); Fri, 16 May 2025 14:20:45 -0700 (PDT) X-Relaying-Domain: iol.unh.edu Date: Fri, 16 May 2025 14:20:45 -0700 (PDT) Message-ID: <6827ac2d.050a0220.1e3484.74ffSMTPIN_ADDED_MISSING@mx.google.com> Received: from [172.17.0.2] (unknown [172.18.0.76]) by postal.iol.unh.edu (Postfix) with ESMTP id E7AD06052471; Fri, 16 May 2025 17:20:44 -0400 (EDT) Subject: |SUCCESS| pw153490-153489 [PATCH] [v2,2/2] lib/lpm: enable lpm to be From: dpdklab@iol.unh.edu To: Test Report Cc: dpdk-test-reports@iol.unh.edu In-Reply-To: <1747417002-28419-3-git-send-email-andremue@linux.microsoft.com> References: <1747417002-28419-3-git-send-email-andremue@linux.microsoft.com> Content-Type: text/plain X-BeenThere: test-report@dpdk.org X-Mailman-Version: 2.1.29 Precedence: list List-Id: automatic DPDK test reports List-Unsubscribe: , List-Archive: List-Post: List-Help: List-Subscribe: , Errors-To: test-report-bounces@dpdk.org Test-Label: iol-compile-amd64-testing Test-Status: SUCCESS http://dpdk.org/patch/153489 _Testing PASS_ Submitter: Andre Muezerie Date: Friday, May 16 2025 17:36:42 DPDK git baseline: Repo:dpdk Branch: master CommitID:117e86c4b96ed761e9a7ab766261208fe81bf5ca 153490-153489 --> testing pass Upstream job id: Generic-DPDK-Compile-Meson#388894 Test environment and result as below: +-----------------------------------+--------------------+-------------------+------------------+-------------------------+-------------------+----------------------+ | Environment | dpdk_meson_compile | dpdk_compile_spdk | dpdk_compile_ovs | dpdk_llvm_clang_compile | dpdk_msvc_compile | dpdk_mingw64_compile | +===================================+====================+===================+==================+=========================+===================+======================+ | CentOS Stream 9 | PASS | PASS | SKIPPED | SKIPPED | SKIPPED | SKIPPED | +-----------------------------------+--------------------+-------------------+------------------+-------------------------+-------------------+----------------------+ | Debian 12 | PASS | PASS | SKIPPED | SKIPPED | SKIPPED | SKIPPED | +-----------------------------------+--------------------+-------------------+------------------+-------------------------+-------------------+----------------------+ | CentOS Stream 10 | PASS | SKIPPED | SKIPPED | SKIPPED | SKIPPED | SKIPPED | +-----------------------------------+--------------------+-------------------+------------------+-------------------------+-------------------+----------------------+ | Fedora 41 | PASS | PASS | PASS | SKIPPED | SKIPPED | SKIPPED | +-----------------------------------+--------------------+-------------------+------------------+-------------------------+-------------------+----------------------+ | Fedora 40 | PASS | PASS | SKIPPED | SKIPPED | SKIPPED | SKIPPED | +-----------------------------------+--------------------+-------------------+------------------+-------------------------+-------------------+----------------------+ | Fedora 40 (Clang) | PASS | PASS | SKIPPED | SKIPPED | SKIPPED | SKIPPED | +-----------------------------------+--------------------+-------------------+------------------+-------------------------+-------------------+----------------------+ | Fedora 41 (Clang) | PASS | PASS | PASS | SKIPPED | SKIPPED | SKIPPED | +-----------------------------------+--------------------+-------------------+------------------+-------------------------+-------------------+----------------------+ | RHEL8 | PASS | SKIPPED | SKIPPED | SKIPPED | SKIPPED | SKIPPED | +-----------------------------------+--------------------+-------------------+------------------+-------------------------+-------------------+----------------------+ | RHEL9 | PASS | SKIPPED | SKIPPED | SKIPPED | SKIPPED | SKIPPED | +-----------------------------------+--------------------+-------------------+------------------+-------------------------+-------------------+----------------------+ | openSUSE Leap 15 | PASS | SKIPPED | SKIPPED | SKIPPED | SKIPPED | SKIPPED | +-----------------------------------+--------------------+-------------------+------------------+-------------------------+-------------------+----------------------+ | Ubuntu 24.04 | PASS | PASS | PASS | SKIPPED | SKIPPED | SKIPPED | +-----------------------------------+--------------------+-------------------+------------------+-------------------------+-------------------+----------------------+ | Ubuntu 22.04 | PASS | PASS | SKIPPED | SKIPPED | SKIPPED | SKIPPED | +-----------------------------------+--------------------+-------------------+------------------+-------------------------+-------------------+----------------------+ | Ubuntu 20.04 | PASS | SKIPPED | SKIPPED | SKIPPED | SKIPPED | SKIPPED | +-----------------------------------+--------------------+-------------------+------------------+-------------------------+-------------------+----------------------+ | Ubuntu 24.04 32 Bit Cross Compile | PASS | SKIPPED | SKIPPED | SKIPPED | SKIPPED | SKIPPED | +-----------------------------------+--------------------+-------------------+------------------+-------------------------+-------------------+----------------------+ | FreeBSD 13.5 | PASS | SKIPPED | SKIPPED | SKIPPED | SKIPPED | SKIPPED | +-----------------------------------+--------------------+-------------------+------------------+-------------------------+-------------------+----------------------+ | FreeBSD 14.2 | PASS | SKIPPED | SKIPPED | SKIPPED | SKIPPED | SKIPPED | +-----------------------------------+--------------------+-------------------+------------------+-------------------------+-------------------+----------------------+ | Windows Server 2022 | SKIPPED | SKIPPED | SKIPPED | PASS | PASS | PASS | +-----------------------------------+--------------------+-------------------+------------------+-------------------------+-------------------+----------------------+ CentOS Stream 9 Kernel: Depends on container host Compiler: gcc 11.5.0 20240719 (Red Hat 11.5.0-2) Debian 12 Kernel: Depends on container host Compiler: gcc (Debian 12.2.0-14) 12.2.0 CentOS Stream 10 Kernel: Depends on container host Compiler: gcc 14.2.1 20241104 (Red Hat 14.2.1-6) Fedora 41 Kernel: Depends on container host Compiler: gcc 14.2.1 20240912 (Red Hat 14.2.1-3) Fedora 40 Kernel: Depends on container host Compiler: gcc 14.2.1 20240912 (Red Hat 14.2.1-3) Fedora 40 (Clang) Kernel: Depends on container host Compiler: clang 18.1.8 (Fedora 18.1.8-1.fc40) Fedora 41 (Clang) Kernel: Depends on container host Compiler: clang 19.1.5 (Fedora 19.1.5-1.fc41) RHEL8 Kernel: Depends on container host Compiler: gcc 8.5.0 20210514 (Red Hat 8.5.0-22) RHEL9 Kernel: Depends on container host Compiler: gcc 11.5.0 20240719 (Red Hat 11.5.0-2) openSUSE Leap 15 Kernel: Depends on container host Compiler: gcc (SUSE Linux) 7.5.0 Ubuntu 24.04 Kernel: Depends on container host Compiler: gcc (Ubuntu 13.3.0-6ubuntu2~24.04) 13.3.0 Ubuntu 22.04 Kernel: Depends on container host Compiler: gcc (Ubuntu 11.4.0-1ubuntu1~22.04) 11.4.0 Ubuntu 20.04 Kernel: Depends on container host Compiler: gcc (Ubuntu 9.4.0-1ubuntu1~20.04.2) 9.4.0 Ubuntu 24.04 32 Bit Cross Compile Kernel: Depends on container host Compiler: gcc (Ubuntu 13.3.0-6ubuntu2~24.04) 13.3.0 FreeBSD 13.5 Kernel: 13.5-RELEASE Compiler: clang 19.1.7 FreeBSD 14.2 Kernel: 14.2-RELEASE Compiler: clang 18.1.6 Windows Server 2022 Kernel: 10.0.20348.2031 Compiler: clang 15.0.7, gcc 14.1.0 (MinGW), and MSVC VS 19.39.33521 To view detailed results, visit: https://lab.dpdk.org/results/dashboard/patchsets/33194/ UNH-IOL DPDK Community Lab To manage your email subscriptions, visit: https://lab.dpdk.org/results/dashboard/preferences/subscriptions/