From mboxrd@z Thu Jan 1 00:00:00 1970 Return-Path: Received: from mails.dpdk.org (mails.dpdk.org [217.70.189.124]) by inbox.dpdk.org (Postfix) with ESMTP id 8A8C446766 for ; Fri, 16 May 2025 23:20:58 +0200 (CEST) Received: from mails.dpdk.org (localhost [127.0.0.1]) by mails.dpdk.org (Postfix) with ESMTP id 86D22402E4; Fri, 16 May 2025 23:20:58 +0200 (CEST) Received: from mail-il1-f227.google.com (mail-il1-f227.google.com [209.85.166.227]) by mails.dpdk.org (Postfix) with ESMTP id 6E825402E1 for ; Fri, 16 May 2025 23:20:57 +0200 (CEST) Received: by mail-il1-f227.google.com with SMTP id e9e14a558f8ab-3da785e3f90so13040535ab.2 for ; Fri, 16 May 2025 14:20:57 -0700 (PDT) DKIM-Signature: v=1; a=rsa-sha256; c=relaxed/relaxed; d=iol.unh.edu; s=unh-iol; t=1747430456; x=1748035256; darn=dpdk.org; h=references:in-reply-to:cc:to:from:subject:message-id:date:from:to :cc:subject:date:message-id:reply-to; bh=1Yv/7BVLfg2mHYgNTWmTw4hMRz4X8Q+cSislUPBHkhw=; b=dJBLbjZcQ1HNObctjBTmbewKaLvdISwAnXCQdsfJSTgr0P3kuHAhUt5+KVfFcv25qH OOFrNYUMHYE5AV7VxbTzo9CFPFOW03i0yZx+nLLgNPjxsdcw47o/Y4zqWpk5Iks2PVu0 4Ob4Qs9/aONVvUer25gWMfY7/1JNNy4tzQ414= X-Google-DKIM-Signature: v=1; a=rsa-sha256; c=relaxed/relaxed; d=1e100.net; s=20230601; t=1747430456; x=1748035256; h=references:in-reply-to:cc:to:from:subject:message-id:date :x-gm-message-state:from:to:cc:subject:date:message-id:reply-to; bh=1Yv/7BVLfg2mHYgNTWmTw4hMRz4X8Q+cSislUPBHkhw=; b=T12SXk5rTBtaDg57//PHpcf4uzCZ9jqstj23irJWvOhh3bh9Zz0diL5POkTlUjKr+D kELdvXQrSWfoq7itqcx/IVlYvy0GGchmTcIAGym15oXVrIuWUQe1Jm8R6n+ylztQu8h5 bHxYckTiDv/L8bHkDNYFTNu4U+lcgDubXxhVl3g2UkOgNYbxlekrG6PBsFPH/+l0wNcE pDJHJVU4sRI3ywVn8RZQXUAUjtLZnCoMaj9eAEtO8NyqVWIOxDliA5ZZ+lLIr0m9isTc ryb+7wF73xvY35qZUymi8a93Dzk9JhR2FJ64CevAVesq8ptlxev7UhkYvVIdM9kTCJrT lOFw== X-Gm-Message-State: AOJu0YySaZYgaUyv4Ivh5hz99WCxV4dV73xQcmISkZadxVhXxQPrn31s n9KyoUFnpoBppXEksEpow7WMA1suraPHW85htHHVZhlBIBc+RoUaM/rizSHIADrqK7qIhoJHfTg r9Sr3xyrGfINCPyOElMSzAX0PPpfK4j1E7lcQAdx551Q+bKNNAnkmztVSKBLN X-Gm-Gg: ASbGncvQAnea3CD3Q6DEiJMLsIHlPxrDeLyag8irCsKOxRAyeVCikqcGiKhQazqwTC3 u313VIPZmCdXyiT3IlM4VPga3EwiB5yzKwzYO5jfBIgR8ib2f6B9dDxMSOalKOhmnnPPGAoSpTX K9HJZs5e7CZpmbOiu9iX9CmZ/SeWNicR8zSJzCOqHIlr48ZXHkL/pOM7quAu/4RIKwhc02visPZ wxbvmuLakI2WGTOMQC+QWOhTv0u8u4sRo5D+m0YwGt0M4ziPvLjT2/hAYQoVAG8p1RjgPrYs7ZE t/Ewc5cHSTX8eeJujM2L12Ip8GNGB+LiHAEg X-Google-Smtp-Source: AGHT+IHzwKneZJu87T11J1KaXnYS3QnYx+JTcnBhV0i31vdLGG29N68WZUZIqeQ6QU+jnbR0+NeSLOFScyuv X-Received: by 2002:a92:cd8b:0:b0:3d5:deaf:b443 with SMTP id e9e14a558f8ab-3db8572814amr42208005ab.3.1747430456667; Fri, 16 May 2025 14:20:56 -0700 (PDT) Received: from postal.iol.unh.edu (postal.iol.unh.edu. [2606:4100:3880:1234::84]) by smtp-relay.gmail.com with ESMTPS id 8926c6da1cb9f-4fbcc488c42sm131229173.45.2025.05.16.14.20.56 (version=TLS1_2 cipher=ECDHE-ECDSA-AES128-GCM-SHA256 bits=128/128); Fri, 16 May 2025 14:20:56 -0700 (PDT) X-Relaying-Domain: iol.unh.edu Date: Fri, 16 May 2025 14:20:56 -0700 (PDT) Message-ID: <6827ac38.050a0220.160eb6.7746SMTPIN_ADDED_MISSING@mx.google.com> Received: from [172.17.0.3] (unknown [172.18.0.74]) by postal.iol.unh.edu (Postfix) with ESMTP id 31CFE6052472; Fri, 16 May 2025 17:20:56 -0400 (EDT) Subject: |SUCCESS| pw153490-153489 [PATCH] [v2,2/2] lib/lpm: enable lpm to be From: dpdklab@iol.unh.edu To: Test Report Cc: dpdk-test-reports@iol.unh.edu In-Reply-To: <1747417002-28419-3-git-send-email-andremue@linux.microsoft.com> References: <1747417002-28419-3-git-send-email-andremue@linux.microsoft.com> Content-Type: text/plain X-BeenThere: test-report@dpdk.org X-Mailman-Version: 2.1.29 Precedence: list List-Id: automatic DPDK test reports List-Unsubscribe: , List-Archive: List-Post: List-Help: List-Subscribe: , Errors-To: test-report-bounces@dpdk.org Test-Label: iol-compile-amd64-testing Test-Status: SUCCESS http://dpdk.org/patch/153489 _Testing PASS_ Submitter: Andre Muezerie Date: Friday, May 16 2025 17:36:42 DPDK git baseline: Repo:dpdk Branch: master CommitID:117e86c4b96ed761e9a7ab766261208fe81bf5ca 153490-153489 --> testing pass Upstream job id: Generic-DPDK-Compile-Meson#388887 Test environment and result as below: +-----------------------------------+--------------------+-------------------+------------------+-------------------------+-------------------+----------------------+ | Environment | dpdk_meson_compile | dpdk_compile_spdk | dpdk_compile_ovs | dpdk_llvm_clang_compile | dpdk_msvc_compile | dpdk_mingw64_compile | +===================================+====================+===================+==================+=========================+===================+======================+ | CentOS Stream 9 | PASS | PASS | SKIPPED | SKIPPED | SKIPPED | SKIPPED | +-----------------------------------+--------------------+-------------------+------------------+-------------------------+-------------------+----------------------+ | Debian 12 | PASS | PASS | SKIPPED | SKIPPED | SKIPPED | SKIPPED | +-----------------------------------+--------------------+-------------------+------------------+-------------------------+-------------------+----------------------+ | CentOS Stream 10 | PASS | SKIPPED | SKIPPED | SKIPPED | SKIPPED | SKIPPED | +-----------------------------------+--------------------+-------------------+------------------+-------------------------+-------------------+----------------------+ | Fedora 41 | PASS | PASS | PASS | SKIPPED | SKIPPED | SKIPPED | +-----------------------------------+--------------------+-------------------+------------------+-------------------------+-------------------+----------------------+ | Fedora 40 | PASS | PASS | SKIPPED | SKIPPED | SKIPPED | SKIPPED | +-----------------------------------+--------------------+-------------------+------------------+-------------------------+-------------------+----------------------+ | Fedora 40 (Clang) | PASS | PASS | SKIPPED | SKIPPED | SKIPPED | SKIPPED | +-----------------------------------+--------------------+-------------------+------------------+-------------------------+-------------------+----------------------+ | Fedora 41 (Clang) | PASS | PASS | PASS | SKIPPED | SKIPPED | SKIPPED | +-----------------------------------+--------------------+-------------------+------------------+-------------------------+-------------------+----------------------+ | RHEL8 | PASS | SKIPPED | SKIPPED | SKIPPED | SKIPPED | SKIPPED | +-----------------------------------+--------------------+-------------------+------------------+-------------------------+-------------------+----------------------+ | RHEL9 | PASS | SKIPPED | SKIPPED | SKIPPED | SKIPPED | SKIPPED | +-----------------------------------+--------------------+-------------------+------------------+-------------------------+-------------------+----------------------+ | openSUSE Leap 15 | PASS | SKIPPED | SKIPPED | SKIPPED | SKIPPED | SKIPPED | +-----------------------------------+--------------------+-------------------+------------------+-------------------------+-------------------+----------------------+ | Ubuntu 24.04 | PASS | PASS | PASS | SKIPPED | SKIPPED | SKIPPED | +-----------------------------------+--------------------+-------------------+------------------+-------------------------+-------------------+----------------------+ | Ubuntu 22.04 | PASS | PASS | SKIPPED | SKIPPED | SKIPPED | SKIPPED | +-----------------------------------+--------------------+-------------------+------------------+-------------------------+-------------------+----------------------+ | Ubuntu 20.04 | PASS | SKIPPED | SKIPPED | SKIPPED | SKIPPED | SKIPPED | +-----------------------------------+--------------------+-------------------+------------------+-------------------------+-------------------+----------------------+ | Ubuntu 24.04 32 Bit Cross Compile | PASS | SKIPPED | SKIPPED | SKIPPED | SKIPPED | SKIPPED | +-----------------------------------+--------------------+-------------------+------------------+-------------------------+-------------------+----------------------+ | FreeBSD 13.5 | PASS | SKIPPED | SKIPPED | SKIPPED | SKIPPED | SKIPPED | +-----------------------------------+--------------------+-------------------+------------------+-------------------------+-------------------+----------------------+ | FreeBSD 14.2 | PASS | SKIPPED | SKIPPED | SKIPPED | SKIPPED | SKIPPED | +-----------------------------------+--------------------+-------------------+------------------+-------------------------+-------------------+----------------------+ | Windows Server 2022 | SKIPPED | SKIPPED | SKIPPED | PASS | PASS | PASS | +-----------------------------------+--------------------+-------------------+------------------+-------------------------+-------------------+----------------------+ CentOS Stream 9 Kernel: Depends on container host Compiler: gcc 11.5.0 20240719 (Red Hat 11.5.0-2) Debian 12 Kernel: Depends on container host Compiler: gcc (Debian 12.2.0-14) 12.2.0 CentOS Stream 10 Kernel: Depends on container host Compiler: gcc 14.2.1 20241104 (Red Hat 14.2.1-6) Fedora 41 Kernel: Depends on container host Compiler: gcc 14.2.1 20240912 (Red Hat 14.2.1-3) Fedora 40 Kernel: Depends on container host Compiler: gcc 14.2.1 20240912 (Red Hat 14.2.1-3) Fedora 40 (Clang) Kernel: Depends on container host Compiler: clang 18.1.8 (Fedora 18.1.8-1.fc40) Fedora 41 (Clang) Kernel: Depends on container host Compiler: clang 19.1.5 (Fedora 19.1.5-1.fc41) RHEL8 Kernel: Depends on container host Compiler: gcc 8.5.0 20210514 (Red Hat 8.5.0-22) RHEL9 Kernel: Depends on container host Compiler: gcc 11.5.0 20240719 (Red Hat 11.5.0-2) openSUSE Leap 15 Kernel: Depends on container host Compiler: gcc (SUSE Linux) 7.5.0 Ubuntu 24.04 Kernel: Depends on container host Compiler: gcc (Ubuntu 13.3.0-6ubuntu2~24.04) 13.3.0 Ubuntu 22.04 Kernel: Depends on container host Compiler: gcc (Ubuntu 11.4.0-1ubuntu1~22.04) 11.4.0 Ubuntu 20.04 Kernel: Depends on container host Compiler: gcc (Ubuntu 9.4.0-1ubuntu1~20.04.2) 9.4.0 Ubuntu 24.04 32 Bit Cross Compile Kernel: Depends on container host Compiler: gcc (Ubuntu 13.3.0-6ubuntu2~24.04) 13.3.0 FreeBSD 13.5 Kernel: 13.5-RELEASE Compiler: clang 19.1.7 FreeBSD 14.2 Kernel: 14.2-RELEASE Compiler: clang 18.1.6 Windows Server 2022 Kernel: 10.0.20348.2031 Compiler: clang 15.0.7, gcc 14.1.0 (MinGW), and MSVC VS 19.39.33521 To view detailed results, visit: https://lab.dpdk.org/results/dashboard/patchsets/33194/ UNH-IOL DPDK Community Lab To manage your email subscriptions, visit: https://lab.dpdk.org/results/dashboard/preferences/subscriptions/