From mboxrd@z Thu Jan 1 00:00:00 1970 Return-Path: Received: from mails.dpdk.org (mails.dpdk.org [217.70.189.124]) by inbox.dpdk.org (Postfix) with ESMTP id 9AE9646766 for ; Fri, 16 May 2025 23:21:14 +0200 (CEST) Received: from mails.dpdk.org (localhost [127.0.0.1]) by mails.dpdk.org (Postfix) with ESMTP id 96EF7402E4; Fri, 16 May 2025 23:21:14 +0200 (CEST) Received: from mail-io1-f99.google.com (mail-io1-f99.google.com [209.85.166.99]) by mails.dpdk.org (Postfix) with ESMTP id 99A66402E1 for ; Fri, 16 May 2025 23:21:13 +0200 (CEST) Received: by mail-io1-f99.google.com with SMTP id ca18e2360f4ac-864a071b44bso71008639f.3 for ; Fri, 16 May 2025 14:21:13 -0700 (PDT) DKIM-Signature: v=1; a=rsa-sha256; c=relaxed/relaxed; d=iol.unh.edu; s=unh-iol; t=1747430473; x=1748035273; darn=dpdk.org; h=references:in-reply-to:cc:to:from:subject:message-id:date:from:to :cc:subject:date:message-id:reply-to; bh=2AyZRNihkzuQJ67ddIQHV0ECHsEGLQVyoekSBWK8Hho=; b=ZYJERzo4APxUc5OLYQjWA2TUNAvdF5l6IeJjnUt2Wrni33Ns8O/kytx3dIPLUCgJu9 3x0bykBZurAD3uMYb7wGYp3LReUTQbd2Sm3gkQeMcpvxgnGJ4zpKPI8qRSmlXW2D3p3+ ooCXjdalnyAJKRsKETyjZOkLHrPjhdfF3cEVQ= X-Google-DKIM-Signature: v=1; a=rsa-sha256; c=relaxed/relaxed; d=1e100.net; s=20230601; t=1747430473; x=1748035273; h=references:in-reply-to:cc:to:from:subject:message-id:date :x-gm-message-state:from:to:cc:subject:date:message-id:reply-to; bh=2AyZRNihkzuQJ67ddIQHV0ECHsEGLQVyoekSBWK8Hho=; b=bz3CKY78rr9oohCqKNBMzLDtdeR+Mur7yCLPyBa3P2YkVaOFE2utHsI+o/N4Q4WK+D Ipa04s/DUxbew2PHmfX/Tm4QuocyuHtqnxdBisONCJTB5SY+4GgA7t/sHmS7DNl2TpoX nIv5jrVzW0WwCpcGLd/rxW1Avqq1sJYXofxwJdk6EigHOsRDSy+1D7aLrUOQ3lj17DbG 7wcZFKbM7zQB3W9hzIZrKmGekll9ViREzjmQFd7RxA3fjU4J87xjh6uIEvvYwxNE90fG 97rSN6B0fFHV6luk+nAjcDSL66xbXrFQg3O4+L9emv3Lh6jkvGMuM9V/SJrjCwiWYUzZ xxUw== X-Gm-Message-State: AOJu0Yz8ZVUMmimz4QQ2Yr+/k09mlyEeUY4Me1I3Q/lklh1W+0tbspUZ WCxuRIAbrRf6e9GN2Y9CCQSXODNCN21TukTIZfaB8jK4NaMzjDmtYw+QGyfoBGu72qpRFzp6HVq e0f+vBWRczXqvG4riNJfimipd4VdmJ4PuSWO6bdXzlYfg X-Gm-Gg: ASbGnctKE5ttvGII6iqTtxjOo+R1wDmv+w0GSgPsgZAdCd+4cW1X9lvoe8ig6aGyZru AgiMldv2z5lCmg+OP1dw3ZczL8rS1lfmdEUZiQxNUF/XbXhiIQCU+Zid1hVETUdK1oqE3qrTENQ mN5xiKJ1Lq8Wv1XkPeqx/npZlveNL+Z97KdxRZ9tfTWrbR8oIrqxu0NcYCZljoke5FL7Swzy5+l MAN9MdWV5Pfqd0wgtFWY5tg5iDCnDOMILm8fJ0ent17zwJUEYkyt5+70YyZWehqhCounfv82N0b X9MkrdtqoJlEs3DMlFWhOveuK4iVJZRuMkPLw25qOAMwQZKvliuIzf+Lt4I= X-Google-Smtp-Source: AGHT+IHoR5k09oVG3AWiUpgSrubTprFJPsyCKGWXYIxARrFxtyrnX4vA9/GvDdriE5QzsMFL2XVVELZq4H+a X-Received: by 2002:a05:6602:388b:b0:85b:b82f:965b with SMTP id ca18e2360f4ac-86a24cd615cmr532631239f.12.1747430472952; Fri, 16 May 2025 14:21:12 -0700 (PDT) Received: from postal.iol.unh.edu (postal.iol.unh.edu. [132.177.123.84]) by smtp-relay.gmail.com with ESMTPS id 8926c6da1cb9f-4fbcc48b03dsm125276173.56.2025.05.16.14.21.12 (version=TLS1_2 cipher=ECDHE-ECDSA-AES128-GCM-SHA256 bits=128/128); Fri, 16 May 2025 14:21:12 -0700 (PDT) X-Relaying-Domain: iol.unh.edu Date: Fri, 16 May 2025 14:21:12 -0700 (PDT) Message-ID: <6827ac48.050a0220.a76ba.6c0cSMTPIN_ADDED_MISSING@mx.google.com> Received: from [172.17.0.3] (unknown [172.18.0.76]) by postal.iol.unh.edu (Postfix) with ESMTP id 75EE26052471; Fri, 16 May 2025 17:21:12 -0400 (EDT) Subject: |SUCCESS| pw153490-153489 [PATCH] [v2,2/2] lib/lpm: enable lpm to be From: dpdklab@iol.unh.edu To: Test Report Cc: dpdk-test-reports@iol.unh.edu In-Reply-To: <1747417002-28419-3-git-send-email-andremue@linux.microsoft.com> References: <1747417002-28419-3-git-send-email-andremue@linux.microsoft.com> Content-Type: text/plain X-BeenThere: test-report@dpdk.org X-Mailman-Version: 2.1.29 Precedence: list List-Id: automatic DPDK test reports List-Unsubscribe: , List-Archive: List-Post: List-Help: List-Subscribe: , Errors-To: test-report-bounces@dpdk.org Test-Label: iol-unit-amd64-testing Test-Status: SUCCESS http://dpdk.org/patch/153489 _Testing PASS_ Submitter: Andre Muezerie Date: Friday, May 16 2025 17:36:42 DPDK git baseline: Repo:dpdk Branch: master CommitID:117e86c4b96ed761e9a7ab766261208fe81bf5ca 153490-153489 --> testing pass Upstream job id: Generic-VM-Unit-Test-DPDK#28584 Test environment and result as below: +---------------------+----------------+ | Environment | dpdk_unit_test | +=====================+================+ | CentOS Stream 10 | PASS | +---------------------+----------------+ | Debian 12 | PASS | +---------------------+----------------+ | Fedora 40 (Clang) | PASS | +---------------------+----------------+ | CentOS Stream 9 | PASS | +---------------------+----------------+ | Fedora 41 (Clang) | PASS | +---------------------+----------------+ | RHEL9 | PASS | +---------------------+----------------+ | Fedora 40 | PASS | +---------------------+----------------+ | RHEL8 | PASS | +---------------------+----------------+ | Fedora 41 | PASS | +---------------------+----------------+ | Ubuntu 24.04 | PASS | +---------------------+----------------+ | Ubuntu 22.04 | PASS | +---------------------+----------------+ | Ubuntu 20.04 | PASS | +---------------------+----------------+ | Windows Server 2022 | PASS | +---------------------+----------------+ CentOS Stream 10 Kernel: Depends on container host Compiler: gcc 14.2.1 20241104 (Red Hat 14.2.1-6) Debian 12 Kernel: Depends on container host Compiler: gcc (Debian 12.2.0-14) 12.2.0 Fedora 40 (Clang) Kernel: Depends on container host Compiler: clang 18.1.8 (Fedora 18.1.8-1.fc40) CentOS Stream 9 Kernel: Depends on container host Compiler: gcc 11.5.0 20240719 (Red Hat 11.5.0-2) Fedora 41 (Clang) Kernel: Depends on container host Compiler: clang 19.1.5 (Fedora 19.1.5-1.fc41) RHEL9 Kernel: Depends on container host Compiler: gcc 11.5.0 20240719 (Red Hat 11.5.0-2) Fedora 40 Kernel: Depends on container host Compiler: gcc 14.2.1 20240912 (Red Hat 14.2.1-3) RHEL8 Kernel: Depends on container host Compiler: gcc 8.5.0 20210514 (Red Hat 8.5.0-22) Fedora 41 Kernel: Depends on container host Compiler: gcc 14.2.1 20240912 (Red Hat 14.2.1-3) Ubuntu 24.04 Kernel: Depends on container host Compiler: gcc (Ubuntu 13.3.0-6ubuntu2~24.04) 13.3.0 Ubuntu 22.04 Kernel: Depends on container host Compiler: gcc (Ubuntu 11.4.0-1ubuntu1~22.04) 11.4.0 Ubuntu 20.04 Kernel: Depends on container host Compiler: gcc (Ubuntu 9.4.0-1ubuntu1~20.04.2) 9.4.0 Windows Server 2022 Kernel: 10.0.20348.2031 Compiler: clang 15.0.7, gcc 14.1.0 (MinGW), and MSVC VS 19.39.33521 To view detailed results, visit: https://lab.dpdk.org/results/dashboard/patchsets/33194/ UNH-IOL DPDK Community Lab To manage your email subscriptions, visit: https://lab.dpdk.org/results/dashboard/preferences/subscriptions/