From mboxrd@z Thu Jan 1 00:00:00 1970 Return-Path: Received: from mails.dpdk.org (mails.dpdk.org [217.70.189.124]) by inbox.dpdk.org (Postfix) with ESMTP id AF5104676A for ; Sat, 17 May 2025 07:42:28 +0200 (CEST) Received: from mails.dpdk.org (localhost [127.0.0.1]) by mails.dpdk.org (Postfix) with ESMTP id 8C35C402AF; Sat, 17 May 2025 07:42:28 +0200 (CEST) Received: from mail-il1-f227.google.com (mail-il1-f227.google.com [209.85.166.227]) by mails.dpdk.org (Postfix) with ESMTP id 25E934025D for ; Sat, 17 May 2025 07:42:27 +0200 (CEST) Received: by mail-il1-f227.google.com with SMTP id e9e14a558f8ab-3da73e9cf17so22480045ab.2 for ; Fri, 16 May 2025 22:42:27 -0700 (PDT) DKIM-Signature: v=1; a=rsa-sha256; c=relaxed/relaxed; d=iol.unh.edu; s=unh-iol; t=1747460546; x=1748065346; darn=dpdk.org; h=cc:to:from:subject:message-id:date:from:to:cc:subject:date :message-id:reply-to; bh=X/SGVjyMshypO8UfmPwnM6m77kyirIYCVhAoI3KiukA=; b=ZOtqYqC6iY6yK9/mUICIGVEm1J1bMXGuHfD2z21v/+/1cFhoIFpHoekxOYEfJwGxe7 R+8EwHr1rgwUkkQSPoQ2g75PcWcwkfH9dpBSxiUpJVpmp3iIYypOfiZpFfYoX4C0vl3t vLucmHwG1a2WIe8mzy9b/n53UIKQmGgSkic/0= X-Google-DKIM-Signature: v=1; a=rsa-sha256; c=relaxed/relaxed; d=1e100.net; s=20230601; t=1747460546; x=1748065346; h=cc:to:from:subject:message-id:date:x-gm-message-state:from:to:cc :subject:date:message-id:reply-to; bh=X/SGVjyMshypO8UfmPwnM6m77kyirIYCVhAoI3KiukA=; b=sxlK2xyFkLlO2rgY7OJ7R2jic0M0AGpr8o3fc+010MCk+AOI+r1i8W/Gd5gu9RT1lj AxmSw8QbXUjAJ9n0b1mvR4Lu8cFRU9vi4XHDI6j+ZgAQVEGVN5wyUFzatPtr+MrARvbR VQqfpzELkp1e52kMuAmoMc5cD/dUb36IQX7BcZ8UzvnkW7f6QS8BC8mBtICJbnhbldQ3 mShVeg44hYb9NUOPmOJxn9/FwgWT40rzigntyNOtMQF/IpAGnEiDswQ/XOa/EET+sFHT ILJ6MiZootz8xWl/j8M/9fw40JESLuHujvKOO123BSYl63OQtNCFb6HUkgNnrhJgW0U8 RThQ== X-Gm-Message-State: AOJu0Yybs+caZJW7VNyvpKa+7oLsg/br8YK/P+Z6wgLDNxC7c5dQqVV3 YNSRVZthGtOKxrEfYjf5xZ/Niqa9pdTV2zuUmT6um0gp2qhleh5NiTCh2ccZEZGuw0/O2UAxPUB uQq/2EH9BXvmkeUZhvQ7aHyC6T1+oD+D5JO7n X-Gm-Gg: ASbGnct4aQY861fUXY7dSb2wkaVcS1NutNLi2T/QUx+U27q7/gyyNkC7hRE6XJ0aYXS whc8B5DvgpAVmJ3uwS4GoC8M2z2D79meoUDiFP4c8dhzpxEM6ZBVC/N25aDaOfBKaYwWDwx/QLI J7GwlqlfULw4w7LZTfAKQEhPIfofBJD4f3t8oNK1r4Ca++DQEfsL+fHm5/bmWBCZxODV36wxCFa b0OnNK5kgtDP/UkTb3Tt9kqd8HBK3IogN4Ecnjoit+E3a//xTxz2y4EDEqQANlKWUOblemOUS5J jZtUarvKPcvfns1/p5WSMqEZyRKm50RqTKm9lMO958pEOB3YSkgtNyIorT4= X-Google-Smtp-Source: AGHT+IEKknsqas+FvxLKJS0MkSnVnp2voSMaBp3DgDY3x2h6Klu0VTEecdgbPguBDpT08Gc6NhTDMbTDqvDq X-Received: by 2002:a05:6e02:2409:b0:3d9:3adb:e589 with SMTP id e9e14a558f8ab-3db8429784cmr74357975ab.4.1747460546327; Fri, 16 May 2025 22:42:26 -0700 (PDT) Received: from postal.iol.unh.edu (postal.iol.unh.edu. [132.177.123.84]) by smtp-relay.gmail.com with ESMTPS id e9e14a558f8ab-3db8440ca98sm1363945ab.7.2025.05.16.22.42.26 (version=TLS1_2 cipher=ECDHE-ECDSA-AES128-GCM-SHA256 bits=128/128); Fri, 16 May 2025 22:42:26 -0700 (PDT) X-Relaying-Domain: iol.unh.edu Date: Fri, 16 May 2025 22:42:26 -0700 (PDT) Message-ID: <682821c2.920a0220.d68f5.82a4SMTPIN_ADDED_MISSING@mx.google.com> Received: from [172.21.0.5] (unknown [172.18.0.240]) by postal.iol.unh.edu (Postfix) with ESMTP id 80C246052471; Sat, 17 May 2025 01:42:25 -0400 (EDT) Subject: |SUCCESS| [GIT MASTER] 83a7a648344674c0269fcaeb71d8d16468421a0e From: dpdklab@iol.unh.edu To: Test Report Cc: dpdk-test-reports@iol.unh.edu, Xueming Li , Christian Ehrhardt , Kevin Traynor , Luca Boccassi Content-Type: text/plain X-BeenThere: test-report@dpdk.org X-Mailman-Version: 2.1.29 Precedence: list List-Id: automatic DPDK test reports List-Unsubscribe: , List-Archive: List-Post: List-Help: List-Subscribe: , Errors-To: test-report-bounces@dpdk.org _Testing PASS_ Branch: tags/v23.11 83a7a648344674c0269fcaeb71d8d16468421a0e --> testing pass Upstream job id: Generic-DPDK-Compile-ABI#126762 Test environment and result as below: +-------------------+----------+ | Environment | abi_test | +===================+==========+ | CentOS Stream 9 | PASS | +-------------------+----------+ | CentOS Stream 10 | PASS | +-------------------+----------+ | Debian 12 | PASS | +-------------------+----------+ | Fedora 40 (Clang) | PASS | +-------------------+----------+ | Fedora 40 | PASS | +-------------------+----------+ | openSUSE Leap 15 | PASS | +-------------------+----------+ | Fedora 41 | PASS | +-------------------+----------+ | Fedora 41 (Clang) | PASS | +-------------------+----------+ | RHEL8 | PASS | +-------------------+----------+ | RHEL9 | PASS | +-------------------+----------+ | Ubuntu 22.04 | PASS | +-------------------+----------+ | Ubuntu 24.04 | PASS | +-------------------+----------+ CentOS Stream 9 Kernel: Depends on container host Compiler: gcc 11.5.0 20240719 (Red Hat 11.5.0-2) CentOS Stream 10 Kernel: Depends on container host Compiler: gcc 14.2.1 20241104 (Red Hat 14.2.1-6) Debian 12 Kernel: Depends on container host Compiler: gcc (Debian 12.2.0-14) 12.2.0 Fedora 40 (Clang) Kernel: Depends on container host Compiler: clang 18.1.8 (Fedora 18.1.8-1.fc40) Fedora 40 Kernel: Depends on container host Compiler: gcc 14.2.1 20240912 (Red Hat 14.2.1-3) openSUSE Leap 15 Kernel: Depends on container host Compiler: gcc (SUSE Linux) 7.5.0 Fedora 41 Kernel: Depends on container host Compiler: gcc 14.2.1 20240912 (Red Hat 14.2.1-3) Fedora 41 (Clang) Kernel: Depends on container host Compiler: clang 19.1.5 (Fedora 19.1.5-1.fc41) RHEL8 Kernel: Depends on container host Compiler: gcc 8.5.0 20210514 (Red Hat 8.5.0-22) RHEL9 Kernel: Depends on container host Compiler: gcc 11.5.0 20240719 (Red Hat 11.5.0-2) Ubuntu 22.04 Kernel: Depends on container host Compiler: gcc (Ubuntu 11.4.0-1ubuntu1~22.04) 11.4.0 Ubuntu 24.04 Kernel: Depends on container host Compiler: gcc (Ubuntu 13.3.0-6ubuntu2~24.04) 13.3.0 To view detailed results, visit: https://lab.dpdk.org/results/dashboard/tarballs/33564/ UNH-IOL DPDK Community Lab To manage your email subscriptions, visit: https://lab.dpdk.org/results/dashboard/preferences/subscriptions/