From mboxrd@z Thu Jan 1 00:00:00 1970 Return-Path: Received: from mails.dpdk.org (mails.dpdk.org [217.70.189.124]) by inbox.dpdk.org (Postfix) with ESMTP id 1696D4676A for ; Sat, 17 May 2025 07:57:05 +0200 (CEST) Received: from mails.dpdk.org (localhost [127.0.0.1]) by mails.dpdk.org (Postfix) with ESMTP id EDC15402AF; Sat, 17 May 2025 07:57:04 +0200 (CEST) Received: from mail-pg1-f226.google.com (mail-pg1-f226.google.com [209.85.215.226]) by mails.dpdk.org (Postfix) with ESMTP id DAA014025D for ; Sat, 17 May 2025 07:57:03 +0200 (CEST) Received: by mail-pg1-f226.google.com with SMTP id 41be03b00d2f7-b1fd59851baso1724474a12.0 for ; Fri, 16 May 2025 22:57:03 -0700 (PDT) DKIM-Signature: v=1; a=rsa-sha256; c=relaxed/relaxed; d=iol.unh.edu; s=unh-iol; t=1747461423; x=1748066223; darn=dpdk.org; h=cc:to:from:subject:message-id:date:from:to:cc:subject:date :message-id:reply-to; bh=XDZChji2Qc4KN83XYGTsxAR/mIgL7/yzq7/Zr2O9uvw=; b=a+8SxK3IkOhUNF8wb9RKBX2ii8nRvO8DvKf2VdgJhBCAFRMt7jNSCwO7UVFBKG+qnq KKyjrJOWcis/QaflucyQmOKE6q9P12ewpPRq7aHeqPtOLYzuLfY4so840NmJfh5QQI/J OHCntTk7Zqp8wCQXdKL9Dd2hTYiiDsGXs1sYM= X-Google-DKIM-Signature: v=1; a=rsa-sha256; c=relaxed/relaxed; d=1e100.net; s=20230601; t=1747461423; x=1748066223; h=cc:to:from:subject:message-id:date:x-gm-message-state:from:to:cc :subject:date:message-id:reply-to; bh=XDZChji2Qc4KN83XYGTsxAR/mIgL7/yzq7/Zr2O9uvw=; b=kuTN/Wp/1cKZPFA0e8lLYol/lCctSHofg0FVcMqCHg3gIFSh+N+o/b2HQxj1iBpQsR Y0luRxV9WwGC87eoRVCEcTWDi6g5RM+19PUvpciaNYY6M1HswBMT1fv3l/6qVnkRphbO cKiv05zSSg3/mfR+ez3eV9VRUsfBJ6vtn/amBYcOWxgHveQbjK9vw+ZhGDa+vX9fKiIL 6i5Y6mNuilWni25PbzV+BiNOSO2AEdTrH6eb+092CvaJvPEzVdhqgKU5F52RnFjeyoaQ Q4nDOrKvc/ApihfEXF5/1YlscTv/W+YXkfMBR4/3biI+kejA5nGxAxXGKTfJTVQBxTgA A93w== X-Gm-Message-State: AOJu0YzBRDOpOJs8XscNkbCuv77mX7CMimEL29RpeYX9Sb8XukQWPrvo mTNCY3+9U1M0aJX5ftCDYcv8FUN9QuR11rHW5zPqJ/1hbD3F6podmNOW/oPNaLam/TSW5qeROHF GyY/Tib/W3rpBGNHBMlxCuq0s+xa6XxTb5Q21pH+N6/NjV6k+tdSq X-Gm-Gg: ASbGnct1iTCEiqTBLhgydHnfuAQc74OzKKNeNGugUws5T+rmyq98GXJeZHW0gwwnaTc hRF9bxtLspfIBk1GOz4NefcTvkf5hJCIXUXIg75mEr8SmYKe4VzS6ebvCrSelcHnjTBSdsvqfP/ QHf7+krcl3Lern81CRKRJFYJNVzbLyW3yofsi2aMoBMjzYDRXNvFBWDbOkymXoxOCcYeMifoBUe fc0rl1iuMjwxgNCc4mCD51acxGOaKgn7vilyDHw3QICdQqEPuIDwTVo1ae+Ys2ZCtjuclG4Ovvu ah50PIOXq7inS1D0yC+CaSrzT6/NRIItmcJf X-Google-Smtp-Source: AGHT+IHiuKf/hEg9rrx9iF8W+qhyVKcaAFETt70JdsfbkLaFYLGUxFbahgWfoLcR3Z6l26AFMDYWncuVT8mQ X-Received: by 2002:a17:902:ea0c:b0:22e:61b2:5eb6 with SMTP id d9443c01a7336-231de3030bemr74565685ad.15.1747461422783; Fri, 16 May 2025 22:57:02 -0700 (PDT) Received: from postal.iol.unh.edu (postal.iol.unh.edu. [2606:4100:3880:1234::84]) by smtp-relay.gmail.com with ESMTPS id d9443c01a7336-231d4e9756asm1827855ad.87.2025.05.16.22.57.02 (version=TLS1_2 cipher=ECDHE-ECDSA-AES128-GCM-SHA256 bits=128/128); Fri, 16 May 2025 22:57:02 -0700 (PDT) X-Relaying-Domain: iol.unh.edu Date: Fri, 16 May 2025 22:57:02 -0700 (PDT) Message-ID: <6828252e.170a0220.19905e.b13eSMTPIN_ADDED_MISSING@mx.google.com> Received: from [172.21.0.6] (unknown [172.18.0.240]) by postal.iol.unh.edu (Postfix) with ESMTP id 0F42D6052471; Sat, 17 May 2025 01:57:02 -0400 (EDT) Subject: |SUCCESS| [GIT MASTER] 4c5634de9f933555bab9c64a533d3dca999071cd From: dpdklab@iol.unh.edu To: Test Report Cc: dpdk-test-reports@iol.unh.edu, Xueming Li , Christian Ehrhardt , Kevin Traynor , Luca Boccassi Content-Type: text/plain X-BeenThere: test-report@dpdk.org X-Mailman-Version: 2.1.29 Precedence: list List-Id: automatic DPDK test reports List-Unsubscribe: , List-Archive: List-Post: List-Help: List-Subscribe: , Errors-To: test-report-bounces@dpdk.org _Testing PASS_ Branch: tags/v24.11 4c5634de9f933555bab9c64a533d3dca999071cd --> testing pass Upstream job id: Generic-Unit-Test-DPDK#338647 Test environment and result as below: +---------------------+----------------+ | Environment | dpdk_unit_test | +=====================+================+ | Fedora 40 (Clang) | PASS | +---------------------+----------------+ | Fedora 41 | PASS | +---------------------+----------------+ | Debian 12 | PASS | +---------------------+----------------+ | CentOS Stream 10 | PASS | +---------------------+----------------+ | CentOS Stream 9 | PASS | +---------------------+----------------+ | Fedora 40 | PASS | +---------------------+----------------+ | RHEL9 | PASS | +---------------------+----------------+ | RHEL8 | PASS | +---------------------+----------------+ | Fedora 41 (Clang) | PASS | +---------------------+----------------+ | Ubuntu 22.04 | PASS | +---------------------+----------------+ | Ubuntu 20.04 | PASS | +---------------------+----------------+ | Ubuntu 24.04 | PASS | +---------------------+----------------+ | Windows Server 2022 | PASS | +---------------------+----------------+ Fedora 40 (Clang) Kernel: Depends on container host Compiler: clang 18.1.8 (Fedora 18.1.8-1.fc40) Fedora 41 Kernel: Depends on container host Compiler: gcc 14.2.1 20240912 (Red Hat 14.2.1-3) Debian 12 Kernel: Depends on container host Compiler: gcc (Debian 12.2.0-14) 12.2.0 CentOS Stream 10 Kernel: Depends on container host Compiler: gcc 14.2.1 20241104 (Red Hat 14.2.1-6) CentOS Stream 9 Kernel: Depends on container host Compiler: gcc 11.5.0 20240719 (Red Hat 11.5.0-2) Fedora 40 Kernel: Depends on container host Compiler: gcc 14.2.1 20240912 (Red Hat 14.2.1-3) RHEL9 Kernel: Depends on container host Compiler: gcc 11.5.0 20240719 (Red Hat 11.5.0-2) RHEL8 Kernel: Depends on container host Compiler: gcc 8.5.0 20210514 (Red Hat 8.5.0-22) Fedora 41 (Clang) Kernel: Depends on container host Compiler: clang 19.1.5 (Fedora 19.1.5-1.fc41) Ubuntu 22.04 Kernel: Depends on container host Compiler: gcc (Ubuntu 11.4.0-1ubuntu1~22.04) 11.4.0 Ubuntu 20.04 Kernel: Depends on container host Compiler: gcc (Ubuntu 9.4.0-1ubuntu1~20.04.2) 9.4.0 Ubuntu 24.04 Kernel: Depends on container host Compiler: gcc (Ubuntu 13.3.0-6ubuntu2~24.04) 13.3.0 Windows Server 2022 Kernel: 10.0.20348.2031 Compiler: clang 15.0.7, gcc 14.1.0 (MinGW), and MSVC VS 19.39.33521 To view detailed results, visit: https://lab.dpdk.org/results/dashboard/tarballs/33563/ UNH-IOL DPDK Community Lab To manage your email subscriptions, visit: https://lab.dpdk.org/results/dashboard/preferences/subscriptions/