From mboxrd@z Thu Jan 1 00:00:00 1970 Return-Path: Received: from mails.dpdk.org (mails.dpdk.org [217.70.189.124]) by inbox.dpdk.org (Postfix) with ESMTP id 957354676C for ; Sat, 17 May 2025 08:23:28 +0200 (CEST) Received: from mails.dpdk.org (localhost [127.0.0.1]) by mails.dpdk.org (Postfix) with ESMTP id 906F3402AF; Sat, 17 May 2025 08:23:28 +0200 (CEST) Received: from mail-pl1-f225.google.com (mail-pl1-f225.google.com [209.85.214.225]) by mails.dpdk.org (Postfix) with ESMTP id ABCCE4025D for ; Sat, 17 May 2025 08:23:27 +0200 (CEST) Received: by mail-pl1-f225.google.com with SMTP id d9443c01a7336-231e98e46c0so10357205ad.3 for ; Fri, 16 May 2025 23:23:27 -0700 (PDT) DKIM-Signature: v=1; a=rsa-sha256; c=relaxed/relaxed; d=iol.unh.edu; s=unh-iol; t=1747463006; x=1748067806; darn=dpdk.org; h=cc:to:from:subject:message-id:date:from:to:cc:subject:date :message-id:reply-to; bh=pCUHurFTTce9VAbRMRlcr7evnS4zbS2PNPgoXL4GVgo=; b=jg4vC8e6s/8VgAP4inqHsgmkDw36q+855G9q25c7uhtATXaMI8sKxwkiwsAz61bBf7 N+HkRoGY+ENwhz76nOFimF9gs9BCf6VvHRvmCC5g268hfuOPqNMhUHIIvwa1xlGCrsBY CeujCovkNpZbsiyfcIs0xsJMqfVLK2iYnJDvk= X-Google-DKIM-Signature: v=1; a=rsa-sha256; c=relaxed/relaxed; d=1e100.net; s=20230601; t=1747463006; x=1748067806; h=cc:to:from:subject:message-id:date:x-gm-message-state:from:to:cc :subject:date:message-id:reply-to; bh=pCUHurFTTce9VAbRMRlcr7evnS4zbS2PNPgoXL4GVgo=; b=OQMeaKoPT+dIkdwDxVXvXV3EX2zxwljO4/MIeoPwJ9fpSWEiR+/4ZatBIsMz5/SKpf h/WSzHPJsmGSXkI7w6Gfgr9W4QZe4qrCSwsNg/uQL5iER8SG+UoLLJhi+d0SoZJl+c/P 5csiz1F6iz5g4qISfTg1PZH0C/663UmpocU8oRh+z61Q1ONKaakvsjsqNQoQhmk1EUYu BGUoqv+SLwzqWVcdLMt/hzD2GB+hqE12vGCHlEejVmgMB3xiuoEYkhsFDe7vbeIFTREI tQOxEZQxosJ54JUuevBDwKibe5B1PyPsdwEpU+2swbtHXd9AU7O3Ii7UZreYJTne/r6z RjpQ== X-Gm-Message-State: AOJu0YyjeMACTmnNQVEqWdpJtQH7PT9nmW2OKWCOYvxN9BBBeCh6eOns HukrDSN1WNUCrU8kErcBx2m3Vr+DS+5hjr+FGRgahfp2aO8JvluS6BvMc93ugdhqknkK17yL2Nk EtUQ3ukW19qUwf9FJRaCOXUtA0zhKNfQ1F/XI X-Gm-Gg: ASbGnctyS0kBhTtDEWTw7iIRXtuKRhzt7J5b+Y+gVLh3pvHe16j0rF5/AbTkuScGuE+ wMoeOW0sxHfZRtR5BHKz8SL5XjSgdC2ZjDWUPboeTZ5KM5weck9Bz5B6RNadbfe1djYwQpHgcU9 hbZuvg8i/Cziz/tKlcGLKPXvw1zkWnlXIG6EeI14GwpKXD7QHurVSz18UChDLXSqK3n4s/tZjDR lNHcFHDKxe2hh0cl5Ofo/leSatnzrhbBNkeatvCVI/KvUUyjDs61P4alnA+ztXq6HTaWkcCDzF7 pC+dxLIPE4VfL+DMfH4TK9Cp/4U4tP3kLFrXYscZLv30qcGg5CaY8Cxn5/8= X-Google-Smtp-Source: AGHT+IFzBCxw23gqCqAiC1DTZ9Wl+AEvOWK+NYaTx3gq0NCmVMVs1eJ3zCITcKfURRulOs4V5S3Dxyq/TZhl X-Received: by 2002:a17:903:595:b0:22e:b21c:98de with SMTP id d9443c01a7336-231d4596f7amr57654805ad.39.1747463006375; Fri, 16 May 2025 23:23:26 -0700 (PDT) Received: from postal.iol.unh.edu (postal.iol.unh.edu. [132.177.123.84]) by smtp-relay.gmail.com with ESMTPS id d9443c01a7336-231d4acb2eesm1743015ad.44.2025.05.16.23.23.26 (version=TLS1_2 cipher=ECDHE-ECDSA-AES128-GCM-SHA256 bits=128/128); Fri, 16 May 2025 23:23:26 -0700 (PDT) X-Relaying-Domain: iol.unh.edu Date: Fri, 16 May 2025 23:23:26 -0700 (PDT) Message-ID: <68282b5e.170a0220.77d33.9ad1SMTPIN_ADDED_MISSING@mx.google.com> Received: from [172.21.0.6] (unknown [172.18.0.240]) by postal.iol.unh.edu (Postfix) with ESMTP id D50B96052471; Sat, 17 May 2025 02:23:25 -0400 (EDT) Subject: |SUCCESS| [GIT MASTER] 4c5634de9f933555bab9c64a533d3dca999071cd From: dpdklab@iol.unh.edu To: Test Report Cc: dpdk-test-reports@iol.unh.edu, Xueming Li , Christian Ehrhardt , Kevin Traynor , Luca Boccassi Content-Type: text/plain X-BeenThere: test-report@dpdk.org X-Mailman-Version: 2.1.29 Precedence: list List-Id: automatic DPDK test reports List-Unsubscribe: , List-Archive: List-Post: List-Help: List-Subscribe: , Errors-To: test-report-bounces@dpdk.org _Testing PASS_ Branch: tags/v24.11 4c5634de9f933555bab9c64a533d3dca999071cd --> testing pass Upstream job id: Generic-DPDK-Compile-ABI#126769 Test environment and result as below: +-------------------+----------+ | Environment | abi_test | +===================+==========+ | CentOS Stream 9 | PASS | +-------------------+----------+ | CentOS Stream 10 | PASS | +-------------------+----------+ | Debian 12 | PASS | +-------------------+----------+ | Fedora 40 | PASS | +-------------------+----------+ | Fedora 40 (Clang) | PASS | +-------------------+----------+ | Fedora 41 (Clang) | PASS | +-------------------+----------+ | Fedora 41 | PASS | +-------------------+----------+ | openSUSE Leap 15 | PASS | +-------------------+----------+ | RHEL9 | PASS | +-------------------+----------+ | Ubuntu 22.04 | PASS | +-------------------+----------+ | RHEL8 | PASS | +-------------------+----------+ | Ubuntu 24.04 | PASS | +-------------------+----------+ CentOS Stream 9 Kernel: Depends on container host Compiler: gcc 11.5.0 20240719 (Red Hat 11.5.0-2) CentOS Stream 10 Kernel: Depends on container host Compiler: gcc 14.2.1 20241104 (Red Hat 14.2.1-6) Debian 12 Kernel: Depends on container host Compiler: gcc (Debian 12.2.0-14) 12.2.0 Fedora 40 Kernel: Depends on container host Compiler: gcc 14.2.1 20240912 (Red Hat 14.2.1-3) Fedora 40 (Clang) Kernel: Depends on container host Compiler: clang 18.1.8 (Fedora 18.1.8-1.fc40) Fedora 41 (Clang) Kernel: Depends on container host Compiler: clang 19.1.5 (Fedora 19.1.5-1.fc41) Fedora 41 Kernel: Depends on container host Compiler: gcc 14.2.1 20240912 (Red Hat 14.2.1-3) openSUSE Leap 15 Kernel: Depends on container host Compiler: gcc (SUSE Linux) 7.5.0 RHEL9 Kernel: Depends on container host Compiler: gcc 11.5.0 20240719 (Red Hat 11.5.0-2) Ubuntu 22.04 Kernel: Depends on container host Compiler: gcc (Ubuntu 11.4.0-1ubuntu1~22.04) 11.4.0 RHEL8 Kernel: Depends on container host Compiler: gcc 8.5.0 20210514 (Red Hat 8.5.0-22) Ubuntu 24.04 Kernel: Depends on container host Compiler: gcc (Ubuntu 13.3.0-6ubuntu2~24.04) 13.3.0 To view detailed results, visit: https://lab.dpdk.org/results/dashboard/tarballs/33563/ UNH-IOL DPDK Community Lab To manage your email subscriptions, visit: https://lab.dpdk.org/results/dashboard/preferences/subscriptions/