From mboxrd@z Thu Jan 1 00:00:00 1970 Return-Path: Received: from mails.dpdk.org (mails.dpdk.org [217.70.189.124]) by inbox.dpdk.org (Postfix) with ESMTP id 70C394676E for ; Sat, 17 May 2025 08:59:08 +0200 (CEST) Received: from mails.dpdk.org (localhost [127.0.0.1]) by mails.dpdk.org (Postfix) with ESMTP id 4CA5E402AF; Sat, 17 May 2025 08:59:08 +0200 (CEST) Received: from mail-pf1-f227.google.com (mail-pf1-f227.google.com [209.85.210.227]) by mails.dpdk.org (Postfix) with ESMTP id 9E3484025D for ; Sat, 17 May 2025 08:59:06 +0200 (CEST) Received: by mail-pf1-f227.google.com with SMTP id d2e1a72fcca58-7398d65476eso2372271b3a.1 for ; Fri, 16 May 2025 23:59:06 -0700 (PDT) DKIM-Signature: v=1; a=rsa-sha256; c=relaxed/relaxed; d=iol.unh.edu; s=unh-iol; t=1747465145; x=1748069945; darn=dpdk.org; h=cc:to:from:subject:message-id:date:from:to:cc:subject:date :message-id:reply-to; bh=s75GXQbYVTj7YswJ0KgDNiFJd1lx0+x9wEiDVp/+x+A=; b=SXnj4Zq2VzLc3PW8K7DRR8zvAvz00NZ+osdzcUEWU1xHw9IZ/Om4G0tCHvDFjCleOd 9VdrHQj1fEtJfM1nIRilNLzn0dsLwsEGf8iuCuACHiKmaruADp2bK5XFVSiVoBTYmm4l 5M/fKLgCGrWqUZ44kyj/l7EqTpd5i8A+Lw840= X-Google-DKIM-Signature: v=1; a=rsa-sha256; c=relaxed/relaxed; d=1e100.net; s=20230601; t=1747465145; x=1748069945; h=cc:to:from:subject:message-id:date:x-gm-message-state:from:to:cc :subject:date:message-id:reply-to; bh=s75GXQbYVTj7YswJ0KgDNiFJd1lx0+x9wEiDVp/+x+A=; b=Ada8YQyf7JKundOQXKDHLnzcD2p/16hfvNoa114Q3Y9GduAvyYa+zXI8tq1NIL9P0P GKurL1t/+v7FWHmyTpQIrzhPoJe1aCt+OCkNh2yU6n96ZVvssAgwa5uzigZyStA/IBYB DycUtSnszD5eOIRIHoi/wEObqR0b+azeLlOeTwUvBuGy/AS203inMV5LykDNtkjEfv2r p3etFd5KAljaa74vKIC8OqK3DKWBCQZQq8nOWx2Jr1cR0076LV6M4nfKQzg/I/HQQHZ0 DxyO6FuGhGaUPzkKseuVOkM0fLdApjxI5RCQrFZHuZjhqJ7erYnwUBjpvsPdyRyzNaBe ZuRQ== X-Gm-Message-State: AOJu0YzxOPr3zvQL9QnuovplaFspvH2M2PJNz6W4yTJM+IiXT/A69W+K fTs1ln6JA3jY12JOvEWIbB4M/7FccPP/0TwAL02Y2OFeue+88n+/4QeBiwWHrqw226FwB1CYTRB gbqp2pVVh0Vt8Y6ARmeZe5ZrUs52ZNy9wwZJz X-Gm-Gg: ASbGncsiHsuC6NLXQ5sZWK3G7R+3KI/6KJtMHLje5O11uLhZ03S8B3c+Rhs50HrFgmz I9Dn+D5SNvixYAYBuwZX/G09/vUNaQzM9ndf3YPFIJDSa3rwv2PvqfkAilmbybKlTp+4+0VLgVI XuAQSsaLujMbdTYCuojjHQ+qVnfiMPXG5c8LStzYGQMySJJdCxz9FYYi0FD+3ErGNIKhVI8nuxe RnDYkLXele9t/3st55rPmgLyFW6a4dYMONtBKdkHKW1ifMjx3kc5IBj7OwBjt/bziSw4CTUXFXV JNJb6OBj/rMxH4okE53OQpoTApVlL8atXT//VCMGZCaFdkwFZjZ4jtft3vA= X-Google-Smtp-Source: AGHT+IGoaSR1avdNjwLa9OLBqk7LKvdEDh1m8l93Y7bg69/5WZSUmw9C5JX+9zsEyGdhP/xB3+8u7OxM86hk X-Received: by 2002:a05:6a00:3906:b0:742:a24d:aede with SMTP id d2e1a72fcca58-742a24daf38mr12028299b3a.8.1747465145328; Fri, 16 May 2025 23:59:05 -0700 (PDT) Received: from postal.iol.unh.edu (postal.iol.unh.edu. [132.177.123.84]) by smtp-relay.gmail.com with ESMTPS id d2e1a72fcca58-742a9769520sm192895b3a.12.2025.05.16.23.59.05 (version=TLS1_2 cipher=ECDHE-ECDSA-AES128-GCM-SHA256 bits=128/128); Fri, 16 May 2025 23:59:05 -0700 (PDT) X-Relaying-Domain: iol.unh.edu Date: Fri, 16 May 2025 23:59:05 -0700 (PDT) Message-ID: <682833b9.050a0220.247cdd.b34eSMTPIN_ADDED_MISSING@mx.google.com> Received: from [172.21.0.8] (unknown [172.18.0.240]) by postal.iol.unh.edu (Postfix) with ESMTP id 431A76052471; Sat, 17 May 2025 02:59:04 -0400 (EDT) Subject: |SUCCESS| [GIT MASTER] 4401486b5e30d43a134f80f9802f60b5f43e74a8 From: dpdklab@iol.unh.edu To: Test Report Cc: dpdk-test-reports@iol.unh.edu, Xueming Li , Christian Ehrhardt , Kevin Traynor , Luca Boccassi Content-Type: text/plain X-BeenThere: test-report@dpdk.org X-Mailman-Version: 2.1.29 Precedence: list List-Id: automatic DPDK test reports List-Unsubscribe: , List-Archive: List-Post: List-Help: List-Subscribe: , Errors-To: test-report-bounces@dpdk.org _Testing PASS_ Branch: tags/v22.11 4401486b5e30d43a134f80f9802f60b5f43e74a8 --> testing pass Upstream job id: Generic-Unit-Test-DPDK#338664 Test environment and result as below: +-----------------------------+--------------+------------------------------+---------------------------+----------------+ | Environment | lpm_autotest | cryptodev_sw_snow3g_autotest | cryptodev_sw_zuc_autotest | dpdk_unit_test | +=============================+==============+==============================+===========================+================+ | Ubuntu 20.04 ARM SVE | PASS | SKIPPED | SKIPPED | SKIPPED | +-----------------------------+--------------+------------------------------+---------------------------+----------------+ | Debian 12 (arm) | SKIPPED | PASS | PASS | SKIPPED | +-----------------------------+--------------+------------------------------+---------------------------+----------------+ | 32-bit Ubuntu 22.04.4 (ARM) | SKIPPED | SKIPPED | SKIPPED | PASS | +-----------------------------+--------------+------------------------------+---------------------------+----------------+ Ubuntu 20.04 ARM SVE Kernel: Depends on container host Compiler: gcc (Ubuntu 10.5.0-1ubuntu1~20.04) 10.5.0 Debian 12 (arm) Kernel: Depends on container host Compiler: gcc (Debian 12.2.0-14) 12.2.0 32-bit Ubuntu 22.04.4 (ARM) Kernel: 5.15.83+ aarch64 Compiler: gcc (Ubuntu 11.4.0-1ubuntu1~22.04) 11.4.0 To view detailed results, visit: https://lab.dpdk.org/results/dashboard/tarballs/33565/ UNH-IOL DPDK Community Lab To manage your email subscriptions, visit: https://lab.dpdk.org/results/dashboard/preferences/subscriptions/