From mboxrd@z Thu Jan 1 00:00:00 1970 Return-Path: Received: from mails.dpdk.org (mails.dpdk.org [217.70.189.124]) by inbox.dpdk.org (Postfix) with ESMTP id 69F494676E for ; Sat, 17 May 2025 08:59:32 +0200 (CEST) Received: from mails.dpdk.org (localhost [127.0.0.1]) by mails.dpdk.org (Postfix) with ESMTP id 65257402AF; Sat, 17 May 2025 08:59:32 +0200 (CEST) Received: from mail-pf1-f228.google.com (mail-pf1-f228.google.com [209.85.210.228]) by mails.dpdk.org (Postfix) with ESMTP id B22DF4025D for ; Sat, 17 May 2025 08:59:30 +0200 (CEST) Received: by mail-pf1-f228.google.com with SMTP id d2e1a72fcca58-742b0840d98so990033b3a.1 for ; Fri, 16 May 2025 23:59:30 -0700 (PDT) DKIM-Signature: v=1; a=rsa-sha256; c=relaxed/relaxed; d=iol.unh.edu; s=unh-iol; t=1747465170; x=1748069970; darn=dpdk.org; h=cc:to:from:subject:message-id:date:from:to:cc:subject:date :message-id:reply-to; bh=Rsj/gJbZcRstWQMYUgKIIpgtw4rpDlXhSvyT4+I1UvM=; b=CpYUSKbdOIMVoHg3sW7j8jLaWo1b+JBalzuNtNPPaubCfReaHuTIrzV60ZSezCSHfs 3JFOIDNrjvNtr6I/by5x8W/1mSOQpM6wkw9jRa1S2ON004dOl5Xk5JsWB+ysovNFvDFL mGjCwo9U2o/F1jfZbDV2J0W/JEe2zSNPcTvwE= X-Google-DKIM-Signature: v=1; a=rsa-sha256; c=relaxed/relaxed; d=1e100.net; s=20230601; t=1747465170; x=1748069970; h=cc:to:from:subject:message-id:date:x-gm-message-state:from:to:cc :subject:date:message-id:reply-to; bh=Rsj/gJbZcRstWQMYUgKIIpgtw4rpDlXhSvyT4+I1UvM=; b=Ow+0fbAVkKuKHomDvWbftUdOuSFs1oQtzC9CpPlKDJnHRxIqRTcjV4ol74fYndKC4p fI8yB18Us5OP8gMc6AuJXuCWeplSZ3Jfno7keNSkTjFIky/ON5Wo+aCyADUN+4XKtPYq r9K/LXyEXq4kpnBt8ApmlkXu3eJajMJZk9tj6dTGRGA0s1Z/CrHOHXbVIPBjYzA88XB3 hDhoahacAmPCMBDV16rIogWY1CMapZk92NvCpemXPldtUMwYuYN3j63yOumLpcKzLX8K pKBfJ2bmZevgS8AA5LAtjzy8UrTYJPtYVMNYzQMr8sJ+Q7CE2RqTVuGkbCf6GpRS9/QJ SZZQ== X-Gm-Message-State: AOJu0YzwnI3Nu3MyjwCZGZ6pM6OJ1UuaIYOJkiXA59tm8URL9OhUqirL I1Fq8xClUZ2DGqndSdq6wBthEenD7Dj2I43vvTU9JgdEYd8rFAyJMDZmP6rhJknbGP+4pqFoqs/ VyIbKhaeH/Tsul4tvxc6VK1XXdaDt5J4mAQLoiaWTeTD8jrzZrdys X-Gm-Gg: ASbGnctjNCqaAvSSA5DM/GMGy2oYOotrBl/nj/ryJnIJt7EwmjcCLh5KmLVrReNGmU/ kdFbQlARTjT9A8pHkTfu4PPU8Iu8MBrtwoN0IymGXN2c6PgweYNiX8Mq34G9pwQgBn9xyx8ZE+T pK2EWPHTLFprk4VmDjD4xKIfm7YO22ku8wc/Qvpa6Sdllk1alyrlRDVP10f1h80bSHjdmqd/E20 hZTnupEKx34UlIwGZQmDm04mrrV5ZPaTqRHm/lXaA8UqB5LuodeZWFae228K/PakWf5LxSFobwo zVgG7ZFzo8sm700+V2lGkSPjxXyyQ1wZ1LFA X-Google-Smtp-Source: AGHT+IG0afs2rcje6M9qyXaJgzPGKmAq7BYooGzKurr2P15nwDYMcAyVM1hdTh07f+ZmS1hOwalDZP9pYTGe X-Received: by 2002:a05:6a20:432b:b0:215:cf53:6e6d with SMTP id adf61e73a8af0-2170ce19ec6mr8702860637.27.1747465169889; Fri, 16 May 2025 23:59:29 -0700 (PDT) Received: from postal.iol.unh.edu (postal.iol.unh.edu. [2606:4100:3880:1234::84]) by smtp-relay.gmail.com with ESMTPS id 41be03b00d2f7-b26eafa773fsm222070a12.14.2025.05.16.23.59.29 (version=TLS1_2 cipher=ECDHE-ECDSA-AES128-GCM-SHA256 bits=128/128); Fri, 16 May 2025 23:59:29 -0700 (PDT) X-Relaying-Domain: iol.unh.edu Date: Fri, 16 May 2025 23:59:29 -0700 (PDT) Message-ID: <682833d1.630a0220.243c12.9a0cSMTPIN_ADDED_MISSING@mx.google.com> Received: from [172.21.0.6] (unknown [172.18.0.240]) by postal.iol.unh.edu (Postfix) with ESMTP id 2648B6052471; Sat, 17 May 2025 02:59:29 -0400 (EDT) Subject: |SUCCESS| [GIT MASTER] 83a7a648344674c0269fcaeb71d8d16468421a0e From: dpdklab@iol.unh.edu To: Test Report Cc: dpdk-test-reports@iol.unh.edu, Xueming Li , Christian Ehrhardt , Kevin Traynor , Luca Boccassi Content-Type: text/plain X-BeenThere: test-report@dpdk.org X-Mailman-Version: 2.1.29 Precedence: list List-Id: automatic DPDK test reports List-Unsubscribe: , List-Archive: List-Post: List-Help: List-Subscribe: , Errors-To: test-report-bounces@dpdk.org _Testing PASS_ Branch: tags/v23.11 83a7a648344674c0269fcaeb71d8d16468421a0e --> testing pass Upstream job id: Generic-Unit-Test-DPDK#338667 Test environment and result as below: +-----------------------------+--------------+------------------------------+---------------------------+----------------+ | Environment | lpm_autotest | cryptodev_sw_snow3g_autotest | cryptodev_sw_zuc_autotest | dpdk_unit_test | +=============================+==============+==============================+===========================+================+ | Ubuntu 20.04 ARM SVE | PASS | SKIPPED | SKIPPED | SKIPPED | +-----------------------------+--------------+------------------------------+---------------------------+----------------+ | Debian 12 (arm) | SKIPPED | PASS | PASS | PASS | +-----------------------------+--------------+------------------------------+---------------------------+----------------+ | CentOS Stream 10 (ARM) | SKIPPED | SKIPPED | SKIPPED | PASS | +-----------------------------+--------------+------------------------------+---------------------------+----------------+ | CentOS Stream 9 (ARM) | SKIPPED | SKIPPED | SKIPPED | PASS | +-----------------------------+--------------+------------------------------+---------------------------+----------------+ | Fedora 40 (ARM Clang) | SKIPPED | SKIPPED | SKIPPED | PASS | +-----------------------------+--------------+------------------------------+---------------------------+----------------+ | Fedora 40 (ARM) | SKIPPED | SKIPPED | SKIPPED | PASS | +-----------------------------+--------------+------------------------------+---------------------------+----------------+ | Fedora 41 (ARM) | SKIPPED | SKIPPED | SKIPPED | PASS | +-----------------------------+--------------+------------------------------+---------------------------+----------------+ | Ubuntu 20.04 (ARM) | SKIPPED | SKIPPED | SKIPPED | PASS | +-----------------------------+--------------+------------------------------+---------------------------+----------------+ | Ubuntu 22.04 (ARM) | SKIPPED | SKIPPED | SKIPPED | PASS | +-----------------------------+--------------+------------------------------+---------------------------+----------------+ | Fedora 41 (ARM Clang) | SKIPPED | SKIPPED | SKIPPED | PASS | +-----------------------------+--------------+------------------------------+---------------------------+----------------+ | Ubuntu 24.04 (ARM) | SKIPPED | SKIPPED | SKIPPED | PASS | +-----------------------------+--------------+------------------------------+---------------------------+----------------+ | RHEL9 (ARM) | SKIPPED | SKIPPED | SKIPPED | PASS | +-----------------------------+--------------+------------------------------+---------------------------+----------------+ | 32-bit Ubuntu 22.04.4 (ARM) | SKIPPED | SKIPPED | SKIPPED | PASS | +-----------------------------+--------------+------------------------------+---------------------------+----------------+ Ubuntu 20.04 ARM SVE Kernel: Depends on container host Compiler: gcc (Ubuntu 10.5.0-1ubuntu1~20.04) 10.5.0 Debian 12 (arm) Kernel: Depends on container host Compiler: gcc (Debian 12.2.0-14) 12.2.0 CentOS Stream 10 (ARM) Kernel: Depends on container host Compiler: gcc 14.2.1 20241104 (Red Hat 14.2.1-6) CentOS Stream 9 (ARM) Kernel: Depends on container host Compiler: gcc 11.5.0 20240719 (Red Hat 11.5.0-2) Fedora 40 (ARM Clang) Kernel: Depends on container host Compiler: clang 18.1.8 (Fedora 18.1.8-1.fc40) Fedora 40 (ARM) Kernel: Depends on container host Compiler: gcc 14.2.1 20240912 (Red Hat 14.2.1-3) Fedora 41 (ARM) Kernel: Depends on container host Compiler: gcc 14.2.1 20240912 (Red Hat 14.2.1-3) Ubuntu 20.04 (ARM) Kernel: Depends on container host Compiler: gcc (Ubuntu 9.4.0-1ubuntu1~20.04.2) 9.4.0 Ubuntu 22.04 (ARM) Kernel: Depends on container host Compiler: gcc (Ubuntu 11.4.0-1ubuntu1~22.04) 11.4.0 Fedora 41 (ARM Clang) Kernel: Depends on container host Compiler: clang 19.1.5 (Fedora 19.1.5-1.fc41) Ubuntu 24.04 (ARM) Kernel: Depends on container host Compiler: gcc (Ubuntu 13.3.0-6ubuntu2~24.04) 13.3.0 RHEL9 (ARM) Kernel: Depends on container host Compiler: gcc 11.5.0 20240719 (Red Hat 11.5.0-2) 32-bit Ubuntu 22.04.4 (ARM) Kernel: 5.15.83+ aarch64 Compiler: gcc (Ubuntu 11.4.0-1ubuntu1~22.04) 11.4.0 To view detailed results, visit: https://lab.dpdk.org/results/dashboard/tarballs/33564/ UNH-IOL DPDK Community Lab To manage your email subscriptions, visit: https://lab.dpdk.org/results/dashboard/preferences/subscriptions/