From mboxrd@z Thu Jan 1 00:00:00 1970 Return-Path: Received: from mails.dpdk.org (mails.dpdk.org [217.70.189.124]) by inbox.dpdk.org (Postfix) with ESMTP id 9D2DC4676E for ; Sat, 17 May 2025 09:46:01 +0200 (CEST) Received: from mails.dpdk.org (localhost [127.0.0.1]) by mails.dpdk.org (Postfix) with ESMTP id 76EE4402AF; Sat, 17 May 2025 09:46:01 +0200 (CEST) Received: from mail-il1-f226.google.com (mail-il1-f226.google.com [209.85.166.226]) by mails.dpdk.org (Postfix) with ESMTP id 517304025D for ; Sat, 17 May 2025 09:46:00 +0200 (CEST) Received: by mail-il1-f226.google.com with SMTP id e9e14a558f8ab-3da831c17faso8633565ab.3 for ; Sat, 17 May 2025 00:46:00 -0700 (PDT) DKIM-Signature: v=1; a=rsa-sha256; c=relaxed/relaxed; d=iol.unh.edu; s=unh-iol; t=1747467959; x=1748072759; darn=dpdk.org; h=cc:to:from:subject:message-id:date:from:to:cc:subject:date :message-id:reply-to; bh=BwirADuknFj09wGpjJgUyu1b71UxACn7qG1WizZw6VY=; b=Xw2YHXwKdq3UbFD0Dxji0TC9stNtsPSXs3EROK7F2J66nfH7dExPBwvx+/EZPuf6hQ QWZEDfIptNZ7A5qGjq14lzolFnh2f1Se3Kcw5noCggmiJ1V+1QbAi/0Fu35QLj+mTfFR ptYUiCEp0DaYTwTwLLnvukr5o/06Zun6GYh98= X-Google-DKIM-Signature: v=1; a=rsa-sha256; c=relaxed/relaxed; d=1e100.net; s=20230601; t=1747467959; x=1748072759; h=cc:to:from:subject:message-id:date:x-gm-message-state:from:to:cc :subject:date:message-id:reply-to; bh=BwirADuknFj09wGpjJgUyu1b71UxACn7qG1WizZw6VY=; b=KX3wjv9o+1Ri6PoVm18FDJJxVmf859wi3oV1G8l6JTeYkOMwXihjneBlFtMhMboeqJ 4IMN+7dMguvqEJZyiV2a/1UzHlYDaTOXpSR/QCbseXP3vy/afR2FNVyyZHzLL9JUczcF H/3okDqkOPQQWJA1DMQFh3IDUuGmD3xIMjfFFWUlY/RsgnLF1FXoDMS/hnfftlyazTcq 1yeHHiRBBa4GjErtYtATd6wgYvetiCy4hti+FiBAZIqljZpGqrwOr4+oNFA24TCTxRdM 6TyXu1lxY6ow5TbtziH2+HU4uoMzjH37WX4nR3Ynt8WOOkerjBUafK3drugWLuwKyN1/ Elkw== X-Gm-Message-State: AOJu0YxUe3jkDPOybrDUK9jfMsoXL/X1V7XVfA6yYC6vKCfwVWzsO/zV UeUzimhXgD0zhuSogs6IbUe1IsKIY77Yu1IVJ3mYl29eVn3atpXzamVTNJb4BOz11kcrNZQ7IHt yBbIHH5z72ULus6ngk1R74sxh+p9YgC+2A7ePINph2irW X-Gm-Gg: ASbGncvM1lK48n0aBf16WRq7EIP81NfzbPJiDi8NuMCHAJGmvImTQ4NCSXL9J+m91zs m/6XDmLnAaRORn6J791E5meUDdc6KyWUtt8JWCK6VE6bnhzTMyDU6L6pc5oON9fc2ypiEM2ZAWP mwypy9Oxn7mm5vQ32rXKYvERVl7wWxu27cjODiIECqYFF+q53ydtOXYxqEi3aV89/kXzSi72rRG YWEUqdULOlKA7h8yIhaKbJ6EiTouZHdiYU8dnYYANeMyCCgUuSGiPh8/Et+o2OvjyIZTQYj4KmM /RqSz96TK+FtH2NEnE9HKmDKyag6IElMzeYQRTsnn8eyyd9NxD4VJSxP4Jo= X-Google-Smtp-Source: AGHT+IEZCFrtkpxyYpmvKuYzBUy/YqKgecMNw3eRoXA59+Dc/ks4C29omVifjoXcKCDQeY0tgXfIqM849sd0 X-Received: by 2002:a05:6e02:3b89:b0:3d9:6cb6:fa52 with SMTP id e9e14a558f8ab-3db8431398fmr78782845ab.12.1747467959638; Sat, 17 May 2025 00:45:59 -0700 (PDT) Received: from postal.iol.unh.edu (postal.iol.unh.edu. [132.177.123.84]) by smtp-relay.gmail.com with ESMTPS id e9e14a558f8ab-3db8442d41fsm1446055ab.39.2025.05.17.00.45.59 (version=TLS1_2 cipher=ECDHE-ECDSA-AES128-GCM-SHA256 bits=128/128); Sat, 17 May 2025 00:45:59 -0700 (PDT) X-Relaying-Domain: iol.unh.edu Date: Sat, 17 May 2025 00:45:59 -0700 (PDT) Message-ID: <68283eb7.920a0220.e3808.82e7SMTPIN_ADDED_MISSING@mx.google.com> Received: from [172.21.0.5] (unknown [172.18.0.240]) by postal.iol.unh.edu (Postfix) with ESMTP id EFC2A6052471; Sat, 17 May 2025 03:45:58 -0400 (EDT) Subject: |SUCCESS| [GIT MASTER] 3223019e73391066cbb0d248051b163e5373034c From: dpdklab@iol.unh.edu To: Test Report Cc: dpdk-test-reports@iol.unh.edu, Chenbo Xia , Maxime Coquelin Content-Type: text/plain X-BeenThere: test-report@dpdk.org X-Mailman-Version: 2.1.29 Precedence: list List-Id: automatic DPDK test reports List-Unsubscribe: , List-Archive: List-Post: List-Help: List-Subscribe: , Errors-To: test-report-bounces@dpdk.org _Testing PASS_ Branch: dpdk-next-virtio 3223019e73391066cbb0d248051b163e5373034c --> testing pass Upstream job id: Generic-Unit-Test-DPDK#338693 Test environment and result as below: +-----------------------------+--------------+------------------------------+---------------------------+----------------+ | Environment | lpm_autotest | cryptodev_sw_snow3g_autotest | cryptodev_sw_zuc_autotest | dpdk_unit_test | +=============================+==============+==============================+===========================+================+ | Ubuntu 20.04 ARM SVE | PASS | SKIPPED | SKIPPED | SKIPPED | +-----------------------------+--------------+------------------------------+---------------------------+----------------+ | Debian 12 (arm) | SKIPPED | PASS | PASS | PASS | +-----------------------------+--------------+------------------------------+---------------------------+----------------+ | Fedora 41 (ARM) | SKIPPED | SKIPPED | SKIPPED | PASS | +-----------------------------+--------------+------------------------------+---------------------------+----------------+ | CentOS Stream 10 (ARM) | SKIPPED | SKIPPED | SKIPPED | PASS | +-----------------------------+--------------+------------------------------+---------------------------+----------------+ | Fedora 40 (ARM Clang) | SKIPPED | SKIPPED | SKIPPED | PASS | +-----------------------------+--------------+------------------------------+---------------------------+----------------+ | Fedora 41 (ARM Clang) | SKIPPED | SKIPPED | SKIPPED | PASS | +-----------------------------+--------------+------------------------------+---------------------------+----------------+ | Fedora 40 (ARM) | SKIPPED | SKIPPED | SKIPPED | PASS | +-----------------------------+--------------+------------------------------+---------------------------+----------------+ | CentOS Stream 9 (ARM) | SKIPPED | SKIPPED | SKIPPED | PASS | +-----------------------------+--------------+------------------------------+---------------------------+----------------+ | RHEL9 (ARM) | SKIPPED | SKIPPED | SKIPPED | PASS | +-----------------------------+--------------+------------------------------+---------------------------+----------------+ | Ubuntu 22.04 (ARM) | SKIPPED | SKIPPED | SKIPPED | PASS | +-----------------------------+--------------+------------------------------+---------------------------+----------------+ | Ubuntu 20.04 (ARM) | SKIPPED | SKIPPED | SKIPPED | PASS | +-----------------------------+--------------+------------------------------+---------------------------+----------------+ | Ubuntu 24.04 (ARM) | SKIPPED | SKIPPED | SKIPPED | PASS | +-----------------------------+--------------+------------------------------+---------------------------+----------------+ | 32-bit Ubuntu 22.04.4 (ARM) | SKIPPED | SKIPPED | SKIPPED | PASS | +-----------------------------+--------------+------------------------------+---------------------------+----------------+ Ubuntu 20.04 ARM SVE Kernel: Depends on container host Compiler: gcc (Ubuntu 10.5.0-1ubuntu1~20.04) 10.5.0 Debian 12 (arm) Kernel: Depends on container host Compiler: gcc (Debian 12.2.0-14) 12.2.0 Fedora 41 (ARM) Kernel: Depends on container host Compiler: gcc 14.2.1 20240912 (Red Hat 14.2.1-3) CentOS Stream 10 (ARM) Kernel: Depends on container host Compiler: gcc 14.2.1 20241104 (Red Hat 14.2.1-6) Fedora 40 (ARM Clang) Kernel: Depends on container host Compiler: clang 18.1.8 (Fedora 18.1.8-1.fc40) Fedora 41 (ARM Clang) Kernel: Depends on container host Compiler: clang 19.1.5 (Fedora 19.1.5-1.fc41) Fedora 40 (ARM) Kernel: Depends on container host Compiler: gcc 14.2.1 20240912 (Red Hat 14.2.1-3) CentOS Stream 9 (ARM) Kernel: Depends on container host Compiler: gcc 11.5.0 20240719 (Red Hat 11.5.0-2) RHEL9 (ARM) Kernel: Depends on container host Compiler: gcc 11.5.0 20240719 (Red Hat 11.5.0-2) Ubuntu 22.04 (ARM) Kernel: Depends on container host Compiler: gcc (Ubuntu 11.4.0-1ubuntu1~22.04) 11.4.0 Ubuntu 20.04 (ARM) Kernel: Depends on container host Compiler: gcc (Ubuntu 9.4.0-1ubuntu1~20.04.2) 9.4.0 Ubuntu 24.04 (ARM) Kernel: Depends on container host Compiler: gcc (Ubuntu 13.3.0-6ubuntu2~24.04) 13.3.0 32-bit Ubuntu 22.04.4 (ARM) Kernel: 5.15.83+ aarch64 Compiler: gcc (Ubuntu 11.4.0-1ubuntu1~22.04) 11.4.0 To view detailed results, visit: https://lab.dpdk.org/results/dashboard/tarballs/33566/ UNH-IOL DPDK Community Lab To manage your email subscriptions, visit: https://lab.dpdk.org/results/dashboard/preferences/subscriptions/