From mboxrd@z Thu Jan 1 00:00:00 1970 Return-Path: Received: from mails.dpdk.org (mails.dpdk.org [217.70.189.124]) by inbox.dpdk.org (Postfix) with ESMTP id BBEC44676E for ; Sat, 17 May 2025 09:47:43 +0200 (CEST) Received: from mails.dpdk.org (localhost [127.0.0.1]) by mails.dpdk.org (Postfix) with ESMTP id A9756402AF; Sat, 17 May 2025 09:47:43 +0200 (CEST) Received: from mail-pj1-f98.google.com (mail-pj1-f98.google.com [209.85.216.98]) by mails.dpdk.org (Postfix) with ESMTP id F25204025D for ; Sat, 17 May 2025 09:47:42 +0200 (CEST) Received: by mail-pj1-f98.google.com with SMTP id 98e67ed59e1d1-30e57a373c9so2708194a91.2 for ; Sat, 17 May 2025 00:47:42 -0700 (PDT) DKIM-Signature: v=1; a=rsa-sha256; c=relaxed/relaxed; d=iol.unh.edu; s=unh-iol; t=1747468062; x=1748072862; darn=dpdk.org; h=cc:to:from:subject:message-id:date:from:to:cc:subject:date :message-id:reply-to; bh=SJ7qMQPfmJ0jBSIS9aw8BhV4kF4btU6O+wMcI8VZsio=; b=cXLrfa8l2IDnuV7ntGvhzxHuXXUoWFf4aaI5jppbCpfEjhk+4uVhwyXxewnP0hM4i6 jCkhKDNCYgewdTaQyIQ1l6G1hIE6jIYQzeMm2c+gehCG7KtsNVuUTNsCKn4RlWPYe/89 j9qxAx7gXw3cMdFjJmybsTKy6Ya95Ia4/taf4= X-Google-DKIM-Signature: v=1; a=rsa-sha256; c=relaxed/relaxed; d=1e100.net; s=20230601; t=1747468062; x=1748072862; h=cc:to:from:subject:message-id:date:x-gm-message-state:from:to:cc :subject:date:message-id:reply-to; bh=SJ7qMQPfmJ0jBSIS9aw8BhV4kF4btU6O+wMcI8VZsio=; b=qshT5ttd0/GtO/8wFRu3QTvPQNl5NbvQEYp7RoXYbCCYHIzc5guLZifFCwiPJ3IQhC RXI+7jmHX7yIQ8hvuYnas6tUYl45C7Qqv1Jn89EPB56OWq5RGScBEccetLpXUtxNi2wi BI89zyFcvRDDFH81Q5AZfPIMGBkDGE4dBjs+cxt5PhouaAac+J46OU5ecvpC/oEWXi/i NvKFMIOZag+G9+KiEfWrBPa3C+db/EuEZUFhozeb4kJaKhuLkqJcoLN4D+vPv+MiiUok KfhLvC1RyT7w6gb3HaZqLyPFQNRoobXU8E+9STjUXmGQsgi9mQaCsue1P9I4hlDpZ93Z IUjg== X-Gm-Message-State: AOJu0YyeZ7xp6KrPUqtrrFWIYnpO9Q2jR41XQnlerAuJfT2Z90RhL6lR V7gFisFT3W0U0mmrh66giy96sR6lT+/aflW7fsmAEna6IojPguw3n0JmdQuzQVmGbaH2xiW1jku 51w9rU+YO9UgjLSSeX4Xb0+g/cF6lft6axI5JEeeFDmK3BCY3jWh4 X-Gm-Gg: ASbGncv8wz8P3iMcgWQUMV86PYkja65OWeJAFjMdgzeV1Y7RYmmf764XQAyC10MWbUd mHeg5tnnQtX25cWiLwZW+lkorsRfpWyn7F7hKivHTH7sH/TkwlYnXTQbbd6RqPXW4tm4m4Rbzy/ 0zfdIxRRZ6iStsl9+5SdM4xDkxZ9Tq1nP9u5Mhbee8LZMvN8bbV2jKZ+MBrgafGHWSkwZz3HbKa DtaScs7p/g6ETr/s0/X1YEkEj1Y9lnIQEX6cNTnqKBhJrAFhh6AHXjloYzZO1h6cplYQQq/mrxz 1VIxyQexMmLzYahc1tlj9LipAJOgASAvtKiM X-Google-Smtp-Source: AGHT+IF1Yjmv4ZX9QMDIeoJdvMKk9mEYJbygeC90DElLVftQGlAMrfhMT5UR4OY4TFX5n5s+M1vL4r+9rsO0 X-Received: by 2002:a17:90b:3905:b0:305:2d27:7ba5 with SMTP id 98e67ed59e1d1-30e7d4ebda4mr8310098a91.6.1747468061781; Sat, 17 May 2025 00:47:41 -0700 (PDT) Received: from postal.iol.unh.edu (postal.iol.unh.edu. [2606:4100:3880:1234::84]) by smtp-relay.gmail.com with ESMTPS id 98e67ed59e1d1-30e663fa0b8sm274695a91.14.2025.05.17.00.47.41 (version=TLS1_2 cipher=ECDHE-ECDSA-AES128-GCM-SHA256 bits=128/128); Sat, 17 May 2025 00:47:41 -0700 (PDT) X-Relaying-Domain: iol.unh.edu Date: Sat, 17 May 2025 00:47:41 -0700 (PDT) Message-ID: <68283f1d.170a0220.28efdf.fdc8SMTPIN_ADDED_MISSING@mx.google.com> Received: from [172.21.0.5] (unknown [172.18.0.240]) by postal.iol.unh.edu (Postfix) with ESMTP id EE3DD6052471; Sat, 17 May 2025 03:47:40 -0400 (EDT) Subject: |SUCCESS| [GIT MASTER] 83a7a648344674c0269fcaeb71d8d16468421a0e From: dpdklab@iol.unh.edu To: Test Report Cc: dpdk-test-reports@iol.unh.edu, Xueming Li , Christian Ehrhardt , Kevin Traynor , Luca Boccassi Content-Type: text/plain X-BeenThere: test-report@dpdk.org X-Mailman-Version: 2.1.29 Precedence: list List-Id: automatic DPDK test reports List-Unsubscribe: , List-Archive: List-Post: List-Help: List-Subscribe: , Errors-To: test-report-bounces@dpdk.org _Testing PASS_ Branch: tags/v23.11 83a7a648344674c0269fcaeb71d8d16468421a0e --> testing pass Upstream job id: Generic-Unit-Test-DPDK#338691 Test environment and result as below: +---------------------+----------------+ | Environment | dpdk_unit_test | +=====================+================+ | CentOS Stream 9 | PASS | +---------------------+----------------+ | Fedora 41 | PASS | +---------------------+----------------+ | Fedora 40 | PASS | +---------------------+----------------+ | Debian 12 | PASS | +---------------------+----------------+ | CentOS Stream 10 | PASS | +---------------------+----------------+ | Fedora 40 (Clang) | PASS | +---------------------+----------------+ | RHEL8 | PASS | +---------------------+----------------+ | Fedora 41 (Clang) | PASS | +---------------------+----------------+ | Ubuntu 24.04 | PASS | +---------------------+----------------+ | Ubuntu 22.04 | PASS | +---------------------+----------------+ | Ubuntu 20.04 | PASS | +---------------------+----------------+ | RHEL9 | PASS | +---------------------+----------------+ | Windows Server 2022 | PASS | +---------------------+----------------+ CentOS Stream 9 Kernel: Depends on container host Compiler: gcc 11.5.0 20240719 (Red Hat 11.5.0-2) Fedora 41 Kernel: Depends on container host Compiler: gcc 14.2.1 20240912 (Red Hat 14.2.1-3) Fedora 40 Kernel: Depends on container host Compiler: gcc 14.2.1 20240912 (Red Hat 14.2.1-3) Debian 12 Kernel: Depends on container host Compiler: gcc (Debian 12.2.0-14) 12.2.0 CentOS Stream 10 Kernel: Depends on container host Compiler: gcc 14.2.1 20241104 (Red Hat 14.2.1-6) Fedora 40 (Clang) Kernel: Depends on container host Compiler: clang 18.1.8 (Fedora 18.1.8-1.fc40) RHEL8 Kernel: Depends on container host Compiler: gcc 8.5.0 20210514 (Red Hat 8.5.0-22) Fedora 41 (Clang) Kernel: Depends on container host Compiler: clang 19.1.5 (Fedora 19.1.5-1.fc41) Ubuntu 24.04 Kernel: Depends on container host Compiler: gcc (Ubuntu 13.3.0-6ubuntu2~24.04) 13.3.0 Ubuntu 22.04 Kernel: Depends on container host Compiler: gcc (Ubuntu 11.4.0-1ubuntu1~22.04) 11.4.0 Ubuntu 20.04 Kernel: Depends on container host Compiler: gcc (Ubuntu 9.4.0-1ubuntu1~20.04.2) 9.4.0 RHEL9 Kernel: Depends on container host Compiler: gcc 11.5.0 20240719 (Red Hat 11.5.0-2) Windows Server 2022 Kernel: 10.0.20348.2031 Compiler: clang 15.0.7, gcc 14.1.0 (MinGW), and MSVC VS 19.39.33521 To view detailed results, visit: https://lab.dpdk.org/results/dashboard/tarballs/33564/ UNH-IOL DPDK Community Lab To manage your email subscriptions, visit: https://lab.dpdk.org/results/dashboard/preferences/subscriptions/