From mboxrd@z Thu Jan 1 00:00:00 1970 Return-Path: Received: from mails.dpdk.org (mails.dpdk.org [217.70.189.124]) by inbox.dpdk.org (Postfix) with ESMTP id A11B846770 for ; Sat, 17 May 2025 10:01:55 +0200 (CEST) Received: from mails.dpdk.org (localhost [127.0.0.1]) by mails.dpdk.org (Postfix) with ESMTP id 7012F402AF; Sat, 17 May 2025 10:01:55 +0200 (CEST) Received: from mail-il1-f225.google.com (mail-il1-f225.google.com [209.85.166.225]) by mails.dpdk.org (Postfix) with ESMTP id E10DC4025D for ; Sat, 17 May 2025 10:01:53 +0200 (CEST) Received: by mail-il1-f225.google.com with SMTP id e9e14a558f8ab-3da831c17faso8658195ab.3 for ; Sat, 17 May 2025 01:01:53 -0700 (PDT) DKIM-Signature: v=1; a=rsa-sha256; c=relaxed/relaxed; d=iol.unh.edu; s=unh-iol; t=1747468913; x=1748073713; darn=dpdk.org; h=cc:to:from:subject:message-id:date:from:to:cc:subject:date :message-id:reply-to; bh=fADWssCDyEqQF1i54wRBDr8nI11JOLVfqdPZz+YkWFs=; b=dVeNFOZ8D5mKNmLBY6QxRUj9MtOagpzR5gBNi9opg5L2F7hbppya4RVUoceMtnB/Cg dT39DCEiwn3MXKgsYkNkvteKOOOmCfQmg3WT4ol5o1JzAxsVAHO5CBuFDQvg+d/a4Q5g Pxjh226IxeW87+pbnPTKFGJxyBKELiigg0Cb8= X-Google-DKIM-Signature: v=1; a=rsa-sha256; c=relaxed/relaxed; d=1e100.net; s=20230601; t=1747468913; x=1748073713; h=cc:to:from:subject:message-id:date:x-gm-message-state:from:to:cc :subject:date:message-id:reply-to; bh=fADWssCDyEqQF1i54wRBDr8nI11JOLVfqdPZz+YkWFs=; b=HYGwB0WNH1zW5+HZgkvis1Tl3OEuRNEFjhbXxWMkYA62XD1dOjbrrvuVqC5MECKFN2 XkU6OcP0A6xao/UhZ49cB1sY0N8imNvFO3wjHj+0u2n2UQ9THO+NORFFMVw3x7bmd4Ej OvcD6H0qrLJRkvaMb6SvfFfR2Q4af/nF7lKmVDtOizU0yjZdN6eL/AM19jHpEFLwClFo hdBzj3F7qWDcMI/E3fL+xPGEKy8xOEkuokdr87ZTkjzgBQMe/oGkOhHzVGSECAFEPxbK 8UKfoWyvRqHUx8dvWd66uwk+OBD/Sp/Q0p3eTzrNLnsuXzqtFUH3LiFJE8oCBpCJL6Il 67GQ== X-Gm-Message-State: AOJu0YzwnfI7SsV8ZwANE7lmCjLWGprcZQ+eYCHfXpNoFdK2bfrQuNdO EUZeboj4IQkLQmLmPb3Auniz6bO38bOUMoOr2nWBe3zDM/IAurk7kOJnpfVqecDLQkiPGoum652 H0+1lF3kxXovZriFHzYky17B+LwAwGPcftsxCcwvYCiricLIavMxi X-Gm-Gg: ASbGnctBeBURl4BQidPP6tfbmN+UqQ6Oppt/SEjeazBe5UGw/rWqEs/HFKjJjuwthXx lfFsfk9wf2roA0XyWy28Ne6KWT/NhFO3TvQPO2AASObGkFKVaws804v6OoaRpd9xvOv4WNkSczm hYLg/KOyR9GxdrsHJaExEyeA3L/U3xtQINgzLvasgKKdwIwZA0JZBepjE40ef3TLqNDN94OIxFr Pur4jQ2ZPNy4zF9TLfFwuEvVG/GYFUGkL8fVEXmgaVmR147kRu4KBvIOdQCNDYmtQFLJfKBcedE B+l4Op1q2xgR5LGIKqE836XMufXw2YSvZSqP X-Google-Smtp-Source: AGHT+IHhjPGbeXrfurCH/EN6OMULWCR/o1uH+KrdHYZ1bVCwoesVv8ztVtpoQbIEqt5hQNqsii5fYPwQFMtC X-Received: by 2002:a05:6e02:1fc9:b0:3db:836f:d999 with SMTP id e9e14a558f8ab-3db843134ebmr63163895ab.10.1747468913174; Sat, 17 May 2025 01:01:53 -0700 (PDT) Received: from postal.iol.unh.edu (postal.iol.unh.edu. [2606:4100:3880:1234::84]) by smtp-relay.gmail.com with ESMTPS id 8926c6da1cb9f-4fbcc3dcaedsm170966173.38.2025.05.17.01.01.53 (version=TLS1_2 cipher=ECDHE-ECDSA-AES128-GCM-SHA256 bits=128/128); Sat, 17 May 2025 01:01:53 -0700 (PDT) X-Relaying-Domain: iol.unh.edu Date: Sat, 17 May 2025 01:01:53 -0700 (PDT) Message-ID: <68284271.050a0220.1ab52f.9557SMTPIN_ADDED_MISSING@mx.google.com> Received: from [172.21.0.7] (unknown [172.18.0.240]) by postal.iol.unh.edu (Postfix) with ESMTP id 9E7B06052471; Sat, 17 May 2025 04:01:52 -0400 (EDT) Subject: |SUCCESS| [GIT MASTER] 4401486b5e30d43a134f80f9802f60b5f43e74a8 From: dpdklab@iol.unh.edu To: Test Report Cc: dpdk-test-reports@iol.unh.edu, Xueming Li , Christian Ehrhardt , Kevin Traynor , Luca Boccassi Content-Type: text/plain X-BeenThere: test-report@dpdk.org X-Mailman-Version: 2.1.29 Precedence: list List-Id: automatic DPDK test reports List-Unsubscribe: , List-Archive: List-Post: List-Help: List-Subscribe: , Errors-To: test-report-bounces@dpdk.org _Testing PASS_ Branch: tags/v22.11 4401486b5e30d43a134f80f9802f60b5f43e74a8 --> testing pass Upstream job id: Generic-DPDK-Compile-Meson#388944 Test environment and result as below: +------------------------------------+--------------------+ | Environment | dpdk_meson_compile | +====================================+====================+ | RHEL9 (ARM) | PASS | +------------------------------------+--------------------+ | Ubuntu 20.04 (ARM) | PASS | +------------------------------------+--------------------+ | Fedora 40 (ARM) | PASS | +------------------------------------+--------------------+ | Ubuntu 20.04 ARM SVE | PASS | +------------------------------------+--------------------+ | Fedora 40 (ARM Clang) | PASS | +------------------------------------+--------------------+ | Ubuntu 24.04 (ARM) | PASS | +------------------------------------+--------------------+ | Ubuntu 22.04 (ARM) | PASS | +------------------------------------+--------------------+ | Ubuntu 20.04 ARM GCC Cross Compile | PASS | +------------------------------------+--------------------+ | Fedora 41 (ARM Clang) | PASS | +------------------------------------+--------------------+ | CentOS Stream 10 (ARM) | PASS | +------------------------------------+--------------------+ | CentOS Stream 9 (ARM) | PASS | +------------------------------------+--------------------+ | Debian 12 with MUSDK | PASS | +------------------------------------+--------------------+ | Fedora 41 (ARM) | PASS | +------------------------------------+--------------------+ | Debian 12 (arm) | PASS | +------------------------------------+--------------------+ RHEL9 (ARM) Kernel: Depends on container host Compiler: gcc 11.5.0 20240719 (Red Hat 11.5.0-2) Ubuntu 20.04 (ARM) Kernel: Depends on container host Compiler: gcc (Ubuntu 9.4.0-1ubuntu1~20.04.2) 9.4.0 Fedora 40 (ARM) Kernel: Depends on container host Compiler: gcc 14.2.1 20240912 (Red Hat 14.2.1-3) Ubuntu 20.04 ARM SVE Kernel: Depends on container host Compiler: gcc (Ubuntu 10.5.0-1ubuntu1~20.04) 10.5.0 Fedora 40 (ARM Clang) Kernel: Depends on container host Compiler: clang 18.1.8 (Fedora 18.1.8-1.fc40) Ubuntu 24.04 (ARM) Kernel: Depends on container host Compiler: gcc (Ubuntu 13.3.0-6ubuntu2~24.04) 13.3.0 Ubuntu 22.04 (ARM) Kernel: Depends on container host Compiler: gcc (Ubuntu 11.4.0-1ubuntu1~22.04) 11.4.0 Ubuntu 20.04 ARM GCC Cross Compile Kernel: Depends on container host Compiler: aarch64-linux-gnu-gcc (Ubuntu 9.4.0-1ubuntu1~20.04.2) 9.4.0 Fedora 41 (ARM Clang) Kernel: Depends on container host Compiler: clang 19.1.5 (Fedora 19.1.5-1.fc41) CentOS Stream 10 (ARM) Kernel: Depends on container host Compiler: gcc 14.2.1 20241104 (Red Hat 14.2.1-6) CentOS Stream 9 (ARM) Kernel: Depends on container host Compiler: gcc 11.5.0 20240719 (Red Hat 11.5.0-2) Debian 12 with MUSDK Kernel: Depends on container host Compiler: gcc (Debian 12.2.0-14) 12.2.0 Fedora 41 (ARM) Kernel: Depends on container host Compiler: gcc 14.2.1 20240912 (Red Hat 14.2.1-3) Debian 12 (arm) Kernel: Depends on container host Compiler: gcc (Debian 12.2.0-14) 12.2.0 To view detailed results, visit: https://lab.dpdk.org/results/dashboard/tarballs/33565/ UNH-IOL DPDK Community Lab To manage your email subscriptions, visit: https://lab.dpdk.org/results/dashboard/preferences/subscriptions/