From mboxrd@z Thu Jan 1 00:00:00 1970 Return-Path: Received: from mails.dpdk.org (mails.dpdk.org [217.70.189.124]) by inbox.dpdk.org (Postfix) with ESMTP id 935B846770 for ; Sat, 17 May 2025 10:02:18 +0200 (CEST) Received: from mails.dpdk.org (localhost [127.0.0.1]) by mails.dpdk.org (Postfix) with ESMTP id 854A9402AF; Sat, 17 May 2025 10:02:18 +0200 (CEST) Received: from mail-io1-f97.google.com (mail-io1-f97.google.com [209.85.166.97]) by mails.dpdk.org (Postfix) with ESMTP id 809364025D for ; Sat, 17 May 2025 10:02:17 +0200 (CEST) Received: by mail-io1-f97.google.com with SMTP id ca18e2360f4ac-86142446f3fso73166539f.2 for ; Sat, 17 May 2025 01:02:17 -0700 (PDT) DKIM-Signature: v=1; a=rsa-sha256; c=relaxed/relaxed; d=iol.unh.edu; s=unh-iol; t=1747468937; x=1748073737; darn=dpdk.org; h=cc:to:from:subject:message-id:date:from:to:cc:subject:date :message-id:reply-to; bh=fgdhtjgRLzQtrnd6nUejbvkx1M8DsLHS5PcE8kIgOyo=; b=VIAhBXfmqVXKY0jlWCttj6tCeYFbbtUemmIsil7wGrUZcJeCw0lMzbmHRawVd1WMVM cOMor78ZSiGiwarz674MYdGGH67M9pPHbBkxDfWDDxcTth+iXvdfJCMJuIQfKdvnVLJ4 htRvbsH3Y9ZPJaXsQwpBTgbQtCGgKmJByAIPU= X-Google-DKIM-Signature: v=1; a=rsa-sha256; c=relaxed/relaxed; d=1e100.net; s=20230601; t=1747468937; x=1748073737; h=cc:to:from:subject:message-id:date:x-gm-message-state:from:to:cc :subject:date:message-id:reply-to; bh=fgdhtjgRLzQtrnd6nUejbvkx1M8DsLHS5PcE8kIgOyo=; b=RUImydlmMsLxKTIN7rjGLAsSmjOF9ID0AQB+2WJf5dzcbU8gb2KGmL2s9utKzNKB/d detQ58+lcwFtbBvJwFY0O2Y8v4yVFB/PjAXlq1Vb2ZsPizfgRc+nPuBuf3InkmtkO7zQ hEjIGYbuZPzcblJmOJFqC7VvrVbte44JzglfTTWY/4lK3Ox6JhgI9XkLhYl6WAUMGPFQ ky34qru20x0ookgZXGrSpEaVNXoroGATOHKorJJzIc7FQLedjj2u+xCo+pZRAjKZiVaK Rln+CFfoRifzT/upl8A5DAKpZVwcxUN8hPdEGSC2JmFje8ctNnCN3RUkhAd7OR0xVnjF LxMQ== X-Gm-Message-State: AOJu0YwW27s0hMPaUgwryyS014Z6x+v9KLTm0pDrmuFK0hLSM4WMTCL3 8O2S+MIg8WhQHNwUAx7QVvNp1suXZEgfjPvJbebf9cc/qvQR1AT1px/T/1Jeti1V5G4u6aMmthC DQsx1NgA0XSd9KM6Htl4nCb5BinCXg5Yd7NOC X-Gm-Gg: ASbGncvH61xR5200emagJNa8bccOkD9SA2+IHGyO/Le902kd5m5OP6IK7DGcLgD85FU HrveQhE4fgQLi2dvZJz6PZIMq+tA66x6pdQ0prmWrzePSEsJo81LUE/pV9b1QrIHj+4orawoILK kH7aFUQ91cMzDwNZB9uhzLdoiT6YAcERvQOR1JsBOdERlG7UapAncvCnI8GVd+PqpLs7H2pRGXx ubPbCY++FOMJVsPoiwFxPH5EHoNq1as9h5skXsZX+OJf6/HWvCa4MRHAduBzt0FarQsP+gkUETc WonKXDx4YTrKTujSC+qpAZefID105TYsrPOpsolLxA5caajywnubrZACmi4= X-Google-Smtp-Source: AGHT+IFDwzJwx2QFxtms4WYmBOagLFiqTeXdDGe/YbtiYHrnHS7g9i2q50b29TF+KRf07NK7IJo1yEj6i8Yp X-Received: by 2002:a05:6602:3799:b0:85b:4afc:11d1 with SMTP id ca18e2360f4ac-86a2319bccdmr899395139f.5.1747468936858; Sat, 17 May 2025 01:02:16 -0700 (PDT) Received: from postal.iol.unh.edu (postal.iol.unh.edu. [132.177.123.84]) by smtp-relay.gmail.com with ESMTPS id ca18e2360f4ac-86a237642e0sm16456539f.24.2025.05.17.01.02.16 (version=TLS1_2 cipher=ECDHE-ECDSA-AES128-GCM-SHA256 bits=128/128); Sat, 17 May 2025 01:02:16 -0700 (PDT) X-Relaying-Domain: iol.unh.edu Date: Sat, 17 May 2025 01:02:16 -0700 (PDT) Message-ID: <68284288.050a0220.ee8f1.9bb1SMTPIN_ADDED_MISSING@mx.google.com> Received: from [172.21.0.6] (unknown [172.18.0.240]) by postal.iol.unh.edu (Postfix) with ESMTP id 5F8A66052471; Sat, 17 May 2025 04:02:16 -0400 (EDT) Subject: |SUCCESS| [GIT MASTER] 4401486b5e30d43a134f80f9802f60b5f43e74a8 From: dpdklab@iol.unh.edu To: Test Report Cc: dpdk-test-reports@iol.unh.edu, Xueming Li , Christian Ehrhardt , Kevin Traynor , Luca Boccassi Content-Type: text/plain X-BeenThere: test-report@dpdk.org X-Mailman-Version: 2.1.29 Precedence: list List-Id: automatic DPDK test reports List-Unsubscribe: , List-Archive: List-Post: List-Help: List-Subscribe: , Errors-To: test-report-bounces@dpdk.org _Testing PASS_ Branch: tags/v22.11 4401486b5e30d43a134f80f9802f60b5f43e74a8 --> testing pass Upstream job id: Generic-DPDK-Compile-Meson#388940 Test environment and result as below: +------------------------------------+--------------------+ | Environment | dpdk_meson_compile | +====================================+====================+ | RHEL9 (ARM) | PASS | +------------------------------------+--------------------+ | Ubuntu 20.04 (ARM) | PASS | +------------------------------------+--------------------+ | Fedora 40 (ARM) | PASS | +------------------------------------+--------------------+ | Ubuntu 20.04 ARM SVE | PASS | +------------------------------------+--------------------+ | Fedora 40 (ARM Clang) | PASS | +------------------------------------+--------------------+ | Ubuntu 24.04 (ARM) | PASS | +------------------------------------+--------------------+ | Ubuntu 22.04 (ARM) | PASS | +------------------------------------+--------------------+ | Ubuntu 20.04 ARM GCC Cross Compile | PASS | +------------------------------------+--------------------+ | Fedora 41 (ARM Clang) | PASS | +------------------------------------+--------------------+ | CentOS Stream 10 (ARM) | PASS | +------------------------------------+--------------------+ | CentOS Stream 9 (ARM) | PASS | +------------------------------------+--------------------+ | Debian 12 with MUSDK | PASS | +------------------------------------+--------------------+ | Fedora 41 (ARM) | PASS | +------------------------------------+--------------------+ | Debian 12 (arm) | PASS | +------------------------------------+--------------------+ RHEL9 (ARM) Kernel: Depends on container host Compiler: gcc 11.5.0 20240719 (Red Hat 11.5.0-2) Ubuntu 20.04 (ARM) Kernel: Depends on container host Compiler: gcc (Ubuntu 9.4.0-1ubuntu1~20.04.2) 9.4.0 Fedora 40 (ARM) Kernel: Depends on container host Compiler: gcc 14.2.1 20240912 (Red Hat 14.2.1-3) Ubuntu 20.04 ARM SVE Kernel: Depends on container host Compiler: gcc (Ubuntu 10.5.0-1ubuntu1~20.04) 10.5.0 Fedora 40 (ARM Clang) Kernel: Depends on container host Compiler: clang 18.1.8 (Fedora 18.1.8-1.fc40) Ubuntu 24.04 (ARM) Kernel: Depends on container host Compiler: gcc (Ubuntu 13.3.0-6ubuntu2~24.04) 13.3.0 Ubuntu 22.04 (ARM) Kernel: Depends on container host Compiler: gcc (Ubuntu 11.4.0-1ubuntu1~22.04) 11.4.0 Ubuntu 20.04 ARM GCC Cross Compile Kernel: Depends on container host Compiler: aarch64-linux-gnu-gcc (Ubuntu 9.4.0-1ubuntu1~20.04.2) 9.4.0 Fedora 41 (ARM Clang) Kernel: Depends on container host Compiler: clang 19.1.5 (Fedora 19.1.5-1.fc41) CentOS Stream 10 (ARM) Kernel: Depends on container host Compiler: gcc 14.2.1 20241104 (Red Hat 14.2.1-6) CentOS Stream 9 (ARM) Kernel: Depends on container host Compiler: gcc 11.5.0 20240719 (Red Hat 11.5.0-2) Debian 12 with MUSDK Kernel: Depends on container host Compiler: gcc (Debian 12.2.0-14) 12.2.0 Fedora 41 (ARM) Kernel: Depends on container host Compiler: gcc 14.2.1 20240912 (Red Hat 14.2.1-3) Debian 12 (arm) Kernel: Depends on container host Compiler: gcc (Debian 12.2.0-14) 12.2.0 To view detailed results, visit: https://lab.dpdk.org/results/dashboard/tarballs/33565/ UNH-IOL DPDK Community Lab To manage your email subscriptions, visit: https://lab.dpdk.org/results/dashboard/preferences/subscriptions/