From mboxrd@z Thu Jan 1 00:00:00 1970 Return-Path: Received: from mails.dpdk.org (mails.dpdk.org [217.70.189.124]) by inbox.dpdk.org (Postfix) with ESMTP id 3CCB746770 for ; Sat, 17 May 2025 10:08:45 +0200 (CEST) Received: from mails.dpdk.org (localhost [127.0.0.1]) by mails.dpdk.org (Postfix) with ESMTP id 36E93402AF; Sat, 17 May 2025 10:08:45 +0200 (CEST) Received: from mail-il1-f225.google.com (mail-il1-f225.google.com [209.85.166.225]) by mails.dpdk.org (Postfix) with ESMTP id 15B354025D for ; Sat, 17 May 2025 10:08:43 +0200 (CEST) Received: by mail-il1-f225.google.com with SMTP id e9e14a558f8ab-3d6d6d82633so8411135ab.0 for ; Sat, 17 May 2025 01:08:43 -0700 (PDT) DKIM-Signature: v=1; a=rsa-sha256; c=relaxed/relaxed; d=iol.unh.edu; s=unh-iol; t=1747469322; x=1748074122; darn=dpdk.org; h=cc:to:from:subject:message-id:date:from:to:cc:subject:date :message-id:reply-to; bh=SO9yJJQ7P8uEKW9wcKtUMO4yYrl8Ppyzi/2i+E+fsNQ=; b=L3uWhHK73AOrKG9ni6o0VSf1yxnAcDMl3bm5sPizUms05GF2kVCt9J4mGQEnRWHT2o XEug2RcUdxj4CwewbgWFNeKjfeilIejHqAegtkREbbS8cbZi3e+aOLLi4XjORIMCNTD4 S+BvpntBbwouUB1CGJzg2EZn8hl4gRIYd6T2E= X-Google-DKIM-Signature: v=1; a=rsa-sha256; c=relaxed/relaxed; d=1e100.net; s=20230601; t=1747469322; x=1748074122; h=cc:to:from:subject:message-id:date:x-gm-message-state:from:to:cc :subject:date:message-id:reply-to; bh=SO9yJJQ7P8uEKW9wcKtUMO4yYrl8Ppyzi/2i+E+fsNQ=; b=cp2+whDLoRUaReIvrJXp1uWNiq1wU3sQX2/+SEY0VwbtIZhTEmabj+1jPENFz59Jpl P9BV4T7AvgrC22Zf8kkpRH2AfXMOtTGREF72KpdnB8dEUfMcrWcRUGMhZ1VdVBTES4HI BV8wOcDpr+0oumcob3NzvtYGfImN/bvMz4qbXMNodcTFknKx9rhc8lXLt//743vElhG+ GJeJRe4h4tHhgVocRltfYoFyZJsUA2RtWok8ckEm9uvxGWntyB5RXpPYnlwCEH73G2Uz vT+GXblzFDvWQ9xnlhAs3orydNiwTsC87p1x5GbH2hONWDTE2T3bVxpW8w3omZn0tqGr 1eHA== X-Gm-Message-State: AOJu0YxUym3l2amNYLz6UQ2eko5zyQ/mPsrSweULzEIVzd3pY2P+U66E xeXSAAvV8YRy1xHIlAZsEQbr+j4A9z75yTuOc3gq9uh8HjvbGcY3pBKHhv1F5qBixt9jfplSetu wUNgSYtRPuKEZiNQ7VmRlM/puUchSfcAwQ0lHXKn9hqhcPJPNbvhyInE9LdTs X-Gm-Gg: ASbGncvSnKUz6qxHY1UrqA92vXdzdfzB2SbR3OA1Fgo8WWe5i7e1wrfc5YwUFw6Q75a 11V422Xq0wjNq3F8eX08hNmQTKwD8hCLnRQsJ93yvHtBOdBrjD2ZnddKw5lwYtsk9g8Iv2XLOyn ApAo3Zx4mdMbxJI2OrpuynohcFbxjfwvQ8PKPSRB1bvjFUyP5+izQ2lk1IPtH1I1+A3WhEAK1o4 NhTo+A+e5QfI4vKMoy0HxQ65B4r5fq912EBrj6F1S/tV/1C6M8c5k7ERTjl6GtONJLZCUWTGY6u l6M0rFahIykJ64FFoxt/pg5CSHqG8u/PiXJk X-Google-Smtp-Source: AGHT+IGzWke1QXytKCRY8YzbAKV2rto66SWVQqGRC1kKcH1YLi7OlOZrObJP7DcLMnK+Wdo3wu0/4hqAmHCZ X-Received: by 2002:a05:6e02:d:b0:3d8:2085:a16e with SMTP id e9e14a558f8ab-3db842e8970mr75606295ab.1.1747469322306; Sat, 17 May 2025 01:08:42 -0700 (PDT) Received: from postal.iol.unh.edu (postal.iol.unh.edu. [2606:4100:3880:1234::84]) by smtp-relay.gmail.com with ESMTPS id e9e14a558f8ab-3db85845532sm1179185ab.10.2025.05.17.01.08.42 (version=TLS1_2 cipher=ECDHE-ECDSA-AES128-GCM-SHA256 bits=128/128); Sat, 17 May 2025 01:08:42 -0700 (PDT) X-Relaying-Domain: iol.unh.edu Date: Sat, 17 May 2025 01:08:42 -0700 (PDT) Message-ID: <6828440a.050a0220.248a4a.75caSMTPIN_ADDED_MISSING@mx.google.com> Received: from [172.17.0.4] (unknown [172.18.0.74]) by postal.iol.unh.edu (Postfix) with ESMTP id A08106052471; Sat, 17 May 2025 04:08:41 -0400 (EDT) Subject: |SUCCESS| [GIT MASTER] 3223019e73391066cbb0d248051b163e5373034c From: dpdklab@iol.unh.edu To: Test Report Cc: dpdk-test-reports@iol.unh.edu, Chenbo Xia , Maxime Coquelin Content-Type: text/plain X-BeenThere: test-report@dpdk.org X-Mailman-Version: 2.1.29 Precedence: list List-Id: automatic DPDK test reports List-Unsubscribe: , List-Archive: List-Post: List-Help: List-Subscribe: , Errors-To: test-report-bounces@dpdk.org _Testing PASS_ Branch: dpdk-next-virtio 3223019e73391066cbb0d248051b163e5373034c --> testing pass Upstream job id: Generic-Unit-Test-DPDK#338698 Test environment and result as below: +---------------------+----------------+ | Environment | dpdk_unit_test | +=====================+================+ | Fedora 40 (Clang) | PASS | +---------------------+----------------+ | RHEL8 | PASS | +---------------------+----------------+ | Fedora 41 (Clang) | PASS | +---------------------+----------------+ | Fedora 41 | PASS | +---------------------+----------------+ | CentOS Stream 10 | PASS | +---------------------+----------------+ | Fedora 40 | PASS | +---------------------+----------------+ | Debian 12 | PASS | +---------------------+----------------+ | CentOS Stream 9 | PASS | +---------------------+----------------+ | Ubuntu 20.04 | PASS | +---------------------+----------------+ | RHEL9 | PASS | +---------------------+----------------+ | Ubuntu 22.04 | PASS | +---------------------+----------------+ | Ubuntu 24.04 | PASS | +---------------------+----------------+ | Windows Server 2022 | PASS | +---------------------+----------------+ Fedora 40 (Clang) Kernel: Depends on container host Compiler: clang 18.1.8 (Fedora 18.1.8-1.fc40) RHEL8 Kernel: Depends on container host Compiler: gcc 8.5.0 20210514 (Red Hat 8.5.0-22) Fedora 41 (Clang) Kernel: Depends on container host Compiler: clang 19.1.5 (Fedora 19.1.5-1.fc41) Fedora 41 Kernel: Depends on container host Compiler: gcc 14.2.1 20240912 (Red Hat 14.2.1-3) CentOS Stream 10 Kernel: Depends on container host Compiler: gcc 14.2.1 20241104 (Red Hat 14.2.1-6) Fedora 40 Kernel: Depends on container host Compiler: gcc 14.2.1 20240912 (Red Hat 14.2.1-3) Debian 12 Kernel: Depends on container host Compiler: gcc (Debian 12.2.0-14) 12.2.0 CentOS Stream 9 Kernel: Depends on container host Compiler: gcc 11.5.0 20240719 (Red Hat 11.5.0-2) Ubuntu 20.04 Kernel: Depends on container host Compiler: gcc (Ubuntu 9.4.0-1ubuntu1~20.04.2) 9.4.0 RHEL9 Kernel: Depends on container host Compiler: gcc 11.5.0 20240719 (Red Hat 11.5.0-2) Ubuntu 22.04 Kernel: Depends on container host Compiler: gcc (Ubuntu 11.4.0-1ubuntu1~22.04) 11.4.0 Ubuntu 24.04 Kernel: Depends on container host Compiler: gcc (Ubuntu 13.3.0-6ubuntu2~24.04) 13.3.0 Windows Server 2022 Kernel: 10.0.20348.2031 Compiler: clang 15.0.7, gcc 14.1.0 (MinGW), and MSVC VS 19.39.33521 To view detailed results, visit: https://lab.dpdk.org/results/dashboard/tarballs/33566/ UNH-IOL DPDK Community Lab To manage your email subscriptions, visit: https://lab.dpdk.org/results/dashboard/preferences/subscriptions/