From mboxrd@z Thu Jan 1 00:00:00 1970 Return-Path: Received: from mails.dpdk.org (mails.dpdk.org [217.70.189.124]) by inbox.dpdk.org (Postfix) with ESMTP id F30EE46770 for ; Sat, 17 May 2025 10:28:04 +0200 (CEST) Received: from mails.dpdk.org (localhost [127.0.0.1]) by mails.dpdk.org (Postfix) with ESMTP id EEDF4402E0; Sat, 17 May 2025 10:28:04 +0200 (CEST) Received: from mail-pj1-f99.google.com (mail-pj1-f99.google.com [209.85.216.99]) by mails.dpdk.org (Postfix) with ESMTP id 5A457402DF for ; Sat, 17 May 2025 10:28:04 +0200 (CEST) Received: by mail-pj1-f99.google.com with SMTP id 98e67ed59e1d1-30e93977f7cso1064192a91.3 for ; Sat, 17 May 2025 01:28:04 -0700 (PDT) DKIM-Signature: v=1; a=rsa-sha256; c=relaxed/relaxed; d=iol.unh.edu; s=unh-iol; t=1747470483; x=1748075283; darn=dpdk.org; h=cc:to:from:subject:message-id:date:from:to:cc:subject:date :message-id:reply-to; bh=JzZMSdWBq4hHnyd/3XsXLA6gmBT07BvRXPYG9JWXB+g=; b=hH8BxoKhf9Vp2PB8vOKyxuz1/Nl6ncGmeLLztbe6e3l+W4NHVA31/EgAwvgPrCnpQh Yuovc8LFqA9u5GBg5PfXnxuURwi3rEtHrULDAqowTgCTdGN+qUX7FNwL/PYQuAZKoF/p ffsgUgrDIRIB4moynWkOmf7q2b0umhp6pYds0= X-Google-DKIM-Signature: v=1; a=rsa-sha256; c=relaxed/relaxed; d=1e100.net; s=20230601; t=1747470483; x=1748075283; h=cc:to:from:subject:message-id:date:x-gm-message-state:from:to:cc :subject:date:message-id:reply-to; bh=JzZMSdWBq4hHnyd/3XsXLA6gmBT07BvRXPYG9JWXB+g=; b=BL+50tvPwcNuYLJIMkaEToXT0s3yHYy9jZp8L1luLhDmqRimhWuURjlGumKYxshGWr xj6DGy/oLQMynMvw0f5t7DbQOc9XnLyhIOVMrCdoEiv4s6GGnc9+Qg6cmhxGMS1ALoIB u+hk08xn8mEMDbt6GKCrHkov6T4RuO7vD8Vjno/2+54YDHfXVxS6Qu/w4UYkzx9VsQR5 LzYjz8NgHDZg1AIS/YpwuPoBqb/3XSpvTV5gEaEvCH1hWzsVx1rvO73Gro1sF23WgPGf qOyrRKA1q9YBvgpiIx0iAgxXuEAUdc1o+uHX+0ZX6A1xFApMjCA/NDsNIgPD+WVDwgPi ZABg== X-Gm-Message-State: AOJu0YxhL78usDnqUbDWpC6o4s25fnci8FN+Yylywx8HYPi1RjQ6u1m9 Zm/DOAZhTJ9EsIlZ8y4nBhG2bpJKL9GbtTv8j52dsKGJXl7TARB5cPup0dXpzzWjPMDslAN6gLa NyvWWwR8Dqwqgiuu0qhuLPPSAksymJgVliQ/wA1kodeek6VskFIO/dUYrUJcj X-Gm-Gg: ASbGncs03sSwqn/0296HW/N92STj1FYALc02zG8d2WFOMqSwiSYi23AVguVaKdMaFTf xy66zB5P7Mv1OeHdWEZQOczPXbJjMYn1eRqPYZJguOE3lerwNVx/QIgugrPA1eHvhpsFvt6tv66 UNsk6f9507085kd+XI9II0v0SHIdTLp9Ws2h5xhMoMLT6G3xRyiu0frW8AUYRMg448LfhHf5dHv OxvxBT3N3bqYb1jwjm0BPLZ17e2EUB2r71P2JeuT8INsdJdCKRFN9vFAeljjloP06iMBUjveHik qfa45hVT1zS+uySS0sJ+crbcfCmdNBelnxX1 X-Google-Smtp-Source: AGHT+IFuAP/MJ8bGXqt0AQejj5deSqqBE/dlTMntGinCyAe5WspP+GloG0HwambZI1mMDVDJ5ZhVzhzIxNWO X-Received: by 2002:a17:902:e946:b0:22e:3e0e:5945 with SMTP id d9443c01a7336-231d4562130mr78408065ad.50.1747470483417; Sat, 17 May 2025 01:28:03 -0700 (PDT) Received: from postal.iol.unh.edu (postal.iol.unh.edu. [2606:4100:3880:1234::84]) by smtp-relay.gmail.com with ESMTPS id d9443c01a7336-231d4aa746csm1958115ad.15.2025.05.17.01.28.03 (version=TLS1_2 cipher=ECDHE-ECDSA-AES128-GCM-SHA256 bits=128/128); Sat, 17 May 2025 01:28:03 -0700 (PDT) X-Relaying-Domain: iol.unh.edu Date: Sat, 17 May 2025 01:28:03 -0700 (PDT) Message-ID: <68284893.170a0220.4390c.b7edSMTPIN_ADDED_MISSING@mx.google.com> Received: from [172.17.0.2] (unknown [172.18.0.76]) by postal.iol.unh.edu (Postfix) with ESMTP id 73EF06052471; Sat, 17 May 2025 04:28:02 -0400 (EDT) Subject: |SUCCESS| [GIT MASTER] 3223019e73391066cbb0d248051b163e5373034c From: dpdklab@iol.unh.edu To: Test Report Cc: dpdk-test-reports@iol.unh.edu, Chenbo Xia , Maxime Coquelin Content-Type: text/plain X-BeenThere: test-report@dpdk.org X-Mailman-Version: 2.1.29 Precedence: list List-Id: automatic DPDK test reports List-Unsubscribe: , List-Archive: List-Post: List-Help: List-Subscribe: , Errors-To: test-report-bounces@dpdk.org _Testing PASS_ Branch: dpdk-next-virtio 3223019e73391066cbb0d248051b163e5373034c --> testing pass Upstream job id: Generic-DPDK-Compile-Meson#388986 Test environment and result as below: +-----------------------------------+--------------------+-------------------+-------------------+------------------+-------------------------+----------------------+ | Environment | dpdk_meson_compile | dpdk_msvc_compile | dpdk_compile_spdk | dpdk_compile_ovs | dpdk_llvm_clang_compile | dpdk_mingw64_compile | +===================================+====================+===================+===================+==================+=========================+======================+ | Ubuntu 20.04 | PASS | SKIPPED | SKIPPED | SKIPPED | SKIPPED | SKIPPED | +-----------------------------------+--------------------+-------------------+-------------------+------------------+-------------------------+----------------------+ | FreeBSD 13.5 | PASS | SKIPPED | SKIPPED | SKIPPED | SKIPPED | SKIPPED | +-----------------------------------+--------------------+-------------------+-------------------+------------------+-------------------------+----------------------+ | FreeBSD 14.2 | PASS | SKIPPED | SKIPPED | SKIPPED | SKIPPED | SKIPPED | +-----------------------------------+--------------------+-------------------+-------------------+------------------+-------------------------+----------------------+ | CentOS Stream 9 | PASS | SKIPPED | PASS | SKIPPED | SKIPPED | SKIPPED | +-----------------------------------+--------------------+-------------------+-------------------+------------------+-------------------------+----------------------+ | CentOS Stream 10 | PASS | SKIPPED | SKIPPED | SKIPPED | SKIPPED | SKIPPED | +-----------------------------------+--------------------+-------------------+-------------------+------------------+-------------------------+----------------------+ | Debian 12 | PASS | SKIPPED | PASS | SKIPPED | SKIPPED | SKIPPED | +-----------------------------------+--------------------+-------------------+-------------------+------------------+-------------------------+----------------------+ | Fedora 40 (Clang) | PASS | SKIPPED | PASS | SKIPPED | SKIPPED | SKIPPED | +-----------------------------------+--------------------+-------------------+-------------------+------------------+-------------------------+----------------------+ | Fedora 40 | PASS | SKIPPED | PASS | SKIPPED | SKIPPED | SKIPPED | +-----------------------------------+--------------------+-------------------+-------------------+------------------+-------------------------+----------------------+ | Fedora 41 (Clang) | PASS | SKIPPED | PASS | PASS | SKIPPED | SKIPPED | +-----------------------------------+--------------------+-------------------+-------------------+------------------+-------------------------+----------------------+ | Fedora 41 | PASS | SKIPPED | PASS | PASS | SKIPPED | SKIPPED | +-----------------------------------+--------------------+-------------------+-------------------+------------------+-------------------------+----------------------+ | openSUSE Leap 15 | PASS | SKIPPED | SKIPPED | SKIPPED | SKIPPED | SKIPPED | +-----------------------------------+--------------------+-------------------+-------------------+------------------+-------------------------+----------------------+ | RHEL8 | PASS | SKIPPED | SKIPPED | SKIPPED | SKIPPED | SKIPPED | +-----------------------------------+--------------------+-------------------+-------------------+------------------+-------------------------+----------------------+ | RHEL9 | PASS | SKIPPED | SKIPPED | SKIPPED | SKIPPED | SKIPPED | +-----------------------------------+--------------------+-------------------+-------------------+------------------+-------------------------+----------------------+ | Ubuntu 22.04 | PASS | SKIPPED | PASS | SKIPPED | SKIPPED | SKIPPED | +-----------------------------------+--------------------+-------------------+-------------------+------------------+-------------------------+----------------------+ | Ubuntu 24.04 | PASS | SKIPPED | PASS | PASS | SKIPPED | SKIPPED | +-----------------------------------+--------------------+-------------------+-------------------+------------------+-------------------------+----------------------+ | Alpine | PASS | SKIPPED | SKIPPED | SKIPPED | SKIPPED | SKIPPED | +-----------------------------------+--------------------+-------------------+-------------------+------------------+-------------------------+----------------------+ | Ubuntu 24.04 32 Bit Cross Compile | PASS | SKIPPED | SKIPPED | SKIPPED | SKIPPED | SKIPPED | +-----------------------------------+--------------------+-------------------+-------------------+------------------+-------------------------+----------------------+ | Windows Server 2022 | SKIPPED | PASS | SKIPPED | SKIPPED | PASS | PASS | +-----------------------------------+--------------------+-------------------+-------------------+------------------+-------------------------+----------------------+ Ubuntu 20.04 Kernel: 4.19.325-0419325-generic Compiler: gcc (Ubuntu 9.4.0-1ubuntu1~20.04.2) 9.4.0 FreeBSD 13.5 Kernel: 13.5-RELEASE Compiler: clang 19.1.7 FreeBSD 14.2 Kernel: 14.2-RELEASE Compiler: clang 18.1.6 CentOS Stream 9 Kernel: Depends on container host Compiler: gcc 11.5.0 20240719 (Red Hat 11.5.0-2) CentOS Stream 10 Kernel: Depends on container host Compiler: gcc 14.2.1 20241104 (Red Hat 14.2.1-6) Debian 12 Kernel: Depends on container host Compiler: gcc (Debian 12.2.0-14) 12.2.0 Fedora 40 (Clang) Kernel: Depends on container host Compiler: clang 18.1.8 (Fedora 18.1.8-1.fc40) Fedora 40 Kernel: Depends on container host Compiler: gcc 14.2.1 20240912 (Red Hat 14.2.1-3) Fedora 41 (Clang) Kernel: Depends on container host Compiler: clang 19.1.5 (Fedora 19.1.5-1.fc41) Fedora 41 Kernel: Depends on container host Compiler: gcc 14.2.1 20240912 (Red Hat 14.2.1-3) openSUSE Leap 15 Kernel: Depends on container host Compiler: gcc (SUSE Linux) 7.5.0 RHEL8 Kernel: Depends on container host Compiler: gcc 8.5.0 20210514 (Red Hat 8.5.0-22) RHEL9 Kernel: Depends on container host Compiler: gcc 11.5.0 20240719 (Red Hat 11.5.0-2) Ubuntu 22.04 Kernel: Depends on container host Compiler: gcc (Ubuntu 11.4.0-1ubuntu1~22.04) 11.4.0 Ubuntu 24.04 Kernel: Depends on container host Compiler: gcc (Ubuntu 13.3.0-6ubuntu2~24.04) 13.3.0 Alpine Kernel: Depends on container host Compiler: gcc (Alpine 14.2.0) 14.2.0 Ubuntu 24.04 32 Bit Cross Compile Kernel: Depends on container host Compiler: gcc (Ubuntu 13.3.0-6ubuntu2~24.04) 13.3.0 Windows Server 2022 Kernel: 10.0.20348.2031 Compiler: clang 15.0.7, gcc 14.1.0 (MinGW), and MSVC VS 19.39.33521 To view detailed results, visit: https://lab.dpdk.org/results/dashboard/tarballs/33566/ UNH-IOL DPDK Community Lab To manage your email subscriptions, visit: https://lab.dpdk.org/results/dashboard/preferences/subscriptions/