From mboxrd@z Thu Jan 1 00:00:00 1970 Return-Path: Received: from mails.dpdk.org (mails.dpdk.org [217.70.189.124]) by inbox.dpdk.org (Postfix) with ESMTP id 3574B46770 for ; Sat, 17 May 2025 10:39:36 +0200 (CEST) Received: from mails.dpdk.org (localhost [127.0.0.1]) by mails.dpdk.org (Postfix) with ESMTP id 2FEBC402E0; Sat, 17 May 2025 10:39:36 +0200 (CEST) Received: from mail-yw1-f226.google.com (mail-yw1-f226.google.com [209.85.128.226]) by mails.dpdk.org (Postfix) with ESMTP id 47C8E402DF for ; Sat, 17 May 2025 10:39:35 +0200 (CEST) Received: by mail-yw1-f226.google.com with SMTP id 00721157ae682-70a57a8ffc3so28639887b3.0 for ; Sat, 17 May 2025 01:39:35 -0700 (PDT) DKIM-Signature: v=1; a=rsa-sha256; c=relaxed/relaxed; d=iol.unh.edu; s=unh-iol; t=1747471174; x=1748075974; darn=dpdk.org; h=cc:to:from:subject:message-id:date:from:to:cc:subject:date :message-id:reply-to; bh=78h0guiIeTuICefcyhh2ewmv3/50iau9Ul5z37V+3P4=; b=BVnZ25yNnTZlBb3Z/efiJhb5kI7XEVKdIE03HIo8pttmiHmp8edsWUfOJQhUo5mLog az6AdTkDtGfS8ncvKqq/hg6tH6ALk3vJXtCk63PFFYOxDxsWqjf5t5G9hyWNeZlgTDhk u9V/MSTqKNr7tSwZgfK/AwkabhmVCTYGJYarI= X-Google-DKIM-Signature: v=1; a=rsa-sha256; c=relaxed/relaxed; d=1e100.net; s=20230601; t=1747471174; x=1748075974; h=cc:to:from:subject:message-id:date:x-gm-message-state:from:to:cc :subject:date:message-id:reply-to; bh=78h0guiIeTuICefcyhh2ewmv3/50iau9Ul5z37V+3P4=; b=V6bpCJxdduC1AKxJv83mgkcYefYrSUyaIwT3vr6oja8gqwkCcQgUeCA6EUbPCoWXgc z4jBDc2d7hYZuINkDNLhYKvntLp1ev9TyZ2np1QnWyz0pZydNW176GwMrb+aZDeJo7pg m3H6YkS0hM23JHTC1BtmJYElNRdLchog0VGYF53hnb/qKopv5tqdERbqsTj5Xc4i/dI2 W3NflXz/AlOtEwFRSSttRTrmjHy2LAYFDJJEetY4vrNkkJul2p2LoExMyOI9Cl5OlB6M apZA6TUnPTXZTszkHgDp4APdXpOB1I4tgjoPHVDf/Vp3sNHAlczzqxEs990uD1jticW0 QaJQ== X-Gm-Message-State: AOJu0YzZHAt/vKZXkMOPMf2QoWjx+Zy24gw565Co0quTfWKu/FcbfBmd e00m7AKrvxQHFnP8RRoa9mfTo/Pj5ipS+eoOGaXRkVzjv20UgMKNipzEGo34UUcFvpVNpeLFe+z 7cJlet5uhp+I9xnHonEqKRZ4cz1B98x5qWCzWe2FzATsD08Gryokd X-Gm-Gg: ASbGncsMOR4n+F9T01VnrzVbd3jWJxQH/qHhUvyZ0RmEFynIepS5+PCAN72Ls8+p1V1 hFKZtyydWtvJ+OeYAoFOLHHp4a1fDRCuOAfOIdOTJoWYRYFoh+mJ2k839ulsEJOq42g4lp88DYE z3Yeq0XWh56H4Nk/4DpirMT3Li/DV+DBFmuwxnRJgcJBK0TqEUYg2zUNNP9snx77US+VOhuDS5W /eWwcFOD4Mn6XWVn+/1YPeuJdjbTl2Ya1yrcbAnlXI3bMGgdO3xK7pa+semUPHVck34VNVMEFNn 09KREPoSd0RXSpNGF9gIoASQSD+XSfoJIvEM X-Google-Smtp-Source: AGHT+IE6S/PaoAx5HomeIGR2Q374q0e9qEgimQ9pXaYMWw70TNTJENXl0AgilGVywSrTdoGquzUFe0uSUPSR X-Received: by 2002:a05:690c:3390:b0:70a:192d:122 with SMTP id 00721157ae682-70cab0c30eamr73295307b3.30.1747471174635; Sat, 17 May 2025 01:39:34 -0700 (PDT) Received: from postal.iol.unh.edu (postal.iol.unh.edu. [2606:4100:3880:1234::84]) by smtp-relay.gmail.com with ESMTPS id 00721157ae682-70ca83261easm946557b3.26.2025.05.17.01.39.34 (version=TLS1_2 cipher=ECDHE-ECDSA-AES128-GCM-SHA256 bits=128/128); Sat, 17 May 2025 01:39:34 -0700 (PDT) X-Relaying-Domain: iol.unh.edu Date: Sat, 17 May 2025 01:39:34 -0700 (PDT) Message-ID: <68284b46.050a0220.1cba10.53d9SMTPIN_ADDED_MISSING@mx.google.com> Received: from [172.17.0.2] (unknown [172.18.0.76]) by postal.iol.unh.edu (Postfix) with ESMTP id 46CDE6052471; Sat, 17 May 2025 04:39:34 -0400 (EDT) Subject: |SUCCESS| [GIT MASTER] 83a7a648344674c0269fcaeb71d8d16468421a0e From: dpdklab@iol.unh.edu To: Test Report Cc: dpdk-test-reports@iol.unh.edu, Xueming Li , Christian Ehrhardt , Kevin Traynor , Luca Boccassi Content-Type: text/plain X-BeenThere: test-report@dpdk.org X-Mailman-Version: 2.1.29 Precedence: list List-Id: automatic DPDK test reports List-Unsubscribe: , List-Archive: List-Post: List-Help: List-Subscribe: , Errors-To: test-report-bounces@dpdk.org _Testing PASS_ Branch: tags/v23.11 83a7a648344674c0269fcaeb71d8d16468421a0e --> testing pass Upstream job id: Generic-DPDK-Compile-Meson#388974 Test environment and result as below: +------------------------------------+--------------------+ | Environment | dpdk_meson_compile | +====================================+====================+ | Ubuntu 20.04 ARM GCC Cross Compile | PASS | +------------------------------------+--------------------+ | RHEL9 (ARM) | PASS | +------------------------------------+--------------------+ | Ubuntu 20.04 ARM SVE | PASS | +------------------------------------+--------------------+ | Ubuntu 20.04 (ARM) | PASS | +------------------------------------+--------------------+ | Fedora 41 (ARM Clang) | PASS | +------------------------------------+--------------------+ | Fedora 40 (ARM Clang) | PASS | +------------------------------------+--------------------+ | Fedora 41 (ARM) | PASS | +------------------------------------+--------------------+ | Fedora 40 (ARM) | PASS | +------------------------------------+--------------------+ | Debian 12 with MUSDK | PASS | +------------------------------------+--------------------+ | CentOS Stream 9 (ARM) | PASS | +------------------------------------+--------------------+ | Debian 12 (arm) | PASS | +------------------------------------+--------------------+ | Ubuntu 24.04 (ARM) | PASS | +------------------------------------+--------------------+ | CentOS Stream 10 (ARM) | PASS | +------------------------------------+--------------------+ | Ubuntu 22.04 (ARM) | PASS | +------------------------------------+--------------------+ Ubuntu 20.04 ARM GCC Cross Compile Kernel: Depends on container host Compiler: aarch64-linux-gnu-gcc (Ubuntu 9.4.0-1ubuntu1~20.04.2) 9.4.0 RHEL9 (ARM) Kernel: Depends on container host Compiler: gcc 11.5.0 20240719 (Red Hat 11.5.0-2) Ubuntu 20.04 ARM SVE Kernel: Depends on container host Compiler: gcc (Ubuntu 10.5.0-1ubuntu1~20.04) 10.5.0 Ubuntu 20.04 (ARM) Kernel: Depends on container host Compiler: gcc (Ubuntu 9.4.0-1ubuntu1~20.04.2) 9.4.0 Fedora 41 (ARM Clang) Kernel: Depends on container host Compiler: clang 19.1.5 (Fedora 19.1.5-1.fc41) Fedora 40 (ARM Clang) Kernel: Depends on container host Compiler: clang 18.1.8 (Fedora 18.1.8-1.fc40) Fedora 41 (ARM) Kernel: Depends on container host Compiler: gcc 14.2.1 20240912 (Red Hat 14.2.1-3) Fedora 40 (ARM) Kernel: Depends on container host Compiler: gcc 14.2.1 20240912 (Red Hat 14.2.1-3) Debian 12 with MUSDK Kernel: Depends on container host Compiler: gcc (Debian 12.2.0-14) 12.2.0 CentOS Stream 9 (ARM) Kernel: Depends on container host Compiler: gcc 11.5.0 20240719 (Red Hat 11.5.0-2) Debian 12 (arm) Kernel: Depends on container host Compiler: gcc (Debian 12.2.0-14) 12.2.0 Ubuntu 24.04 (ARM) Kernel: Depends on container host Compiler: gcc (Ubuntu 13.3.0-6ubuntu2~24.04) 13.3.0 CentOS Stream 10 (ARM) Kernel: Depends on container host Compiler: gcc 14.2.1 20241104 (Red Hat 14.2.1-6) Ubuntu 22.04 (ARM) Kernel: Depends on container host Compiler: gcc (Ubuntu 11.4.0-1ubuntu1~22.04) 11.4.0 To view detailed results, visit: https://lab.dpdk.org/results/dashboard/tarballs/33564/ UNH-IOL DPDK Community Lab To manage your email subscriptions, visit: https://lab.dpdk.org/results/dashboard/preferences/subscriptions/