From mboxrd@z Thu Jan 1 00:00:00 1970 Return-Path: Received: from mails.dpdk.org (mails.dpdk.org [217.70.189.124]) by inbox.dpdk.org (Postfix) with ESMTP id 9FB0646770 for ; Sat, 17 May 2025 10:42:36 +0200 (CEST) Received: from mails.dpdk.org (localhost [127.0.0.1]) by mails.dpdk.org (Postfix) with ESMTP id 89A24402E0; Sat, 17 May 2025 10:42:36 +0200 (CEST) Received: from mail-il1-f228.google.com (mail-il1-f228.google.com [209.85.166.228]) by mails.dpdk.org (Postfix) with ESMTP id 578AB402DF for ; Sat, 17 May 2025 10:42:35 +0200 (CEST) Received: by mail-il1-f228.google.com with SMTP id e9e14a558f8ab-3d91db4f0c3so13025065ab.3 for ; Sat, 17 May 2025 01:42:35 -0700 (PDT) DKIM-Signature: v=1; a=rsa-sha256; c=relaxed/relaxed; d=iol.unh.edu; s=unh-iol; t=1747471354; x=1748076154; darn=dpdk.org; h=cc:to:from:subject:message-id:date:from:to:cc:subject:date :message-id:reply-to; bh=RlThAEtGLS7mleGYy8rbp3xRHX0Ida2uGiKkHaVZ2Xg=; b=D6c1usDAC9wnnXCFEcDQp4+cK6LM3SRlaBMj63tEmtgeX+rXft7luc3b217+/2qIsP ZSr8F/vc0PMGEvod0gQll/tpLkG9z6F/mPGYjkkuSXYize8YNndWI+hmw8Gbf95RPx0F w+QNAHeEb5cnxkehJSYRJYnkXb4pBHlXHF5j4= X-Google-DKIM-Signature: v=1; a=rsa-sha256; c=relaxed/relaxed; d=1e100.net; s=20230601; t=1747471354; x=1748076154; h=cc:to:from:subject:message-id:date:x-gm-message-state:from:to:cc :subject:date:message-id:reply-to; bh=RlThAEtGLS7mleGYy8rbp3xRHX0Ida2uGiKkHaVZ2Xg=; b=Ja5XTJRGlDg3Uv30f8wY+CJpShejSKdG+4Dq3rerMD9xmXV6KzTJapxk6FGHcoWSPR y5ccbwddZXSmKLKmqy8bnQ5yxn4Ndlem72yiCPm5dDw8vEa87whhTC2Ubr0pwZPOMQos Of8nT96WbYK2tVN4G86N75vBDuEabWtF2/cFwtZS6iTAuP3NeKk0PMeHuNxs8P6F1t5n A6U/6iATYBMQfgHaix4i2kuTQhnB5XoS3ysP2oJeC0DpcCItO4Aczlwbbm6HMEwhTDQg ElOkcXrUEzSSou3uHbVuKn7QlKHDRE8pRJHDtxexwdYMMCw6P6zocfsC8s6bD27/6EIU E4ZQ== X-Gm-Message-State: AOJu0YxFDBIhVjw4u5Wy5jWwYd63K3IiJ4DSh386WRTyXDwmX8QN2V8+ i66KmNIYOTm6IymRshCGXag+JqlHX1mWyYHUiPx9nXUFPTBzrXecaTHRdKzhRRWnQZQaB+I2RWI 7Z9W17sIGtPsBxo81tmggOctR3Iy3B2TiUO63 X-Gm-Gg: ASbGnctM7URh0ebDa8DhRwhOctsLGHyCaQtCzkS8Zetka0J4xqwkuRYgx12iF97NLUw +WO9VsyabEfaB6RLZa99eUwYhYnKqQEgrV9QW8EdxvLJIquSQO39iAln4ybtrLbNiuSHtISA5Vo kP7DokVsKOOP4qQh9fBiND+bXPtNRXGKPfeJ6J14Pn1/H+lFZBMZijNsCYefAETw33gIj2AY0bE 7hVvTrPBc7asJVWAF4+g8urTpsxxNVEMKu17l1PVcH8bvSrCxd7YOA9pPG5/LGQAuDKVJ/O8bvH nl5KtJ8RGYcamjDZMosxxGSgiHePaJjLhCrTR2BCu68ZunCVV3fSS0zDTBg= X-Google-Smtp-Source: AGHT+IG4bEVsWpiRb04uG+FH1yQl0e+WtAUSxWMkk7Wr0sMRpu0hok/RraxTfKePlkgF5rEZhtIaKo2edZpV X-Received: by 2002:a05:6602:274b:b0:85b:476e:ede2 with SMTP id ca18e2360f4ac-86a24cc8825mr814141339f.13.1747471354578; Sat, 17 May 2025 01:42:34 -0700 (PDT) Received: from postal.iol.unh.edu (postal.iol.unh.edu. [132.177.123.84]) by smtp-relay.gmail.com with ESMTPS id ca18e2360f4ac-86a237c8568sm16694939f.31.2025.05.17.01.42.34 (version=TLS1_2 cipher=ECDHE-ECDSA-AES128-GCM-SHA256 bits=128/128); Sat, 17 May 2025 01:42:34 -0700 (PDT) X-Relaying-Domain: iol.unh.edu Date: Sat, 17 May 2025 01:42:34 -0700 (PDT) Message-ID: <68284bfa.050a0220.12489.8e8cSMTPIN_ADDED_MISSING@mx.google.com> Received: from [172.17.0.3] (unknown [172.18.0.74]) by postal.iol.unh.edu (Postfix) with ESMTP id 0D84E6052471; Sat, 17 May 2025 04:42:34 -0400 (EDT) Subject: |SUCCESS| [GIT MASTER] 4c5634de9f933555bab9c64a533d3dca999071cd From: dpdklab@iol.unh.edu To: Test Report Cc: dpdk-test-reports@iol.unh.edu, Xueming Li , Christian Ehrhardt , Kevin Traynor , Luca Boccassi Content-Type: text/plain X-BeenThere: test-report@dpdk.org X-Mailman-Version: 2.1.29 Precedence: list List-Id: automatic DPDK test reports List-Unsubscribe: , List-Archive: List-Post: List-Help: List-Subscribe: , Errors-To: test-report-bounces@dpdk.org _Testing PASS_ Branch: tags/v24.11 4c5634de9f933555bab9c64a533d3dca999071cd --> testing pass Upstream job id: Generic-DPDK-Compile-Meson#388913 Test environment and result as below: +------------------------------------+--------------------+ | Environment | dpdk_meson_compile | +====================================+====================+ | RHEL9 (ARM) | PASS | +------------------------------------+--------------------+ | Fedora 40 (ARM Clang) | PASS | +------------------------------------+--------------------+ | Ubuntu 20.04 ARM SVE | PASS | +------------------------------------+--------------------+ | Fedora 41 (ARM) | PASS | +------------------------------------+--------------------+ | Ubuntu 22.04 (ARM) | PASS | +------------------------------------+--------------------+ | Fedora 41 (ARM Clang) | PASS | +------------------------------------+--------------------+ | Ubuntu 24.04 (ARM) | PASS | +------------------------------------+--------------------+ | Debian 12 with MUSDK | PASS | +------------------------------------+--------------------+ | Fedora 40 (ARM) | PASS | +------------------------------------+--------------------+ | CentOS Stream 9 (ARM) | PASS | +------------------------------------+--------------------+ | CentOS Stream 10 (ARM) | PASS | +------------------------------------+--------------------+ | Ubuntu 20.04 (ARM) | PASS | +------------------------------------+--------------------+ | Debian 12 (arm) | PASS | +------------------------------------+--------------------+ | Ubuntu 20.04 ARM GCC Cross Compile | PASS | +------------------------------------+--------------------+ RHEL9 (ARM) Kernel: Depends on container host Compiler: gcc 11.5.0 20240719 (Red Hat 11.5.0-2) Fedora 40 (ARM Clang) Kernel: Depends on container host Compiler: clang 18.1.8 (Fedora 18.1.8-1.fc40) Ubuntu 20.04 ARM SVE Kernel: Depends on container host Compiler: gcc (Ubuntu 10.5.0-1ubuntu1~20.04) 10.5.0 Fedora 41 (ARM) Kernel: Depends on container host Compiler: gcc 14.2.1 20240912 (Red Hat 14.2.1-3) Ubuntu 22.04 (ARM) Kernel: Depends on container host Compiler: gcc (Ubuntu 11.4.0-1ubuntu1~22.04) 11.4.0 Fedora 41 (ARM Clang) Kernel: Depends on container host Compiler: clang 19.1.5 (Fedora 19.1.5-1.fc41) Ubuntu 24.04 (ARM) Kernel: Depends on container host Compiler: gcc (Ubuntu 13.3.0-6ubuntu2~24.04) 13.3.0 Debian 12 with MUSDK Kernel: Depends on container host Compiler: gcc (Debian 12.2.0-14) 12.2.0 Fedora 40 (ARM) Kernel: Depends on container host Compiler: gcc 14.2.1 20240912 (Red Hat 14.2.1-3) CentOS Stream 9 (ARM) Kernel: Depends on container host Compiler: gcc 11.5.0 20240719 (Red Hat 11.5.0-2) CentOS Stream 10 (ARM) Kernel: Depends on container host Compiler: gcc 14.2.1 20241104 (Red Hat 14.2.1-6) Ubuntu 20.04 (ARM) Kernel: Depends on container host Compiler: gcc (Ubuntu 9.4.0-1ubuntu1~20.04.2) 9.4.0 Debian 12 (arm) Kernel: Depends on container host Compiler: gcc (Debian 12.2.0-14) 12.2.0 Ubuntu 20.04 ARM GCC Cross Compile Kernel: Depends on container host Compiler: aarch64-linux-gnu-gcc (Ubuntu 9.4.0-1ubuntu1~20.04.2) 9.4.0 To view detailed results, visit: https://lab.dpdk.org/results/dashboard/tarballs/33563/ UNH-IOL DPDK Community Lab To manage your email subscriptions, visit: https://lab.dpdk.org/results/dashboard/preferences/subscriptions/